Workbook

Sheet Telemetry Data
A1: V | B1: Data
A2: _index | B2: beacon_0_66
A3: _type | B3: _doc
A4: _id | B4: 61fb5ad3-a613-56dd-bd5e-049a493f9dd0
A5: _score | B5: 1
A6: _source | B6: {}
A7: +X MAG X | B7: 0.61187215
A8: +X MAG Y | B8: -0.36073059
A9: +X MAG Z | B9: -0.17808219
A10: +X Photodiode | B10: 0.018310547
A11: +X external temperature | B11: -22.958302
A12: +X internal temperature | B12: -23.875045
A13: +Y MAG X | B13: 0.38812785
A14: +Y MAG Y | B14: 0.091324201
A15: +Y MAG Z | B15: -0.49315068
A16: +Y Photodiode | B16: 0.012207031
A17: +Y external temperature | B17: -31.772116
A18: +Y internal temperature | B18: -31.826354
... A36: 5V Input Current | B36: 0.019
A37: @timestamp | B37: 2021-02-03T09:24:06Z
A38: ADCS Enable Status | B38: 1
A39: ADCS1 IOE MODE | B39: 192
A40: ADCS1 IOE STATE | B40: 0
A41: Battery Bus Current | B41: 0.584
A42: Battery Bus Voltage | B42: 8.1686
A43: Battery Current | B43: 0.054
A44: Battery Temperature | B44: -4.0803657
A45: Battery Voltage | B45: 8.1774
A46: Channel 1 board temperature | B46: -4.0803657
A47: Channel 1 module temperature | B47: -3.4815633
A48: Channel 1 output current | B48: 0.454
A49: Channel 1 output voltage | B49: 8.5602
... A123: curNumRunnableTasks | B123: 1
A124: data_checksum_passed | B124: TRUE
A125: flag | B125: 3
A126: freeMem | B126: 56972
A127: header_checksum_passed | B127: TRUE
A128: lastProcessPID | B128: 10363
A129: pid | B129: 0
A130: raw_+X MAG X | B130: 134
...

Sheet IO
A1: RNG | B1: RAT | C1: REL | D1: CTRL | E1: CHE | F1: Category (Subsystem) | G1: Parameters | H1: Shortened Name | I1: Data | J1: Data Type | K1: Units | O1: Designed In-House vs. Sourced from Data Sheet | P1: Datasheet Filename (where applicable) | Q1: Description | R1: Pattern | S1: Is there a specification? | T1: Additional Notes | U1: Unique Data Values | V1: Amount | W1: Specification Types | Y1: Parameter Count | Z1: Pattern Types | AA1: Total Count | AB1: Automation Level | AD1: Amount
A2: - | B2: - | F2: GND | G2: _index | I2: beacon_0_66 | J2: IDENTIFICATION | K2: N/A | O2: In-House | S2: NO (12/7/2021 MJ) | U2: VOLTAGE | V2: =COUNTIF(J2:J135,U2) -> 20 | W2: RNG: Range | X2: X | Y2: =COUNTIF(A2:A238,X2) -> 123 | Z2: RNG | AA2: =COUNTIF(RNG!B2:B238,Z2)+COUNTIF(RAT!B2:B238,Z2)+COUNTIF(REL!B2:B236,Z2)+COUNTIF(CTRL!B2:B238,Z2)+COUNTIF(CHE!B2:B238,Z2) -> 149 | AB2: 1: Automatically Extracted | AC2: 1 | AD2: =COUNTIF(RNG!K2:K238,AC2)+COUNTIF(RAT!K2:K238,AC2)+COUNTIF(REL!K2:K236,AC2)+COUNTIF(CTRL!K2:K238,AC2)+COUNTIF(CHE!K2:K238,AC2) -> 180
A3: - | B3: - | F3: GND | G3: _type | I3: _doc | J3: IDENTIFICATION | K3: N/A | O3: In-House | S3: NO (12/7/2021 MJ) | U3: CURRENT | V3: =COUNTIF(J2:J135,U3) -> 20 | W3: RAT: Rate | X3: X | Y3: =COUNTIF(B2:B238,X3) -> 112 | Z3: RAT | AA3: =COUNTIF(RNG!B2:B239,Z3)+COUNTIF(RAT!B2:B239,Z3)+COUNTIF(REL!B2:B237,Z3)+COUNTIF(CTRL!B2:B239,Z3)+COUNTIF(CHE!B2:B239,Z3) -> 112 | AB3: 2: Minimal Interaction | AC3: 2 | AD3: =COUNTIF(RNG!K2:K238,AC3)+COUNTIF(RAT!K2:K238,AC3)+COUNTIF(REL!K2:K236,AC3)+COUNTIF(CTRL!K2:K238,AC3)+COUNTIF(CHE!K2:K238,AC3) -> 25
A4: - | B4: - | F4: GND | G4: _id | I4: 61fb5ad3-a613-56dd-bd5e-049a493f9dd0 | J4: IDENTIFICATION | K4: N/A | O4: In-House | S4: NO (12/7/2021 MJ) | U4: TEMPERATURE | V4: =COUNTIF(J2:J135,U4) -> 25 | W4: REL: Relationship | X4: X | Y4: =COUNTIF(C2:C238,X4) -> 12 | Z4: REL | AA4: =COUNTIF(RNG!B2:B240,Z4)+COUNTIF(RAT!B2:B240,Z4)+COUNTIF(REL!B2:B238,Z4)+COUNTIF(CTRL!B2:B240,Z4)+COUNTIF(CHE!B2:B240,Z4) -> 4 | AB4: 3: Fully Manual | AC4: 3 | AD4: =COUNTIF(RNG!K2:K238,AC4)+COUNTIF(RAT!K2:K238,AC4)+COUNTIF(REL!K2:K236,AC4)+COUNTIF(CTRL!K2:K238,AC4)+COUNTIF(CHE!K2:K238,AC4) -> 60
A5: - | B5: - | F5: GND | G5: _score | I5: 1 | J5: MODE | K5: N/A | O5: In-House | S5: NO (12/7/2021 MJ) | U5: TIME | V5: =COUNTIF(J2:J135,U5) -> 2 | W5: CTRL: Control Sequence | X5: X | Y5: =COUNTIF(D2:D238,X5) -> 0 | Z5: CTRL | AA5: =COUNTIF(RNG!B2:B241,Z5)+COUNTIF(RAT!B2:B241,Z5)+COUNTIF(REL!B2:B239,Z5)+COUNTIF(CTRL!B2:B241,Z5)+COUNTIF(CHE!B2:B241,Z5) -> 0 | AB5: Total | AD5: =SUM(AD2:AD4) -> 265
A6: - | B6: - | F6: N/A | G6: _source | I6: {} | J6: OTHER | K6: N/A | O6: In-House | S6: NO (12/7/2021 MJ) | U6: COUNT | V6: =COUNTIF(J2:J135,U6) -> 9 | W6: CHE: Consistency Check | X6: X | Y6: =COUNTIF(E2:E238,X6) -> 0 | Z6: CHE | AA6: =COUNTIF(RNG!B2:B242,Z6)+COUNTIF(RAT!B2:B242,Z6)+COUNTIF(REL!B2:B240,Z6)+COUNTIF(CTRL!B2:B242,Z6)+COUNTIF(CHE!B2:B242,Z6) -> 0
A7: X | B7: X | F7: SOLAR | G7: +X MAG X | I7: 0.61187215 | J7: MAGNETOMETER | K7: Gauss | O7: Manufactured | P7: HMC5883L.pdf | Q7: The 3-axis (X/Y/Z) reading of the magnetometer placed on the +X facing panel of GRIFEX. | R7: OSC | S7: YES (12/7/2021 MJ) RNG, RAT | T7: The data appears to be variable with extraneous data points and displays data from 1920 | U7: MEMORY | V7: =COUNTIF(J2:J135,U7) -> 7 | W7: Total | Y7: =SUM(Y2:Y6) -> 247 | AA7: =SUM(AA2:AA6) -> 265
A8: X | B8: X | F8: SOLAR | G8: +X MAG Y | I8: -0.36073059 | J8: MAGNETOMETER | K8: Gauss | O8: Manufactured | P8: HMC5883L.pdf | Q8: ∴ | R8: OSC | S8: YES (12/7/2021 MJ) RNG, RAT | T8: The data appears to be variable with extraneous data points and displays data from 1920 | U8: FLAGS | V8: =COUNTIF(J2:J135,U8) -> 4
A9: X | B9: X | F9: SOLAR | G9: +X MAG Z | I9: -0.17808219 | J9: MAGNETOMETER | K9: Gauss | O9: Manufactured | P9: HMC5883L.pdf | Q9: ∴ | R9: OSC | S9: YES (12/7/2021 MJ) RNG, RAT | T9: The data appears to be variable with extraneous data points and displays data from 1920 | U9: MODE | V9: =COUNTIF(J2:J135,U9) -> 5
A10: X | B10: X | F10: SOLAR | G10: +X Photodiode | I10: 0.018310547 | J10: PHOTODIODE | K10: V | O10: Manufactured | P10: SFH 2430_EN.pdf | Q10: Photodiodes creates a current corresponding to the power of the light impinging on them from the Sun. They’re used to calculate a vector that points from a body-fixed coordinate frame to the Sun, which is important for calculating attitude. They are placed on each solar panel to always have some of them facing the Sun. This one is on the +X solar panel. | S10: YES (12/7/2021 MJ) RNG, RAT | U10: IDENTIFICATION | V10: =COUNTIF(J2:J135,U10) -> 3
A11: X | B11: X | F11: SOLAR | G11: +X external temperature | I11: -22.958302 | J11: TEMPERATURE | K11: °C | O11: Manufactured | P11: 497-5970-1-ND.pdf | Q11: The temperatures near the +X solar panel. Since there are multiple temperature sensors placed on both the inward (internal) and outward (external)-facing sides of each solar panel, we have the “axes” indicating the axis of the solar panel on which the temperature sensor is placed. | R11: OSC | S11: YES (12/7/2021 MJ) RNG, RAT | T11: STMicroelectronics STLM20W87F - jwc | U11: OTHER | V11: =COUNTIF(J2:J135,U11) -> 15
A12: X | B12: X | F12: SOLAR | G12: +X internal temperature | I12: -23.875045 | J12: TEMPERATURE | K12: °C | O12: Manufactured | P12: 497-5970-1-ND.pdf | Q12: ∴ | S12: YES (12/7/2021 MJ) RNG, RAT | T12: STMicroelectronics STLM20W87F - jwc | U12: MAGNETOMETER | V12: =COUNTIF(J2:J135,U12) -> 12
A13: X | B13: X | F13: SOLAR | G13: +Y MAG X | I13: 0.38812785 | J13: MAGNETOMETER | K13: Gauss | O13: Manufactured | P13: HMC5883L.pdf | Q13: The 3-axis (X/Y/Z) reading of the magnetometer placed on the +Y facing panel of GRIFEX. | R13: OSC | S13: YES (12/7/2021 MJ) RNG, RAT | U13: STATUS | V13: =COUNTIF(J2:J135,U13) -> 7
A14: X | B14: X | F14: SOLAR | G14: +Y MAG Y | I14: 0.091324201 | J14: MAGNETOMETER | K14: Gauss | O14: Manufactured | P14: HMC5883L.pdf | Q14: ∴ | S14: YES (12/7/2021 MJ) RNG, RAT | U14: PHOTODIODE | V14: =COUNTIF(J2:J135,U14) -> 4
A15: X | B15: X | F15: SOLAR | G15: +Y MAG Z | I15: -0.49315068 | J15: MAGNETOMETER | K15: Gauss | O15: Manufactured | P15: HMC5883L.pdf | Q15: ∴ | S15: YES (12/7/2021 MJ) RNG, RAT | U15: TOTAL | V15: =SUM(V2:V14) -> 133
A16: X | B16: X | F16: SOLAR | G16: +Y Photodiode | I16: 0.012207031 | J16: PHOTODIODE | K16: V | O16: Manufactured | P16: SFH 2430_EN.pdf | Q16: Photodiode on +Y solar panel. | R16: OSC | S16: YES (12/7/2021 MJ) RNG, RAT
A17: X | B17: X | F17: SOLAR | G17: +Y external temperature | I17: -31.772116 | J17: TEMPERATURE | K17: °C | O17: Manufactured | P17: 497-5970-1-ND.pdf | Q17: Internal/External Temperatures near +Y solar panel. | S17: YES (12/7/2021 MJ) RNG, RAT | T17: STMicroelectronics STLM20W87F - jwc
A18: X | B18: X | F18: SOLAR | G18: +Y internal temperature | I18: -31.826354 | J18: TEMPERATURE | K18: °C | O18: Manufactured | P18: 497-5970-1-ND.pdf | Q18: ∴ | R18: OSC | S18: YES (12/7/2021 MJ) RNG, RAT | T18: STMicroelectronics STLM20W87F - jwc
A19: X | B19: X | F19: SOLAR | G19: -X MAG X | I19: 1.0365297 | J19: MAGNETOMETER | K19: Gauss | O19: Manufactured | P19: HMC5883L.pdf | Q19: The 3-axis (X/Y/Z) reading of the magnetometer placed on the -X facing panel of GRIFEX. | R19: OSC | S19: YES (12/7/2021 MJ) RNG, RAT
A20: X | B20: X | F20: SOLAR | G20: -X MAG Y | I20: -0.02739726 | J20: MAGNETOMETER | K20: Gauss | O20: Manufactured | P20: HMC5883L.pdf | Q20: ∴ | R20: OSC | S20: YES (12/7/2021 MJ) RNG, RAT
A21: X | B21: X | F21: SOLAR | G21: -X MAG Z | I21: 1.0639269 | J21: MAGNETOMETER | K21: Gauss | O21: Manufactured | P21: HMC5883L.pdf | Q21: ∴ | R21: OSC | S21: YES (12/7/2021 MJ) RNG, RAT
A22: X | B22: X | F22: SOLAR | G22: -X Photodiode | I22: 1.027832 | J22: PHOTODIODE | K22: V | O22: Manufactured | P22: SFH 2430_EN.pdf | Q22: Photodiode on -X solar panel. | R22: OSC | S22: YES (12/7/2021 MJ) RNG, RAT
A23: X | B23: X | F23: SOLAR | G23: -X external temperature | I23: 10.670811 | J23: TEMPERATURE | K23: °C | O23: Manufactured | P23: 497-5970-1-ND.pdf | Q23: Internal/External Temperatures near -X solar panel. | R23: OSC | S23: YES (12/7/2021 MJ) RNG, RAT | T23: STMicroelectronics STLM20W87F - jwc
A24: X | B24: X | F24: SOLAR | G24: -X internal temperature | I24: 8.8781188 | J24: TEMPERATURE | K24: °C | O24: Manufactured | P24: 497-5970-1-ND.pdf | Q24: ∴ | R24: OSC | S24: YES (12/7/2021 MJ) RNG, RAT | T24: STMicroelectronics STLM20W87F - jwc
A25: X | B25: X | F25: SOLAR | G25: -Y MAG X | I25: 0.84018265 | J25: MAGNETOMETER | K25: Gauss | O25: Manufactured | P25: HMC5883L.pdf | Q25: The 3-axis (X/Y/Z) reading of the magnetometer placed on the -Y facing panel of GRIFEX. | R25: OSC | S25: YES (12/7/2021 MJ) RNG, RAT
A26: X | B26: X | F26: SOLAR | G26: -Y MAG Y | I26: 0.077625571 | J26: MAGNETOMETER | K26: Gauss | O26: Manufactured | P26: HMC5883L.pdf | Q26: ∴ | R26: OSC | S26: YES (12/7/2021 MJ) RNG, RAT
A27: X | B27: X | F27: SOLAR | G27: -Y MAG Z | I27: 0.16894977 | J27: MAGNETOMETER | K27: Gauss | O27: Manufactured | P27: HMC5883L.pdf | Q27: ∴ | R27: OSC | S27: YES (12/7/2021 MJ) RNG, RAT
A28: X | B28: X | F28: SOLAR | G28: -Y Photodiode | I28: 1.0028076 | J28: PHOTODIODE | K28: V | O28: Manufactured | P28: SFH 2430_EN.pdf | Q28: Photodiode on -Y solar panel. | R28: OSC | S28: YES (12/7/2021 MJ) RNG, RAT
A29: X | B29: X | F29: SOLAR | G29: -Y external temperature | I29: 41.856389 | J29: TEMPERATURE | K29: °C | O29: Manufactured | P29: 497-5970-1-ND.pdf | Q29: Internal/External Temperatures near -Y solar panel. | R29: OSC | S29: YES (12/7/2021 MJ) RNG, RAT | T29: STMicroelectronics STLM20W87F - jwc
A30: X | B30: X | F30: SOLAR | G30: -Y internal temperature | I30: 39.686966 | J30: TEMPERATURE | K30: °C | O30: Manufactured | P30: 497-5970-1-ND.pdf | Q30: ∴ | R30: OSC | S30: YES (12/7/2021 MJ) RNG, RAT | T30: STMicroelectronics STLM20W87F - jwc
A31: X | B31: X | F31: EPS | G31: 3.3V Bus Current | I31: 0.157 | J31: CURRENT | K31: A | O31: In-House | Q31: Current in the 3.3V rail in the bus. | R31: OSC | S31: YES (12/7/2021 MJ) RNG, RAT
A32: X | B32: X | F32: EPS | G32: 3.3V Bus Voltage | I32: 3.327 | J32: VOLTAGE | K32: V | O32: In-House | Q32: Voltage in the 3.3V rail in the bus. | R32: OSC | S32: YES (12/7/2021 MJ) RNG, RAT
A33: X | B33: X | F33: EPS | G33: 3.3V Input Current | I33: 0.087 | J33: CURRENT | K33: A | O33: In-House | R33: OSC | S33: YES (12/7/2021 MJ) RNG, RAT
A34: X | B34: X | F34: EPS | G34: 5V Bus Current | I34: 0.029 | J34: CURRENT | K34: A | O34: In-House | Q34: Current in the 5.0V rail in the bus. | R34: OSC | S34: YES (12/7/2021 MJ) RNG, RAT
A35: X | B35: X | F35: EPS | G35: 5V Bus Voltage | I35: 5.0421 | J35: VOLTAGE | K35: V | O35: In-House | Q35: Voltage in the 5.0V rail in the bus. Should be ~5V with an unknown tolerance. | R35: OSC | S35: YES (12/7/2021 MJ) RNG, RAT
A36: X | B36: X | F36: EPS | G36: 5V Input Current | I36: 0.019 | J36: CURRENT | K36: A | O36: In-House | R36: OSC | S36: YES (12/7/2021 MJ) RNG, RAT
A37: - | B37: - | F37: FCPU | G37: @timestamp | I37: 2021-02-03T09:24:06Z | J37: TIME | K37: N/A | O37: In-House | S37: NO (12/9/2021 MJ) | T37: Split the variable into it's seperate parts and write a spec for each.
A38: X | B38: X | F38: FCPU | G38: ADCS Enable Status | I38: 1 | J38: STATUS | K38: N/A | O38: In-House | Q38: A boolean value for whether the Attitude Determination and Control System is active. If it's 0, then the craft is ostensibly not using the system and thus not pointing anywhere specifically. I've personally never seen it at this value, so I believe that this system is essentially always active. | R38: DNC | S38: YES (12/9/2021 MJ) RNG, RAT | T38: the data does not appear to change for the most part, but has some extraneous data points and displays data from 1920
A39: X | B39: X | F39: TCB | G39: ADCS1 IOE MODE | I39: 192 | J39: MODE | K39: N/A | O39: In-House | Q39: The ADCS uses different algorithms to calculate the actions it should take to point in the right direction. To the best of my knowledge [not supported by documentation], these algorithms each have a mode number and the system may switch between them. This number distinguish which algorithm is in use currently. Should keep a time record of this to see if it ever changes. | R39: DNC | S39: YES (12/9/2021 MJ) RNG, RAT | T39: the data does not appear to change for the most part, but has some extraneous data points and displays data from 1920
A40: X | B40: X | F40: TCB | G40: ADCS1 IOE STATE | I40: 0 | J40: STATUS | K40: N/A | O40: In-House | Q40: Still an unknown; need to dig into coding and documentation with JWC. | R40: DNC | S40: YES (12/9/2021 MJ) RNG, RAT | T40: the data does not appear to change for the most part, but has some extraneous data points and displays data from 1920
...

Sheet Raw_Data
G1: raw_+X MAG X | I1: 134 | J1: MAGNETOMETER
G2: raw_+X MAG Y | I2: -79 | J2: MAGNETOMETER
G3: raw_+X MAG Z | I3: -39 | J3: MAGNETOMETER
G4: raw_+X Photodiode | I4: 30 | J4: PHOTODIODE
A5: X | G5: raw_+X external temperature | I5: 3483 | J5: TEMPERATURE | K5: °C
A6: X | G6: raw_+X internal temperature | I6: 3500 | J6: TEMPERATURE | K6: °C
G7: raw_+Y MAG X | I7: 85 | J7: MAGNETOMETER
G8: raw_+Y MAG Y | I8: 20 | J8: MAGNETOMETER
G9: raw_+Y MAG Z | I9: -108 | J9: MAGNETOMETER
G10: raw_+Y Photodiode | I10: 20 | J10: PHOTODIODE
A11: X | G11: raw_+Y external temperature | I11: 3646 | J11: TEMPERATURE | K11: °C
A12: X | G12: raw_+Y internal temperature | I12: 3647 | J12: TEMPERATURE | K12: °C
G13: raw_-X MAG X | I13: 227 | J13: MAGNETOMETER
G14: raw_-X MAG Y | I14: -6 | J14: MAGNETOMETER
G15: raw_-X MAG Z | I15: 233 | J15: MAGNETOMETER
G16: raw_-X Photodiode | I16: 1684 | J16: PHOTODIODE
A17: X | G17: raw_-X external temperature | I17: 2852 | J17: TEMPERATURE | K17: °C
A18: X | G18: raw_-X internal temperature | I18: 2886 | J18: TEMPERATURE | K18: °C
G19: raw_-Y MAG X | I19: 184 | J19: MAGNETOMETER
G20: raw_-Y MAG Y | I20: 17 | J20: MAGNETOMETER
G21: raw_-Y MAG Z | I21: 37 | J21: MAGNETOMETER
G22: raw_-Y Photodiode | I22: 1643 | J22: PHOTODIODE
A23: X | G23: raw_-Y external temperature | I23: 2254 | J23: TEMPERATURE | K23: °C
A24: X | G24: raw_-Y internal temperature | I24: 2296 | J24: TEMPERATURE | K24: °C
G25: raw_3.3V Bus Current | I25: 157 | J25: CURRENT | K25: mA
G26: raw_3.3V Bus Voltage | I26: 3327 | J26: VOLTAGE | K26: mV
G27: raw_3.3V Input Current | I27: 87 | J27: CURRENT | K27: mA
G28: raw_5V Bus Current | I28: 29 | J28: CURRENT | K28: mA
G29: raw_5V Bus Voltage | I29: 3430 | J29: VOLTAGE | K29: mV
G30: raw_5V Input Current | I30: 19 | J30: CURRENT | K30: mA
G31: raw_ADCS Enable Status | I31: 1
G32: raw_ADCS1 IOE MODE | I32: 192
G33: raw_ADCS1 IOE STATE | I33: 0
G34: raw_Battery Bus Current | I34: 584 | J34: CURRENT | K34: mA
G35: raw_Battery Bus Voltage | I35: 3713 | J35: VOLTAGE | K35: mV
G36: raw_Battery Current | I36: 1527 | J36: CURRENT | K36: mA
A37: X | G37: raw_Battery Temperature | I37: 1914 | J37: TEMPERATURE | K37: °C
G38: raw_Battery Voltage | I38: 3717 | J38: VOLTAGE | K38: mV
A39: X | G39: raw_Channel 1 board temperature | I39: 1914 | J39: TEMPERATURE | K39: °C
A40: X | G40: raw_Channel 1 module temperature | I40: 1907 | J40: TEMPERATURE | K40: °C
...

Sheet RNG
A1: Identifier | B1: Spec Type | C1: Spec # | D1: Priority | E1: English Spec | F1: Sensors/Signals Needed | G1: Atomic Conversions | H1: MLTL Specification | I1: Trigger | J1: Explanation | K1: Automation Level | L1: Notes | M1: COMPLETED | N1: Has bFile?
A2: CUBE | B2: RNG | C2: 1 | E2: The value of +X external temperature should always be between -55 and 130. | F2: +X external temperature | G2: a0: +X external temperature >= -55 a1: +X external temperature <= 130 | H2: G[0,M] (a0 & a1) | K2: 1 | M2: YES | N2: YES
A3: CUBE | B3: RNG | C3: 2 | E3: The value of +X internal temperature should always be between -55 and 130. | F3: +X internal temperature | G3: a0: +X internal temperature >= -55 a1: +X internal temperature <= 130 | H3: G[0,M] (a0 & a1) | K3: 1 | N3: YES
A4: CUBE | B4: RNG | C4: 3 | E4: The value of +Y external temperature should always be between -55 and 130. | F4: +Y external temperature | G4: a0: +Y external temperature >= -55 a1: +Y external temperature <= 130 | H4: G[0,M] (a0 & a1) | K4: 1 | N4: YES
A5: CUBE | B5: RNG | C5: 4 | E5: The value of +Y internal temperature should always be between -55 and 130. | F5: +Y internal temperature | G5: a0: +Y internal temperature >= -55 a1: +Y internal temperature <= 130 | H5: G[0,M] (a0 & a1) | K5: 1 | N5: YES
A6: CUBE | B6: RNG | C6: 5 | E6: The value of -X external temperature should always be between -55 and 130. | F6: -X external temperature | G6: a0: -X external temperature >= -55 a1: -X external temperature <= 130 | H6: G[0,M] (a0 & a1) | K6: 1 | N6: YES
A7: CUBE | B7: RNG | C7: 6 | E7: The value of -X internal temperature should always be between -55 and 130. | F7: -X internal temperature | G7: a0: -X internal temperature >= -55 a1: -X internal temperature <= 130 | H7: G[0,M] (a0 & a1) | K7: 1 | N7: YES
A8: CUBE | B8: RNG | C8: 7 | E8: The value of -Y external temperature should always be between -55 and 130. | F8: -Y external temperature | G8: a0: -Y external temperature >= -55 a1: -Y external temperature <= 130 | H8: G[0,M] (a0 & a1) | K8: 1 | N8: YES
A9: CUBE | B9: RNG | C9: 8 | E9: The value of -Y internal temperature should always be between -55 and 130. | F9: -Y internal temperature | G9: a0: -Y internal temperature >= -55 a1: -Y internal temperature <= 130 | H9: G[0,M] (a0 & a1) | K9: 1 | N9: YES
A10: CUBE | B10: RNG | C10: 9 | E10: The value of Battery temperature will always be between -55 and 130. | F10: Battery Temperature | G10: a0: Battery temperature >= -55 a1: Battery temperature <= 130 | H10: G[0,M] (a0 & a1) | K10: 1 | N10: YES
A11: CUBE | B11: RNG | C11: 10 | E11: The value of Channel 1 board temperature should always be between -55 and 130. | F11: Channel 1 board temperature | G11: a0: Channel 1 board temperature >= -55 a1: Channel 1 board temperature <= 130 | H11: G[0,M] (a0 & a1) | K11: 1 | N11: YES
A12: CUBE | B12: RNG | C12: 11 | E12: The value of Channel 1 module temperature should always be between -55 and 130. | F12: Channel 1 module temperature | G12: a0: Channel 1 module temperature >= -55 a1: Channel 1 module temperature <= 130 | H12: G[0,M] (a0 & a1) | K12: 1 | N12: YES
A13: CUBE | B13: RNG | C13: 12 | E13: The value of Channel 2 board temperature should always be between -55 and 130. | F13: Channel 2 board temperature | G13: a0: Channel 2 board temperature >= -55 a1: Channel 2 board temperature <= 130 | H13: G[0,M] (a0 & a1) | K13: 1 | N13: YES
A14: CUBE | B14: RNG | C14: 13 | E14: The value of Channel 2 module temperature should always be between -55 and 130. | F14: Channel 2 module temperature | G14: a0: Channel 2 module temperature >= -55 a1: Channel 2 module temperature <= 130 | H14: G[0,M] (a0 & a1) | K14: 1 | N14: YES
... A21: CUBE | B21: RNG | C21: 20 | E21: The value of Lithium MSP430 Temp should always be between -30 and 70. | F21: Lithium MSP430 Temp | G21: a0: Lithium MSP430 Temp >= -30 a1: Lithium MSP430 Temp <= 70 | H21: G[0,M] (a0 & a1) | K21: 1 | N21: YES
A22: CUBE | B22: RNG | C22: 21 | E22: The value of MARINA Temperature should always be between -55 and 130. | F22: MARINA Temperature | G22: a0: MARINA Temperature >= -55 a1: MARINA Temperature <= 130 | H22: G[0,M] (a0 & a1) | K22: 2 | L22: New assumption made 12/7/2021 RNG changed to -55 ~ 130 (MJ) | N22: YES
A23: CUBE | B23: RNG | C23: 22 | E23: The value of Output Regulator Temperature should always be between -55 and 130. | F23: Output Regulator Temperature | G23: a0: Output Regulator Temperature >= -55 a1: Output Regulator Temperature <= 130 | H23: G[0,M] (a0 & a1) | K23: 1 | N23: YES
A24: CUBE | B24: RNG | C24: 23 | E24: The value of TCB TEMP 0 should always be between -55 and 130. | F24: TCB TEMP 0 | G24: a0: TCB TEMP 0 >= -55 a1: TCB TEMP 0 <= 130 | H24: G[0,M] (a0 & a1) | K24: 1 | N24: YES
A25: CUBE | B25: RNG | C25: 24 | E25: The value of TCB TEMP 1 should always be between -55 and 130. | F25: TCB TEMP 1 | G25: a0: TCB TEMP 1 >= -55 a1: TCB TEMP 1 <= 130 | H25: G[0,M] (a0 & a1) | K25: 1 | N25: YES
A26: CUBE | B26: RNG | C26: 25 | E26: The value of TCB TEMP 2 should always be between -55 and 130. | F26: TCB TEMP 2 | G26: a0: TCB TEMP 2 >= -55 a1: TCB TEMP 2 <= 130 | H26: G[0,M] (a0 & a1) | K26: 1 | N26: YES
A27: CUBE | B27: RNG | C27: 26 | E27: The value of LI 3V3 Current should always be between 3 and 6. | F27: LI 3V3 Current | G27: a0: LI 3V3 Current >= 3 a1: LI 3V3 Current <= 6 | H27: G[0,M] (a0 & a1) | K27: 3 | L27: New assumption made 12/7/2021 RNG changed to 3 ~ 6 (MJ) | N27: YES
A28: CUBE | B28: RNG | C28: 27 | E28: The value of LI 3V3 Voltage should always be between 3 and 3.6. | F28: LI 3V3 Voltage | G28: a0: LI 3V3 Voltage >= 3 a1: LI 3V3 Voltage <= 3.6 | H28: G[0,M] (a0 & a1) | K28: 1 | N28: YES
A29: CUBE | B29: RNG | C29: 28 | E29: The value of LI VBATT Current should always be between 0 and 80. | F29: LI VBATT Current | G29: a0: VBATT Current >= 0 a1: VBATT Current <= 80 | H29: G[0,M] (a0 & a1) | K29: 3 | L29: New assumption made 12/7/2021 RNG changed to 0 ~ 80 (MJ) | N29: YES
A30: CUBE | B30: RNG | C30: 29 | E30: The value of LI VBATT Voltage should always be between 5 and 9. | F30: LI VBATT Voltage | G30: a0: VBATT Voltage >= 5 a1: VBATT Voltage <= 9 | H30: G[0,M] (a0 & a1) | K30: 3 | N30: YES
A31: CUBE | B31: RNG | C31: 30 | E31: The value of Lithium RSSI should always be greater than 0. | F31: Lithium RSSI | G31: a0: Lithium RSSI > 0 | H31: G[0,M] (a0) | K31: 3 | N31: YES
A32: CUBE | B32: RNG | C32: 31 | E32: The value of MARINA exit status should always be between 0 and 17. | F32: Marina exit status | G32: a0: MARINA exit status >= 0 a1: MARINA exit status <= 17 | H32: G[0,M] (a0 & a1) | J32: If the MARINA exit status is not one of these values, it is either turned off or non-operational. | K32: 3 | N32: YES
A33: CUBE | B33: RNG | C33: 32 | E33: The value of +X MAG X shall measure between -8 gauss and +8 gauss. | F33: +X MAG X | G33: a0: +X MAG X >= -8 a1: +X MAG X <= 8 | H33: G[0,M] (a0 & a1) | K33: 1 | N33: YES
A34: CUBE | B34: RNG | C34: 33 | E34: The value of +X MAG Y shall measure between -8 gauss and +8 gauss. | F34: +X MAG Y | G34: a0: +X MAG Y >= -8 a1: +X MAG Y <= 8 | H34: G[0,M] (a0 & a1) | K34: 1 | N34: YES
A35: CUBE | B35: RNG | C35: 34 | E35: The value of +X MAG Z shall measure between -8 gauss and +8 gauss. | F35: +X MAG Z | G35: a0: +X MAG Z >= -8 a1: +X MAG Z <= 8 | H35: G[0,M] (a0 & a1) | K35: 1 | N35: YES
A36: CUBE | B36: RNG | C36: 35 | E36: The value of +Y MAG X shall measure between -8 gauss and +8 gauss. | F36: +Y MAG X | G36: a0: +Y MAG X >= -8 a1: +Y MAG X <= 8 | H36: G[0,M] (a0 & a1) | K36: 1 | N36: YES
A37: CUBE | B37: RNG | C37: 36 | E37: The value of +Y MAG Y shall measure between -8 gauss and +8 gauss. | F37: +Y MAG Y | G37: a0: +Y MAG Y >= -8 a1: +Y MAG Y <= 8 | H37: G[0,M] (a0 & a1) | K37: 1 | N37: YES
A38: CUBE | B38: RNG | C38: 37 | E38: The value of +Y MAG Z shall measure between -8 gauss and +8 gauss. | F38: +Y MAG Z | G38: a0: +Y MAG Z >= -8 a1: +Y MAG Z <= 8 | H38: G[0,M] (a0 & a1) | K38: 1 | N38: YES
A39: CUBE | B39: RNG | C39: 38 | E39: The value of -X MAG X shall measure between -8 gauss and +8 gauss. | F39: -X MAG X | G39: a0: -X MAG X >= -8 a1: -X MAG X <= 8 | H39: G[0,M] (a0 & a1) | K39: 1 | N39: YES
A40: CUBE | B40: RNG | C40: 39 | E40: The value of -X MAG Y shall measure between -8 gauss and +8 gauss. | F40: -X MAG Y | G40: a0: -X MAG Y >= -8 a1: -X MAG Y <= 8 | H40: G[0,M] (a0 & a1) | K40: 1 | N40: YES
A41: CUBE | B41: RNG | C41: 40 | E41: The value of -X MAG Z shall measure between -8 gauss and +8 gauss. | F41: -X MAG Z | G41: a0: -X MAG Z >= -8 a1: -X MAG Z <= 8 | H41: G[0,M] (a0 & a1) | K41: 1 | N41: YES
A42: CUBE | B42: RNG | C42: 41 | E42: The value of -Y MAG X shall measure between -8 gauss and +8 gauss. | F42: -Y MAG X | G42: a0: -Y MAG X >= -8 a1: -Y MAG X <= 8 | H42: G[0,M] (a0 & a1) | K42: 1 | N42: YES
A43: CUBE | B43: RNG | C43: 42 | E43: The value of -Y MAG Y shall measure between -8 gauss and +8 gauss. | F43: -Y MAG Y | G43: a0: -Y MAG Y >= -8 a1: -Y MAG Y <= 8 | H43: G[0,M] (a0 & a1) | K43: 1 | N43: YES
A44: CUBE | B44: RNG | C44: 43 | E44: The value of -Y MAG Z shall measure between -8 gauss and +8 gauss. | F44: -Y MAG Z | G44: a0: -Y MAG Z >= -8 a1: -Y MAG Z <= 8 | H44: G[0,M] (a0 & a1) | K44: 1 | N44: YES
... A52: CUBE | B52: RNG | C52: 51 | E52: The value of EPS 5V Current shall always measure between 0 A and 0.1 A. | F52: EPS 5V Current | G52: a0: EPS 5V Current >= 0 a1: EPS 5V Current <= 0.1 | H52: G[0,M] (a0 & a1) | K52: 3 | N52: YES
A53: CUBE | B53: RNG | C53: 52 | D53: 1 | E53: The maximum storage of the FCPU is 500 Mb, so Datamnt Usage should always be between 0 and 500. | F53: Datamnt Usage | G53: a0: Datamnt Usage > 0 a1: Datamnt Usage < 500 | H53: G[0,M] (a0 & a1) | K53: 3 | N53: YES
...

Sheet RAT
A1: BL | B1: Spec Type | C1: Spec # | D1: Priority | E1: English Spec | F1: Sensors/Signals Needed | G1: Atomic Conversions | H1: MLTL Specification | I1: Trigger | J1: Explanation | K1: Automation Level | L1: Notes | M1: COMPLETED
A2: CUBE | B2: RAT | C2: 1 | D2: 1 | E2: The most recent value of Lithium Op Count should always be greater than the previous collection. | F2: Lithium Op Count | G2: a0: Lithium Op Count[0] > Lithium Op Count[-1] | H2: G[0,M] (a0) | J2: If this specification is not met, it means the data is out of consecutive order or that the detector did not send data properly and instead used an old collection. | K2: 1 | L2: Verified my MJ 12/9/2021 | M2: YES
A3: CUBE | B3: RAT | C3: 2 | D3: 1 | E3: The most recent value of Lithium #RX should always be greater than the previous collection. | F3: Lithium #RX | G3: a0: Lithium #RX[0] > Lithium #RX[-1] | H3: G[0,M] (a0) | J3: If this specification is not met, it means the data is out of consecutive order or that the detector did not send data properly and instead used an old collection. | K3: 1 | L3: Verified my MJ 12/9/2021 | M3: YES
A4: CUBE | B4: RAT | C4: 3 | D4: 1 | E4: The most recent value of Lithium #TX should always be greater than the previous collection. | F4: Lithium #TX | G4: a0: Lithium #TX[0] > Lithium #TX[-1] | H4: G[0,M] (a0) | J4: If this specification is not met, it means the data is out of consecutive order or that the detector did not send data properly and instead used an old collection. | K4: 1 | L4: Verified my MJ 12/9/2021 | M4: YES
A5: CUBE | B5: RAT | C5: 4 | D5: 1 | E5: The most recent value of Marina Completed Runs should always be greater than or equal to the previous collection. | F5: Marina Completed Runs | G5: a0: Marina Completed Runs[0] >= Marina Completed Runs[-1] | H5: G[0,M] (a0) | J5: If this specification is not met, it means the data is out of consecutive order or that the detector did not send data properly and instead used an old collection. | K5: 1 | L5: Verified my MJ 12/9/2021 | M5: YES
A6: CUBE | B6: RAT | C6: 5 | D6: 1 | E6: The most recent value of Marina Aborted Runs should always be greater than or equal to the previous collection. | F6: Marina Aborted Runs | G6: a0: Marina Aborted Runs[0] >= Marina Aborted Runs[-1] | H6: G[0,M] (a0) | J6: If this specification is not met, it means the data is out of consecutive order or that the detector did not send data properly and instead used an old collection. | K6: 1 | L6: Verified my MJ 12/9/2021 | M6: YES
A7: CUBE | B7: RAT | C7: 6 | D7: 1 | E7: The value of NumResets should never decrease. | F7: NumResets | G7: a0: NumResets[0] >= NumResets[-1] | H7: G[0,M] (a0) | J7: If this specification is not met, it means the data is out of consecutive order or that the detector did not send data properly and instead used an old collection. | K7: 1 | L7: Verified my MJ 12/9/2021 | M7: YES
A8: CUBE | B8: RAT | C8: 7 | D8: 1 | E8: The most recent value of RTC Unix Time should be greater than the previous value. | F8: RTC Unix Time | G8: a0: RTC Unix Time[0] > RTC Unix Time[-1] | H8: G[0,M] (a0) | J8: If this specification is not met, it means the data is out of consecutive order or that the detector did not send data properly and instead used an old collection. | K8: 1 | L8: Verified my MJ 12/9/2021 | M8: YES
A9: CUBE | B9: RAT | C9: 8 | D9: 1 | E9: The temperature change of +X external temperature should not exceed 185 degrees between each collection. | F9: +X external temperature | G9: a0: (abs(+X external temperature[-1] - +X external temperature[0])) <= 185 | H9: G[0,M] (a0) | J9: If this Specification is not met, it means that there was an alarming change in temperature that can mean there is something fishy happening with the sensor or something critically went wrong (Such as a battery explosion). | K9: 1 | L9: Value is abs diff between RNG bounds 12/9/2021 MJ | M9: YES
A10: CUBE | B10: RAT | C10: 9 | D10: 1 | E10: The temperature change of +X internal temperature should not exceed 185 degrees between each collection. | F10: +X internal temperature | G10: a0: (abs(+X internal temperature[-1] - +X internal temperature[0])) <= 185 | H10: G[0,M] (a0) | J10: If this Specification is not met, it means that there was an alarming change in temperature that can mean there is something fishy happening with the sensor or something critically went wrong (Such as a battery explosion). | K10: 1 | L10: Value is abs diff between RNG bounds 12/9/2021 MJ | M10: YES
A11: CUBE | B11: RAT | C11: 10 | D11: 1 | E11: The temperature change of +Y external temperature should not exceed 185degrees between each collection. | F11: +Y external temperature | G11: a0: (abs(+Y external temperature[-1] - +Y external temperature[0])) <= 185 | H11: G[0,M] (a0) | J11: If this Specification is not met, it means that there was an alarming change in temperature that can mean there is something fishy happening with the sensor or something critically went wrong (Such as a battery explosion). | K11: 1 | L11: Value is abs diff between RNG bounds 12/9/2021 MJ | M11: YES
A12: CUBE | B12: RAT | C12: 11 | D12: 1 | E12: The temperature change of +Y internal temperature should not exceed 185 degrees between each collection. | F12: +Y internal temperature | G12: a0: (abs(+Y internal temperature[-1] - +Y internal temperature[0])) <= 185 | H12: G[0,M] (a0) | J12: If this Specification is not met, it means that there was an alarming change in temperature that can mean there is something fishy happening with the sensor or something critically went wrong (Such as a battery explosion). | K12: 1 | L12: Value is abs diff between RNG bounds 12/9/2021 MJ | M12: YES
A13: CUBE | B13: RAT | C13: 12 | D13: 1 | E13: The temperature change of -X external temperature should not exceed 185 degrees between each collection. | F13: -X external temperature | G13: a0: (abs(-X external temperature[-1] - -X external temperature[0])) <= 185 | H13: G[0,M] (a0) | J13: If this Specification is not met, it means that there was an alarming change in temperature that can mean there is something fishy happening with the sensor or something critically went wrong (Such as a battery explosion). | K13: 1 | L13: Value is abs diff between RNG bounds 12/9/2021 MJ | M13: YES
... A90: CUBE | B90: RAT | C90: 89 | D90: 1 | E90: The variable associated with Marina exit status should not exceed 17 between each collection | F90: Marina exit status | G90: a0: (abs(Marina exit status[-1] - Marina exit status[0]) <= 17 | H90: G[0,M] (a0) | J90: If this specification is not met, tere may be an issue with the sensors on board GRIFEX, or indicating something drastic has happened. | K90: 1 | L90: Verified my MJ 12/9/2021 | M90: YES
A91: CUBE | B91: RAT | C91: 90 | D91: 1 | E91: The value of ADCS Enable Status should never change. | F91: ADCS Enable Status | G91: a0: (abs(ADCS Enable Status[-1] - ADCS Enable Status[0])) <= 0 | H91: G[0,M] (a0) | K91: 1 | L91: Value is abs diff between RNG bounds 12/9/2021 MJ | M91: YES
A92: CUBE | B92: RAT | C92: 91 | D92: 1 | E92: The value change of ADCS IOE MODE should never exceed 255 between each collection. | F92: ADCS1 IOE MODE | G92: a0: (abs(ADCS1 IOE MODE[-1] - ADCS1 IOE MODE[0])) <= 255 | H92: G[0,M] (a0) | K92: 1 | L92: Value is abs diff between RNG bounds 12/9/2021 MJ | M92: YES
A93: CUBE | B93: RAT | C93: 92 | D93: 1 | E93: The value of ADCS1 IOE STATE should never change. | F93: ADCS1 IOE STATE | G93: a0: (abs(ADCS1 IOE STATE[-1] - ADCS1 IOE STATE[0])) <= 0 | H93: G[0,M] (a0) | K93: 1 | L93: Value is abs diff between RNG bounds 12/9/2021 MJ | M93: YES
A94: CUBE | B94: RAT | C94: 93 | D94: 1 | E94: The value of EPS IOE MODE should never change. | F94: EPS IOE MODE | G94: a0: (abs(EPS IOE MODE[-1] - EPS IOE MODE[0])) <= 0 | H94: G[0,M] (a0) | K94: 1 | L94: Value is abs diff between RNG bounds 12/9/2021 MJ | M94: YES
A95: CUBE | B95: RAT | C95: 94 | D95: 1 | E95: The value change of EPS IOE STATE should never exceed 253 between each collection. | F95: EPS IOE STATE | G95: a0: (abs(EPS IOE STATE[-1] - EPS IOE STATE[0])) <= 253 | H95: G[0,M] (a0) | K95: 1 | L95: Value is abs diff between RNG bounds 12/9/2021 MJ | M95: YES
A96: CUBE | B96: RAT | C96: 95 | D96: 1 | E96: The value change of MZINT IOE1 MODE should never exceed 103 between each collection. | F96: MZINT IOE1 MODE | G96: a0: (abs(MZINT IOE1 MODE[-1] - MZINT IOE1 MODE[0])) <= 103 | H96: G[0,M] (a0) | K96: 1 | L96: Value is abs diff between RNG bounds 12/9/2021 MJ | M96: YES
A97: CUBE | B97: RAT | C97: 96 | D97: 1 | E97: The value change of MZINT IOE2 MODE should never exceed 103 between each collection. | F97: MZINT IOE2 MODE | G97: a0: (abs(MZINT IOE2 MODE[-1] - MZINT IOE2 MODE[0])) <= 103 | H97: G[0,M] (a0) | K97: 1 | L97: Value is abs diff between RNG bounds 12/9/2021 MJ | M97: YES
A98: CUBE | B98: RAT | C98: 97 | D98: 1 | E98: The value of Variable 1 should never change. | F98: Variable 1 | G98: a0: (abs(Variable 1[-1] - Variable 1[0])) <= 0 | H98: G[0,M] (a0) | K98: 1 | L98: Value is abs diff between RNG bounds 12/9/2021 MJ | M98: YES
A99: CUBE | B99: RAT | C99: 98 | D99: 1 | E99: The value of Variable 10 should never change. | F99: Variable 10 | G99: a0: (abs(Variable 10[-1] - Variable 10[0])) <= 0 | H99: G[0,M] (a0) | K99: 1 | L99: Value is abs diff between RNG bounds 12/9/2021 MJ | M99: YES
A100: CUBE | B100: RAT | C100: 99 | D100: 1 | E100: The value change of Variable 2 should never exceed 8 between each collection. | F100: Variable 2 | G100: a0: (abs(Variable 2[-1] - Variable 2[0])) <= 8 | H100: G[0,M] (a0) | K100: 1 | L100: Value is abs diff between RNG bounds 12/9/2021 MJ | M100: YES
A101: CUBE | B101: RAT | C101: 100 | D101: 1 | E101: The value change of Variable 3 should never exceed 115 between each collection. | F101: Variable 3 | G101: a0: (abs(Variable 3[-1] - Variable 3[0])) <= 115 | H101: G[0,M] (a0) | K101: 1 | L101: Value is abs diff between RNG bounds 12/9/2021 MJ | M101: YES
A102: CUBE | B102: RAT | C102: 101 | D102: 1 | E102: The value change of Variable 4 should never exceed 62 between each collection. | F102: Variable 4 | G102: a0: (abs(Variable 4[-1] - Variable 4[0])) <= 62 | H102: G[0,M] (a0) | K102: 1 | L102: Value is abs diff between RNG bounds 12/9/2021 MJ | M102: YES
... A113: CUBE | B113: RAT | C113: 112 | D113: 1 | E113: The value change of Battery Temperature should never exceed 185 between each collection. | F113: Battery Temperature | G113: a0: (abs(Battery Temperature[-1] - Battery Temperature[0])) <= 185 | H113: G[0,M] (a0) | K113: 1 | L113: Value is abs diff between RNG bounds 12/9/2021 MJ | M113: YES

Sheet REL
A1: BL | B1: Spec Type | C1: Spec # | D1: Priority | E1: English Spec | F1: Sensors/Signals Needed | G1: Atomic Conversions | H1: MLTL Specification | I1: Trigger | J1: Explanation | K1: Automation Level | L1: Notes | M1: COMPLETED
A2: CUBE | B2: REL | C2: 1 | D2: 1 | E2: The temperatures of FCPU_TEMP_0 and FCPU_TEMP_1, should measure withing 10C of each other at each time step. | F2: FCPU_TEMP_0 && FCPU_TEMP_1 | G2: a0: abs (FCPU_TEMP_0 - FCPU_TEMP_1) < 10 | H2: G[0,M] a0 | K2: 3 | M2: YES
A3: CUBE | B3: REL | C3: 2 | D3: 1 | E3: The temperatures of TCB_TEMP_0, TCB_TEMP_1, and TCB_TEMP_2 should measure withing 5C of each other at each time step. | F3: TCB_TEMP_0 && TCB_TEMP_1 && TCB_TEMP_2 | G3: a0: abs(TCB_TEMP_0 - TCB_TEMP_1) < 5 a1: abs(TCB_TEMP_0 - TCB_TEMP_2) < 5 a2: abs(TCB_TEMP_1 - TCB_TEMP_2) < 5 | H3: G[0,M] (a0 & a1 & a2) | K3: 3 | M3: YES
A4: CUBE | B4: REL | C4: 3 | D4: 1 | E4: The temperatures of Channel 1 module temperature, Channel 2 module temperature, Channel 3 module temperatures, and Channel 4 module temperature should measure withing 4C of each other at each time step. | F4: CH_TEMP_1 && CH_TEMP_2 && CH_TEMP_3 && CH_TEMP_4 | G4: a0: abs(CH_TEMP_1-CH_TEMP_2-CH_TEMP_3-CH_TEMP_4) < 4 | H4: G[0,M] a0 | K4: 3 | M4: YES
A5: CUBE | B5: REL | C5: 4 | D5: 1 | E5: The voltages of Channel 1 module voltage, Channel 2 module voltage, Channel 3 module voltage, and Channel 4 module voltage should measure withing 8V of each other at each time step. | F5: CH_V_1 && CH_V_2 && CH_V_3 && CH_V_4 | G5: a0: abs(CH_V_1-CH_V_2-CH_V_3-CH_V_4) <8 | H5: G[0,M] a0 | K5: 3 | M5: YES

Sheet CTRL
A1: BL | B1: Spec Type | C1: Spec # | D1: Priority | E1: English Spec | F1: Sensors/Signals Needed | G1: Atomic Conversions | H1: MLTL Specification | I1: Trigger | J1: Explanation | K1: Automation Level | L1: Notes | M1: COMPLETED

Sheet CHE
A1: BL | B1: Spec Type | C1: Spec # | D1: Priority | E1: English Spec | F1: Sensors/Signals Needed | G1: Atomic Conversions | H1: MLTL Specification | I1: Trigger | J1: Explanation | K1: Automation Level | L1: Notes | M1: COMPLETED
