Workbook

Sheet Telemetry Data
A1: V | B1: Data
A2: _index | B2: beacon_0_66
A3: _type | B3: _doc
A4: _id | B4: 61fb5ad3-a613-56dd-bd5e-049a493f9dd0
A5: _score | B5: 1
A6: _source | B6: {}
A7: +X MAG X | B7: 0.61187215
A8: +X MAG Y | B8: -0.36073059
A9: +X MAG Z | B9: -0.17808219
A10: +X Photodiode | B10: 0.018310547
A11: +X external temperature | B11: -22.958302
A12: +X internal temperature | B12: -23.875045
A13: +Y MAG X | B13: 0.38812785
A14: +Y MAG Y | B14: 0.091324201
A15: +Y MAG Z | B15: -0.49315068
A16: +Y Photodiode | B16: 0.012207031
A17: +Y external temperature | B17: -31.772116
A18: +Y internal temperature | B18: -31.826354
... A36: 5V Input Current | B36: 0.019
A37: @timestamp | B37: 2021-02-03T09:24:06Z
A38: ADCS Enable Status | B38: 1
A39: ADCS1 IOE MODE | B39: 192
A40: ADCS1 IOE STATE | B40: 0
A41: Battery Bus Current | B41: 0.584
A42: Battery Bus Voltage | B42: 8.1686
A43: Battery Current | B43: 0.054
A44: Battery Temperature | B44: -4.0803657
A45: Battery Voltage | B45: 8.1774
A46: Channel 1 board temperature | B46: -4.0803657
A47: Channel 1 module temperature | B47: -3.4815633
A48: Channel 1 output current | B48: 0.454
A49: Channel 1 output voltage | B49: 8.5602
... A123: curNumRunnableTasks | B123: 1
A124: data_checksum_passed | B124: TRUE
A125: flag | B125: 3
A126: freeMem | B126: 56972
A127: header_checksum_passed | B127: TRUE
A128: lastProcessPID | B128: 10363
A129: pid | B129: 0
A130: raw_+X MAG X | B130: 134
A131: raw_+X MAG Y | B131: -79
A132: raw_+X MAG Z | B132: -39
A133: raw_+X Photodiode | B133: 30
A134: raw_+X external temperature | B134: 3483
A135: raw_+X internal temperature | B135: 3500
A136: raw_+Y MAG X | B136: 85
A137: raw_+Y MAG Y | B137: 20
A138: raw_+Y MAG Z | B138: -108
A139: raw_+Y Photodiode | B139: 20
... A250: sid | B250: 66
A251: telemetry_archive | B251: FALSE
A252: telemetry_archive_file_num | B252: 0
A253: totMem | B253: 126904
A254: totNumProcesses | B254: 38

Sheet IO
A1: RNG | B1: RAT | C1: REL | D1: CTRL | E1: CHE | F1: Category (Subsystem) | G1: Parameters | H1: Shortened Name | I1: Data | J1: Data Type | K1: Units | O1: Designed In-House vs. Sourced from Data Sheet | P1: Datasheet Filename (where applicable) | Q1: Description | R1: Pattern | S1: Is there a specification? | T1: Additional Notes | U1: Unique Data Values | V1: Amount | W1: Specification Types | Y1: Parameter Count | Z1: Pattern Types | AA1: Total Count | AB1: Automation Level | AD1: Amount
A2: - | B2: - | F2: GND | G2: _index | I2: beacon_0_66 | J2: IDENTIFICATION | K2: N/A | O2: In-House | S2: NO (12/7/2021 MJ) | U2: VOLTAGE | V2: =COUNTIF(J2:J135,U2) -> 20 | W2: RNG: Range | X2: X | Y2: =COUNTIF(A2:A238,X2) -> 123 | Z2: RNG | AA2: =COUNTIF(RNG!B2:B238,Z2)+COUNTIF(RAT!B2:B238,Z2)+COUNTIF(REL!B2:B236,Z2)+COUNTIF(CTRL!B2:B238,Z2)+COUNTIF(CHE!B2:B238,Z2) -> 149 | AB2: 1: Automatically Extracted | AC2: 1 | AD2: =COUNTIF(RNG!K2:K238,AC2)+COUNTIF(RAT!K2:K238,AC2)+COUNTIF(REL!K2:K236,AC2)+COUNTIF(CTRL!K2:K238,AC2)+COUNTIF(CHE!K2:K238,AC2) -> 180
A3: - | B3: - | F3: GND | G3: _type | I3: _doc | J3: IDENTIFICATION | K3: N/A | O3: In-House | S3: NO (12/7/2021 MJ) | U3: CURRENT | V3: =COUNTIF(J2:J135,U3) -> 20 | W3: RAT: Rate | X3: X | Y3: =COUNTIF(B2:B238,X3) -> 112 | Z3: RAT | AA3: =COUNTIF(RNG!B2:B239,Z3)+COUNTIF(RAT!B2:B239,Z3)+COUNTIF(REL!B2:B237,Z3)+COUNTIF(CTRL!B2:B239,Z3)+COUNTIF(CHE!B2:B239,Z3) -> 112 | AB3: 2: Minimal Interaction | AC3: 2 | AD3: =COUNTIF(RNG!K2:K238,AC3)+COUNTIF(RAT!K2:K238,AC3)+COUNTIF(REL!K2:K236,AC3)+COUNTIF(CTRL!K2:K238,AC3)+COUNTIF(CHE!K2:K238,AC3) -> 25
A4: - | B4: - | F4: GND | G4: _id | I4: 61fb5ad3-a613-56dd-bd5e-049a493f9dd0 | J4: IDENTIFICATION | K4: N/A | O4: In-House | S4: NO (12/7/2021 MJ) | U4: TEMPERATURE | V4: =COUNTIF(J2:J135,U4) -> 25 | W4: REL: Relationship | X4: X | Y4: =COUNTIF(C2:C238,X4) -> 12 | Z4: REL | AA4: =COUNTIF(RNG!B2:B240,Z4)+COUNTIF(RAT!B2:B240,Z4)+COUNTIF(REL!B2:B238,Z4)+COUNTIF(CTRL!B2:B240,Z4)+COUNTIF(CHE!B2:B240,Z4) -> 4 | AB4: 3: Fully Manual | AC4: 3 | AD4: =COUNTIF(RNG!K2:K238,AC4)+COUNTIF(RAT!K2:K238,AC4)+COUNTIF(REL!K2:K236,AC4)+COUNTIF(CTRL!K2:K238,AC4)+COUNTIF(CHE!K2:K238,AC4) -> 60
A5: - | B5: - | F5: GND | G5: _score | I5: 1 | J5: MODE | K5: N/A | O5: In-House | S5: NO (12/7/2021 MJ) | U5: TIME | V5: =COUNTIF(J2:J135,U5) -> 2 | W5: CTRL: Control Sequence | X5: X | Y5: =COUNTIF(D2:D238,X5) -> 0 | Z5: CTRL | AA5: =COUNTIF(RNG!B2:B241,Z5)+COUNTIF(RAT!B2:B241,Z5)+COUNTIF(REL!B2:B239,Z5)+COUNTIF(CTRL!B2:B241,Z5)+COUNTIF(CHE!B2:B241,Z5) -> 0 | AB5: Total | AD5: =SUM(AD2:AD4) -> 265
A6: - | B6: - | F6: N/A | G6: _source | I6: {} | J6: OTHER | K6: N/A | O6: In-House | S6: NO (12/7/2021 MJ) | U6: COUNT | V6: =COUNTIF(J2:J135,U6) -> 9 | W6: CHE: Consistency Check | X6: X | Y6: =COUNTIF(E2:E238,X6) -> 0 | Z6: CHE | AA6: =COUNTIF(RNG!B2:B242,Z6)+COUNTIF(RAT!B2:B242,Z6)+COUNTIF(REL!B2:B240,Z6)+COUNTIF(CTRL!B2:B242,Z6)+COUNTIF(CHE!B2:B242,Z6) -> 0
A7: X | B7: X | F7: SOLAR | G7: +X MAG X | I7: 0.61187215 | J7: MAGNETOMETER | K7: Gauss | O7: Manufactured | P7: HMC5883L.pdf | Q7: The 3-axis (X/Y/Z) reading of the magnetometer placed on the +X facing panel of GRIFEX. | R7: OSC | S7: YES (12/7/2021 MJ) RNG, RAT | T7: The data appears to be variable with extraneous data points and displays data from 1920 | U7: MEMORY | V7: =COUNTIF(J2:J135,U7) -> 7 | W7: Total | Y7: =SUM(Y2:Y6) -> 247 | AA7: =SUM(AA2:AA6) -> 265
A8: X | B8: X | F8: SOLAR | G8: +X MAG Y | I8: -0.36073059 | J8: MAGNETOMETER | K8: Gauss | O8: Manufactured | P8: HMC5883L.pdf | Q8: ∴ | R8: OSC | S8: YES (12/7/2021 MJ) RNG, RAT | T8: The data appears to be variable with extraneous data points and displays data from 1920 | U8: FLAGS | V8: =COUNTIF(J2:J135,U8) -> 4
A9: X | B9: X | F9: SOLAR | G9: +X MAG Z | I9: -0.17808219 | J9: MAGNETOMETER | K9: Gauss | O9: Manufactured | P9: HMC5883L.pdf | Q9: ∴ | R9: OSC | S9: YES (12/7/2021 MJ) RNG, RAT | T9: The data appears to be variable with extraneous data points and displays data from 1920 | U9: MODE | V9: =COUNTIF(J2:J135,U9) -> 5
A10: X | B10: X | F10: SOLAR | G10: +X Photodiode | I10: 0.018310547 | J10: PHOTODIODE | K10: V | O10: Manufactured | P10: SFH 2430_EN.pdf | Q10: Photodiodes creates a current corresponding to the power of the light impinging on them from the Sun. They’re used to calculate a vector that points from a body-fixed coordinate frame to the Sun, which is important for calculating attitude. They are placed on each solar panel to always have some of them facing the Sun. This one is on the +X solar panel. | S10: YES (12/7/2021 MJ) RNG, RAT | U10: IDENTIFICATION | V10: =COUNTIF(J2:J135,U10) -> 3
A11: X | B11: X | F11: SOLAR | G11: +X external temperature | I11: -22.958302 | J11: TEMPERATURE | K11: °C | O11: Manufactured | P11: 497-5970-1-ND.pdf | Q11: The temperatures near the +X solar panel. Since there are multiple temperature sensors placed on both the inward (internal) and outward (external)-facing sides of each solar panel, we have the “axes” indicating the axis of the solar panel on which the temperature sensor is placed. | R11: OSC | S11: YES (12/7/2021 MJ) RNG, RAT | T11: STMicroelectronics STLM20W87F - jwc | U11: OTHER | V11: =COUNTIF(J2:J135,U11) -> 15
A12: X | B12: X | F12: SOLAR | G12: +X internal temperature | I12: -23.875045 | J12: TEMPERATURE | K12: °C | O12: Manufactured | P12: 497-5970-1-ND.pdf | Q12: ∴ | S12: YES (12/7/2021 MJ) RNG, RAT | T12: STMicroelectronics STLM20W87F - jwc | U12: MAGNETOMETER | V12: =COUNTIF(J2:J135,U12) -> 12
A13: X | B13: X | F13: SOLAR | G13: +Y MAG X | I13: 0.38812785 | J13: MAGNETOMETER | K13: Gauss | O13: Manufactured | P13: HMC5883L.pdf | Q13: The 3-axis (X/Y/Z) reading of the magnetometer placed on the +Y facing panel of GRIFEX. | R13: OSC | S13: YES (12/7/2021 MJ) RNG, RAT | U13: STATUS | V13: =COUNTIF(J2:J135,U13) -> 7
A14: X | B14: X | F14: SOLAR | G14: +Y MAG Y | I14: 0.091324201 | J14: MAGNETOMETER | K14: Gauss | O14: Manufactured | P14: HMC5883L.pdf | Q14: ∴ | S14: YES (12/7/2021 MJ) RNG, RAT | U14: PHOTODIODE | V14: =COUNTIF(J2:J135,U14) -> 4
A15: X | B15: X | F15: SOLAR | G15: +Y MAG Z | I15: -0.49315068 | J15: MAGNETOMETER | K15: Gauss | O15: Manufactured | P15: HMC5883L.pdf | Q15: ∴ | S15: YES (12/7/2021 MJ) RNG, RAT | U15: TOTAL | V15: =SUM(V2:V14) -> 133
A16: X | B16: X | F16: SOLAR | G16: +Y Photodiode | I16: 0.012207031 | J16: PHOTODIODE | K16: V | O16: Manufactured | P16: SFH 2430_EN.pdf | Q16: Photodiode on +Y solar panel. | R16: OSC | S16: YES (12/7/2021 MJ) RNG, RAT
A17: X | B17: X | F17: SOLAR | G17: +Y external temperature | I17: -31.772116 | J17: TEMPERATURE | K17: °C | O17: Manufactured | P17: 497-5970-1-ND.pdf | Q17: Internal/External Temperatures near +Y solar panel. | S17: YES (12/7/2021 MJ) RNG, RAT | T17: STMicroelectronics STLM20W87F - jwc
A18: X | B18: X | F18: SOLAR | G18: +Y internal temperature | I18: -31.826354 | J18: TEMPERATURE | K18: °C | O18: Manufactured | P18: 497-5970-1-ND.pdf | Q18: ∴ | R18: OSC | S18: YES (12/7/2021 MJ) RNG, RAT | T18: STMicroelectronics STLM20W87F - jwc
A19: X | B19: X | F19: SOLAR | G19: -X MAG X | I19: 1.0365297 | J19: MAGNETOMETER | K19: Gauss | O19: Manufactured | P19: HMC5883L.pdf | Q19: The 3-axis (X/Y/Z) reading of the magnetometer placed on the -X facing panel of GRIFEX. | R19: OSC | S19: YES (12/7/2021 MJ) RNG, RAT
A20: X | B20: X | F20: SOLAR | G20: -X MAG Y | I20: -0.02739726 | J20: MAGNETOMETER | K20: Gauss | O20: Manufactured | P20: HMC5883L.pdf | Q20: ∴ | R20: OSC | S20: YES (12/7/2021 MJ) RNG, RAT
A21: X | B21: X | F21: SOLAR | G21: -X MAG Z | I21: 1.0639269 | J21: MAGNETOMETER | K21: Gauss | O21: Manufactured | P21: HMC5883L.pdf | Q21: ∴ | R21: OSC | S21: YES (12/7/2021 MJ) RNG, RAT
A22: X | B22: X | F22: SOLAR | G22: -X Photodiode | I22: 1.027832 | J22: PHOTODIODE | K22: V | O22: Manufactured | P22: SFH 2430_EN.pdf | Q22: Photodiode on -X solar panel. | R22: OSC | S22: YES (12/7/2021 MJ) RNG, RAT
A23: X | B23: X | F23: SOLAR | G23: -X external temperature | I23: 10.670811 | J23: TEMPERATURE | K23: °C | O23: Manufactured | P23: 497-5970-1-ND.pdf | Q23: Internal/External Temperatures near -X solar panel. | R23: OSC | S23: YES (12/7/2021 MJ) RNG, RAT | T23: STMicroelectronics STLM20W87F - jwc
A24: X | B24: X | F24: SOLAR | G24: -X internal temperature | I24: 8.8781188 | J24: TEMPERATURE | K24: °C | O24: Manufactured | P24: 497-5970-1-ND.pdf | Q24: ∴ | R24: OSC | S24: YES (12/7/2021 MJ) RNG, RAT | T24: STMicroelectronics STLM20W87F - jwc
A25: X | B25: X | F25: SOLAR | G25: -Y MAG X | I25: 0.84018265 | J25: MAGNETOMETER | K25: Gauss | O25: Manufactured | P25: HMC5883L.pdf | Q25: The 3-axis (X/Y/Z) reading of the magnetometer placed on the -Y facing panel of GRIFEX. | R25: OSC | S25: YES (12/7/2021 MJ) RNG, RAT
A26: X | B26: X | F26: SOLAR | G26: -Y MAG Y | I26: 0.077625571 | J26: MAGNETOMETER | K26: Gauss | O26: Manufactured | P26: HMC5883L.pdf | Q26: ∴ | R26: OSC | S26: YES (12/7/2021 MJ) RNG, RAT
A27: X | B27: X | F27: SOLAR | G27: -Y MAG Z | I27: 0.16894977 | J27: MAGNETOMETER | K27: Gauss | O27: Manufactured | P27: HMC5883L.pdf | Q27: ∴ | R27: OSC | S27: YES (12/7/2021 MJ) RNG, RAT
A28: X | B28: X | F28: SOLAR | G28: -Y Photodiode | I28: 1.0028076 | J28: PHOTODIODE | K28: V | O28: Manufactured | P28: SFH 2430_EN.pdf | Q28: Photodiode on -Y solar panel. | R28: OSC | S28: YES (12/7/2021 MJ) RNG, RAT
A29: X | B29: X | F29: SOLAR | G29: -Y external temperature | I29: 41.856389 | J29: TEMPERATURE | K29: °C | O29: Manufactured | P29: 497-5970-1-ND.pdf | Q29: Internal/External Temperatures near -Y solar panel. | R29: OSC | S29: YES (12/7/2021 MJ) RNG, RAT | T29: STMicroelectronics STLM20W87F - jwc
A30: X | B30: X | F30: SOLAR | G30: -Y internal temperature | I30: 39.686966 | J30: TEMPERATURE | K30: °C | O30: Manufactured | P30: 497-5970-1-ND.pdf | Q30: ∴ | R30: OSC | S30: YES (12/7/2021 MJ) RNG, RAT | T30: STMicroelectronics STLM20W87F - jwc
A31: X | B31: X | F31: EPS | G31: 3.3V Bus Current | I31: 0.157 | J31: CURRENT | K31: A | O31: In-House | Q31: Current in the 3.3V rail in the bus. | R31: OSC | S31: YES (12/7/2021 MJ) RNG, RAT
A32: X | B32: X | F32: EPS | G32: 3.3V Bus Voltage | I32: 3.327 | J32: VOLTAGE | K32: V | O32: In-House | Q32: Voltage in the 3.3V rail in the bus. | R32: OSC | S32: YES (12/7/2021 MJ) RNG, RAT
A33: X | B33: X | F33: EPS | G33: 3.3V Input Current | I33: 0.087 | J33: CURRENT | K33: A | O33: In-House | R33: OSC | S33: YES (12/7/2021 MJ) RNG, RAT
A34: X | B34: X | F34: EPS | G34: 5V Bus Current | I34: 0.029 | J34: CURRENT | K34: A | O34: In-House | Q34: Current in the 5.0V rail in the bus. | R34: OSC | S34: YES (12/7/2021 MJ) RNG, RAT
A35: X | B35: X | F35: EPS | G35: 5V Bus Voltage | I35: 5.0421 | J35: VOLTAGE | K35: V | O35: In-House | Q35: Voltage in the 5.0V rail in the bus. Should be ~5V with an unknown tolerance. | R35: OSC | S35: YES (12/7/2021 MJ) RNG, RAT
A36: X | B36: X | F36: EPS | G36: 5V Input Current | I36: 0.019 | J36: CURRENT | K36: A | O36: In-House | R36: OSC | S36: YES (12/7/2021 MJ) RNG, RAT
A37: - | B37: - | F37: FCPU | G37: @timestamp | I37: 2021-02-03T09:24:06Z | J37: TIME | K37: N/A | O37: In-House | S37: NO (12/9/2021 MJ) | T37: Split the variable into it's seperate parts and write a spec for each.
A38: X | B38: X | F38: FCPU | G38: ADCS Enable Status | I38: 1 | J38: STATUS | K38: N/A | O38: In-House | Q38: A boolean value for whether the Attitude Determination and Control System is active. If it's 0, then the craft is ostensibly not using the system and thus not pointing anywhere specifically. I've personally never seen it at this value, so I believe that this system is essentially always active. | R38: DNC | S38: YES (12/9/2021 MJ) RNG, RAT | T38: the data does not appear to change for the most part, but has some extraneous data points and displays data from 1920
A39: X | B39: X | F39: TCB | G39: ADCS1 IOE MODE | I39: 192 | J39: MODE | K39: N/A | O39: In-House | Q39: The ADCS uses different algorithms to calculate the actions it should take to point in the right direction. To the best of my knowledge [not supported by documentation], these algorithms each have a mode number and the system may switch between them. This number distinguish which algorithm is in use currently. Should keep a time record of this to see if it ever changes. | R39: DNC | S39: YES (12/9/2021 MJ) RNG, RAT | T39: the data does not appear to change for the most part, but has some extraneous data points and displays data from 1920
A40: X | B40: X | F40: TCB | G40: ADCS1 IOE STATE | I40: 0 | J40: STATUS | K40: N/A | O40: In-House | Q40: Still an unknown; need to dig into coding and documentation with JWC. | R40: DNC | S40: YES (12/9/2021 MJ) RNG, RAT | T40: the data does not appear to change for the most part, but has some extraneous data points and displays data from 1920
A41: X | B41: X | F41: EPS | G41: Battery Bus Current | I41: 0.584 | J41: CURRENT | K41: A | O41: Manufactured | Q41: Current (A) reading after a protection switch between the battery and the main bus. "Bus-side current reading." | R41: DNC | S41: YES (12/9/2021 MJ) RNG, RAT | T41: the data does not appear to change for the most part, but has some extraneous data points and displays data from 1920
A42: X | B42: X | F42: EPS | G42: Battery Bus Voltage | I42: 8.1686 | J42: VOLTAGE | K42: V | O42: Manufactured | Q42: Voltage (V) reading after a protection switch between the battery and the main bus. "Bus-side voltage reading." Should be very close to 8.4 V, insubstantially higher than the Battery Voltage, to an unknown tolerance. | R42: OSC | S42: YES (12/9/2021 MJ) RNG, RAT | T42: The data appears to be variable with extraneous data points and displays data from 1920
A43: X | B43: X | F43: EPS | G43: Battery Current | I43: 0.054 | J43: CURRENT | K43: A | O43: Manufactured | Q43: Current (A) reading before a protection switch between the battery and the main bus. | R43: OSC | S43: YES (12/9/2021 MJ) RNG, RAT | T43: The data appears to be variable with extraneous data points and displays data from 1920
A44: X | B44: X | F44: EPS | G44: Battery Temperature | I44: -4.0803657 | J44: TEMPERATURE | K44: °C | O44: Manufactured | P44: 497-5970-1-ND.pdf | Q44: The temperature in the 8.4V battery. | R44: OSC | S44: YES (12/9/2021 MJ) RNG, RAT | T44: The data appears to be variable with extraneous data points and displays data from 1920
A45: X | B45: X | F45: EPS | G45: Battery Voltage | I45: 8.1774 | J45: VOLTAGE | K45: V | O45: Manufactured | Q45: Voltage (V) reading before a protection switch between the battery and the main bus. This should always be near 8.4 V with an unknown tolerance. | R45: OSC | S45: YES (12/9/2021 MJ) RNG, RAT | T45: The data appears to be variable with extraneous data points and displays data from 1920
A46: X | B46: X | F46: EPS | G46: Channel 1 board temperature | I46: -4.0803657 | J46: TEMPERATURE | K46: °C | O46: Manufactured | P46: 497-5970-1-ND.pdf | R46: OSC | S46: YES (12/9/2021 MJ) RNG, RAT | T46: The data appears to be variable with extraneous data points and displays data from 1920
A47: X | B47: X | C47: X | F47: EPS | G47: Channel 1 module temperature | I47: -3.4815633 | J47: TEMPERATURE | K47: °C | O47: Manufactured | P47: 497-5970-1-ND.pdf | R47: OSC | S47: YES (12/9/2021 MJ) RNG, RAT | T47: The data appears to be variable with extraneous data points and displays data from 1920
A48: X | B48: X | F48: EPS | G48: Channel 1 output current | I48: 0.454 | J48: CURRENT | K48: A | O48: Manufactured | P48: BTJM_Web.pdf | R48: OSC | S48: YES (12/9/2021 MJ) RNG, RAT | T48: The data appears to be variable with extraneous data points and displays data from 1920
A49: X | B49: X | C49: X | F49: EPS | G49: Channel 1 output voltage | I49: 8.5602 | J49: VOLTAGE | K49: V | O49: Manufactured | P49: BTJM_Web.pdf | R49: OSC | S49: YES (12/9/2021 MJ) RNG, RAT | T49: The data appears to be variable with extraneous data points and displays data from 1920
A50: X | B50: X | F50: EPS | G50: Channel 1 panel current B | I50: 0.309 | J50: CURRENT | K50: A | O50: Manufactured | P50: BTJM_Web.pdf | R50: OSC | S50: YES (12/9/2021 MJ) RNG, RAT | T50: The data appears to be variable with extraneous data points and displays data from 1920
A51: X | B51: X | F51: EPS | G51: Channel 1 panel voltage B | I51: 13.40562 | J51: VOLTAGE | K51: V | O51: Manufactured | P51: BTJM_Web.pdf | R51: OSC | S51: YES (12/9/2021 MJ) RNG, RAT | T51: The data appears to be variable with extraneous data points and displays data from 1920
A52: X | B52: X | F52: EPS | G52: Channel 2 board temperature | I52: -4.5080816 | J52: TEMPERATURE | K52: °C | O52: Manufactured | P52: 497-5970-1-ND.pdf | R52: OSC | S52: YES (12/9/2021 MJ) RNG, RAT | T52: The data appears to be variable with extraneous data points and displays data from 1920
A53: X | B53: X | C53: X | F53: EPS | G53: Channel 2 module temperature | I53: -4.251452 | J53: TEMPERATURE | K53: °C | O53: Manufactured | P53: 497-5970-1-ND.pdf | R53: OSC | S53: YES (12/9/2021 MJ) RNG, RAT | T53: The data appears to be variable with extraneous data points and displays data from 1920
A54: X | B54: X | F54: EPS | G54: Channel 2 output current | I54: 0.001 | J54: CURRENT | K54: A | O54: Manufactured | P54: BTJM_Web.pdf | R54: OSC | S54: YES (12/9/2021 MJ) RNG, RAT | T54: The data appears to be variable with extraneous data points and displays data from 1920
A55: X | B55: X | C55: X | F55: EPS | G55: Channel 2 output voltage | I55: 0.3036 | J55: VOLTAGE | K55: V | O55: Manufactured | P55: BTJM_Web.pdf | R55: OSC | S55: YES (12/9/2021 MJ) RNG, RAT | T55: The data appears to be variable with extraneous data points and displays data from 1920
A56: X | B56: X | F56: EPS | G56: Channel 2 panel current B | I56: 0.0026 | J56: CURRENT | K56: A | O56: Manufactured | P56: BTJM_Web.pdf | R56: OSC | S56: YES (12/9/2021 MJ) RNG, RAT | T56: The data appears to be variable with extraneous data points and displays data from 1920
A57: X | B57: X | F57: EPS | G57: Channel 2 panel voltage B | I57: 6.75073 | J57: VOLTAGE | K57: V | O57: Manufactured | P57: BTJM_Web.pdf | R57: OSC | S57: YES (12/9/2021 MJ) RNG, RAT | T57: The data appears to be variable with extraneous data points and displays data from 1920
A58: X | B58: X | F58: EPS | G58: Channel 3 board temperature | I58: -4.8502544 | J58: TEMPERATURE | K58: °C | O58: Manufactured | P58: 497-5970-1-ND.pdf | R58: OSC | S58: YES (12/9/2021 MJ) RNG, RAT | T58: The data appears to be variable with extraneous data points and displays data from 1920
A59: X | B59: X | C59: X | F59: EPS | G59: Channel 3 module temperature | I59: -4.679168 | J59: TEMPERATURE | K59: °C | O59: Manufactured | P59: 497-5970-1-ND.pdf | R59: OSC | S59: YES (12/9/2021 MJ) RNG, RAT | T59: The data appears to be variable with extraneous data points and displays data from 1920
A60: X | B60: X | F60: EPS | G60: Channel 3 output current | I60: 0.328 | J60: CURRENT | K60: A | O60: Manufactured | P60: BTJM_Web.pdf | R60: OSC | S60: YES (12/9/2021 MJ) RNG, RAT | T60: The data appears to be variable with extraneous data points and displays data from 1920
A61: X | B61: X | C61: X | F61: EPS | G61: Channel 3 output voltage | I61: 8.58 | J61: VOLTAGE | K61: V | O61: Manufactured | P61: BTJM_Web.pdf | R61: OSC | S61: YES (12/9/2021 MJ) RNG, RAT | T61: The data appears to be variable with extraneous data points and displays data from 1920
A62: X | B62: X | F62: EPS | G62: Channel 3 panel current B | I62: 0.1912 | J62: CURRENT | K62: A | O62: Manufactured | P62: BTJM_Web.pdf | R62: OSC | S62: YES (12/9/2021 MJ) RNG, RAT | T62: The data appears to be variable with extraneous data points and displays data from 1920
A63: X | B63: X | F63: EPS | G63: Channel 3 panel voltage B | I63: 16.01726 | J63: VOLTAGE | K63: V | O63: Manufactured | P63: BTJM_Web.pdf | R63: OSC | S63: YES (12/9/2021 MJ) RNG, RAT | T63: The data appears to be variable with extraneous data points and displays data from 1920
A64: X | B64: X | F64: EPS | G64: Channel 4 board temperature | I64: -4.9357976 | J64: TEMPERATURE | K64: °C | O64: Manufactured | P64: 497-5970-1-ND.pdf | R64: OSC | S64: YES (12/9/2021 MJ) RNG, RAT | T64: The data appears to be variable with extraneous data points and displays data from 1920
A65: X | B65: X | C65: X | F65: EPS | G65: Channel 4 module temperature | I65: -5.0213408 | J65: TEMPERATURE | K65: °C | O65: Manufactured | P65: 497-5970-1-ND.pdf | R65: OSC | S65: YES (12/9/2021 MJ) RNG, RAT | T65: The data appears to be variable with extraneous data points and displays data from 1920
A66: X | B66: X | F66: EPS | G66: Channel 4 output current | I66: 0.003 | J66: CURRENT | K66: A | O66: Manufactured | P66: BTJM_Web.pdf | R66: OSC | S66: YES (12/9/2021 MJ) RNG, RAT | T66: The data appears to be variable with extraneous data points and displays data from 1920
A67: X | B67: X | F67: EPS | G67: Channel 4 output voltage | I67: 8.3974 | J67: VOLTAGE | K67: V | O67: Manufactured | P67: BTJM_Web.pdf | R67: OSC | S67: YES (12/9/2021 MJ) RNG, RAT | T67: The data appears to be variable with extraneous data points and displays data from 1920
A68: X | B68: X | F68: EPS | G68: Channel 4 panel current B | I68: 0.0002 | J68: CURRENT | K68: A | O68: Manufactured | P68: BTJM_Web.pdf | R68: OSC | S68: YES (12/9/2021 MJ) RNG, RAT | T68: The data appears to be variable with extraneous data points and displays data from 1920
A69: X | B69: X | F69: EPS | G69: Channel 4 panel voltage B | I69: 12.1597 | J69: VOLTAGE | K69: V | O69: Manufactured | P69: BTJM_Web.pdf | R69: OSC | S69: YES (12/9/2021 MJ) RNG, RAT | T69: The data appears to be variable with extraneous data points and displays data from 1920
A70: X | B70: X | F70: FCPU | G70: Datamnt Usage | I70: 478.916 | J70: MEMORY | K70: MB | O70: In-House | P70: 500 Mb memory card, common sense | Q70: The amount of space for digital storage on the craft; there is a limit of 500 MB, and if the storage capacity is reached, the satellite cannot function properly. | R70: DNC | S70: YES (12/9/2021 MJ) RNG, RAT | T70: the data does not appear to change for the most part, but has some extraneous data points and displays data from 1920
A71: X | B71: X | F71: EPS | G71: EPS 3.3 Voltage | I71: 3.325 | J71: VOLTAGE | K71: V | O71: In-House | P71: 296-11039-1-ND.pdf | R71: DNC | S71: YES (12/9/2021 MJ) RNG, RAT | T71: the data does not appear to change for the most part, but has some extraneous data points and displays data from 1920
A72: X | B72: X | F72: EPS | G72: EPS 3.3V Current | I72: 0.01488 | J72: CURRENT | K72: A | O72: In-House | P72: 296-11039-1-ND.pdf | R72: DNC | S72: YES (12/9/2021 MJ) RNG, RAT | T72: the data does not appear to change for the most part, but has some extraneous data points and displays data from 1920
A73: X | B73: X | F73: EPS | G73: EPS 5V Current | I73: 0.0108 | J73: CURRENT | K73: A | O73: In-House | P73: 296-11039-1-ND.pdf | R73: OSC | S73: YES (12/9/2021 MJ) RNG, RAT | T73: The data appears to be variable with extraneous data points and displays data from 1920
A74: X | B74: X | F74: EPS | G74: EPS 5V Voltage | I74: 5.04798 | J74: VOLTAGE | K74: V | O74: In-House | P74: 296-11039-1-ND.pdf | R74: DNC | S74: YES (12/9/2021 MJ) RNG, RAT | T74: the data does not appear to change for the most part, but has some extraneous data points and displays data from 1920
A75: X | B75: X | F75: EPS | G75: EPS IOE MODE | I75: 252 | J75: MODE | K75: N/A | O75: In-House | R75: DNC | S75: YES (12/9/2021 MJ) RNG, RAT | T75: the data does not appear to change for the most part, but has some extraneous data points and displays data from 1920
A76: X | B76: X | F76: EPS | G76: EPS IOE STATE | I76: 253 | J76: STATUS | K76: N/A | O76: In-House | R76: DNC | S76: YES (12/9/2021 MJ) RNG, RAT | T76: the data does not appear to change for the most part, but has some extraneous data points and displays data from 1920
A77: X | B77: X | F77: FCPU | G77: FCPU 3V3 Current | I77: 9.5 | J77: CURRENT | K77: A | O77: In-House (2 board structure) | P77: 497-5970-1-ND.pdf | R77: DNC | S77: YES (12/9/2021 MJ) RNG, RAT | T77: the data does not appear to change for the most part, but has some extraneous data points and displays data from 1920
A78: X | B78: X | F78: FCPU | G78: FCPU 3V3 Voltage | I78: 3.329 | J78: VOLTAGE | K78: V | O78: In-House (2 board structure) | P78: 497-5970-1-ND.pdf | R78: DNC | S78: YES (12/9/2021 MJ) RNG, RAT | T78: the data does not appear to change for the most part, but has some extraneous data points and displays data from 1920
A79: X | B79: X | C79: X | F79: FCPU | G79: FCPU TEMP 0 | I79: -1.228431 | J79: TEMPERATURE | K79: °C | O79: In-House (2 board structure) | P79: 497-5970-1-ND.pdf | R79: OSC | S79: YES (12/9/2021 MJ) RNG, RAT, REL | T79: The data appears to be variable with extraneous data points and displays data from 1920
A80: X | B80: X | C80: X | F80: FCPU | G80: FCPU TEMP 1 | I80: 7.3624779 | J80: TEMPERATURE | K80: °C | O80: In-House (2 board structure) | P80: 497-5970-1-ND.pdf | R80: OSC | S80: YES (12/9/2021 MJ) RNG, RAT, REL | T80: The data appears to be variable with extraneous data points and displays data from 1920
A81: X | B81: X | F81: FCPU | G81: LI 3V3 Current | I81: 4.6 | J81: CURRENT | K81: mA | O81: AstroDev | P81: Lithium.pdf | R81: OSC | S81: YES (12/9/2021 MJ) RNG, RAT | T81: The data appears to be variable with extraneous data points and displays data from 1920
A82: X | B82: X | F82: FCPU | G82: LI 3V3 Voltage | I82: 3.326 | J82: VOLTAGE | K82: V | O82: AstroDev | P82: Lithium.pdf | R82: OSC | S82: YES (12/9/2021 MJ) RNG, RAT | T82: The data appears to be variable with extraneous data points and displays data from 1920
A83: X | B83: X | F83: FCPU | G83: LI VBATT Current | I83: 59.1 | J83: CURRENT | K83: mA | O83: AstroDev | P83: Lithium.pdf | R83: DNC | S83: YES (12/9/2021 MJ) RNG, RAT | T83: the data does not appear to change for the most part, but has some extraneous data points and displays data from 1920
A84: X | B84: X | F84: FCPU | G84: LI VBATT Voltage | I84: 8.1466 | J84: VOLTAGE | K84: V | O84: AstroDev | P84: Lithium.pdf | R84: OSC | S84: YES (12/9/2021 MJ) RNG, RAT | T84: The data appears to be variable with extraneous data points and displays data from 1920
A85: X | B85: X | F85: FCPU | G85: Lithium #RX | I85: 19313 | J85: COUNT | K85: bytes | O85: AstroDev | P85: Lithium.pdf | Q85: Lithium acts as the radio onboard GRIFEX. RX stands for receive, and the RX number is the number of bytes that have been received by the radio during a certain timeframe. | R85: DNC | S85: YES (12/9/2021 MJ) RNG, RAT | T85: the data does not appear to change for the most part, but has some extraneous data points and displays data from 1920
A86: X | B86: X | F86: FCPU | G86: Lithium #TX | I86: 3319011 | J86: COUNT | K86: bytes | O86: AstroDev | P86: Lithium.pdf | Q86: Lithium acts as the radio onboard GRIFEX. TX stands for transmit, and the TX number is the number of bytes that have been transmitted by STAMPS, the onboard flight computer, to the ground station during a certain timeframe. | R86: OSC | S86: YES (12/9/2021 MJ) RNG, RAT | T86: The data appears to be variable with extraneous data points and displays data from 1920
A87: X | B87: X | F87: FCPU | G87: Lithium MSP430 Temp | I87: 20 | J87: TEMPERATURE | K87: °C | O87: AstroDev | P87: Lithium.pdf | R87: OSC | S87: YES (12/9/2021 MJ) RNG, RAT | T87: The data appears to be variable with extraneous data points and displays data from 1920
A88: X | B88: X | F88: FCPU | G88: Lithium Op Count | I88: 19925 | J88: COUNT | K88: N/A | O88: AstroDev | P88: Lithium.pdf | Q88: The number of transmissions, receptions, and commands sent to the lithium radio. | R88: OSC | S88: YES (12/9/2021 MJ) RNG, RAT | T88: The data appears to be variable with extraneous data points and displays data from 1920
A89: X | B89: - | F89: FCPU | G89: Lithium RSSI | I89: 72 | J89: OTHER | K89: dBm | O89: AstroDev | P89: Common Sense | Q89: Received-Strength-Signal-Indication, a measure of signal power of a receiving device. Measured in decibel-milliwatts. | R89: OSC | S89: YES (12/9/2021 MJ) RNG | T89: The data appears to be variable with extraneous data points and displays data from 1920
A90: X | B90: X | F90: MARINA | G90: MARINA 1.0V Voltage | I90: 0 | J90: VOLTAGE | K90: V | O90: NASA | P90: GRIFEX Ops Documentation.pdf | R90: DNC | S90: YES (12/9/2021 MJ) RNG, RAT | T90: the data does not appear to change for the most part, but has some extraneous data points and displays data from 1920
A91: X | B91: X | F91: MARINA | G91: MARINA 2.5V Voltage | I91: 0 | J91: VOLTAGE | K91: V | O91: NASA | P91: GRIFEX Ops Documentation.pdf | R91: DNC | S91: YES (12/9/2021 MJ) RNG, RAT | T91: the data does not appear to change for the most part, but has some extraneous data points and displays data from 1920
A92: X | B92: X | F92: MARINA | G92: MARINA Temperature | I92: -4.4537815 | J92: TEMPERATURE | K92: °C | O92: NASA | P92: Common Sense | R92: OSC | S92: YES (12/9/2021 MJ) RNG, RAT | T92: The data appears to be variable with extraneous data points and displays data from 1920
A93: X | B93: X | F93: MARINA | G93: MARINA VBATT Current | I93: 0 | J93: CURRENT | K93: A | O93: NASA | P93: GRIFEX Ops Documentation.pdf | R93: OSC | S93: YES (12/9/2021 MJ) RNG, RAT | T93: The data appears to be variable with extraneous data points and displays data from 1920
A94: X | B94: X | F94: MARINA | G94: MARINA VBATT Voltage | I94: 0 | J94: VOLTAGE | K94: V | O94: NASA | P94: GRIFEX Ops Documentation.pdf | R94: OSC | S94: YES (12/9/2021 MJ) RNG, RAT | T94: The data appears to be variable with extraneous data points and displays data from 1920
A95: X | B95: X | F95: MARINA | G95: MARINA exit status | I95: 0 | J95: STATUS | K95: N/A | O95: NASA | P95: GRIFEX Ops Documentation.pdf | R95: DNC | S95: YES (12/9/2021 MJ) RNG, RAT | T95: the data does not appear to change for the most part, but has some extraneous data points and displays data from 1920
A96: X | B96: X | F96: SOLAR | G96: MZINT IOE1 MODE | I96: 51 | J96: MODE | K96: N/A | O96: In-House | R96: DNC | S96: YES (12/9/2021 MJ) RNG, RAT | T96: the data does not appear to change for the most part, but has some extraneous data points and displays data from 1920
A97: X | B97: - | F97: SOLAR | G97: MZINT IOE1 STATE | I97: 184 | J97: STATUS | K97: N/A | O97: In-House | R97: OSC | S97: YES (12/9/2021 MJ) RNG | T97: The data appears to be variable with extraneous data points and displays data from 1920
A98: X | B98: X | F98: SOLAR | G98: MZINT IOE2 MODE | I98: 51 | J98: MODE | K98: N/A | O98: In-House | R98: DNC | S98: YES (12/9/2021 MJ) RNG, RAT | T98: the data does not appear to change for the most part, but has some extraneous data points and displays data from 1920
A99: X | B99: - | F99: SOLAR | G99: MZINT IOE2 STATE | I99: 139 | J99: STATUS | K99: N/A | O99: In-House | R99: OSC | S99: YES (12/9/2021 MJ) RNG | T99: The data appears to be variable with extraneous data points and displays data from 1920
A100: X | B100: X | F100: MARINA | G100: Marina Aborted Runs | I100: 16 | J100: COUNT | K100: N/A | O100: NASA | P100: GRIFEX Ops Documentation.pdf | R100: DNC | S100: YES (12/9/2021 MJ) RNG, RAT | T100: the data does not appear to change for the most part, but has some extraneous data points and displays data from 1920
...

Sheet Raw_Data
G1: raw_+X MAG X | I1: 134 | J1: MAGNETOMETER
G2: raw_+X MAG Y | I2: -79 | J2: MAGNETOMETER
G3: raw_+X MAG Z | I3: -39 | J3: MAGNETOMETER
G4: raw_+X Photodiode | I4: 30 | J4: PHOTODIODE
A5: X | G5: raw_+X external temperature | I5: 3483 | J5: TEMPERATURE | K5: °C
A6: X | G6: raw_+X internal temperature | I6: 3500 | J6: TEMPERATURE | K6: °C
G7: raw_+Y MAG X | I7: 85 | J7: MAGNETOMETER
G8: raw_+Y MAG Y | I8: 20 | J8: MAGNETOMETER
G9: raw_+Y MAG Z | I9: -108 | J9: MAGNETOMETER
G10: raw_+Y Photodiode | I10: 20 | J10: PHOTODIODE
A11: X | G11: raw_+Y external temperature | I11: 3646 | J11: TEMPERATURE | K11: °C
A12: X | G12: raw_+Y internal temperature | I12: 3647 | J12: TEMPERATURE | K12: °C
G13: raw_-X MAG X | I13: 227 | J13: MAGNETOMETER
G14: raw_-X MAG Y | I14: -6 | J14: MAGNETOMETER
G15: raw_-X MAG Z | I15: 233 | J15: MAGNETOMETER
G16: raw_-X Photodiode | I16: 1684 | J16: PHOTODIODE
A17: X | G17: raw_-X external temperature | I17: 2852 | J17: TEMPERATURE | K17: °C
A18: X | G18: raw_-X internal temperature | I18: 2886 | J18: TEMPERATURE | K18: °C
G19: raw_-Y MAG X | I19: 184 | J19: MAGNETOMETER
G20: raw_-Y MAG Y | I20: 17 | J20: MAGNETOMETER
G21: raw_-Y MAG Z | I21: 37 | J21: MAGNETOMETER
G22: raw_-Y Photodiode | I22: 1643 | J22: PHOTODIODE
A23: X | G23: raw_-Y external temperature | I23: 2254 | J23: TEMPERATURE | K23: °C
A24: X | G24: raw_-Y internal temperature | I24: 2296 | J24: TEMPERATURE | K24: °C
G25: raw_3.3V Bus Current | I25: 157 | J25: CURRENT | K25: mA
G26: raw_3.3V Bus Voltage | I26: 3327 | J26: VOLTAGE | K26: mV
G27: raw_3.3V Input Current | I27: 87 | J27: CURRENT | K27: mA
G28: raw_5V Bus Current | I28: 29 | J28: CURRENT | K28: mA
G29: raw_5V Bus Voltage | I29: 3430 | J29: VOLTAGE | K29: mV
G30: raw_5V Input Current | I30: 19 | J30: CURRENT | K30: mA
G31: raw_ADCS Enable Status | I31: 1
G32: raw_ADCS1 IOE MODE | I32: 192
G33: raw_ADCS1 IOE STATE | I33: 0
G34: raw_Battery Bus Current | I34: 584 | J34: CURRENT | K34: mA
G35: raw_Battery Bus Voltage | I35: 3713 | J35: VOLTAGE | K35: mV
G36: raw_Battery Current | I36: 1527 | J36: CURRENT | K36: mA
A37: X | G37: raw_Battery Temperature | I37: 1914 | J37: TEMPERATURE | K37: °C
G38: raw_Battery Voltage | I38: 3717 | J38: VOLTAGE | K38: mV
A39: X | G39: raw_Channel 1 board temperature | I39: 1914 | J39: TEMPERATURE | K39: °C
A40: X | G40: raw_Channel 1 module temperature | I40: 1907 | J40: TEMPERATURE | K40: °C
G41: raw_Channel 1 output current | I41: 454 | J41: CURRENT | K41: mA
G42: raw_Channel 1 output voltage | I42: 3891 | J42: VOLTAGE | K42: mV
G43: raw_Channel 1 panel current B | I43: 1545 | J43: CURRENT | K43: mA
G44: raw_Channel 1 panel voltage B | I44: 2238 | J44: VOLTAGE | K44: mV
A45: X | G45: raw_Channel 2 board temperature | I45: 1919 | J45: TEMPERATURE | K45: °C
A46: X | G46: raw_Channel 2 module temperature | I46: 1916 | J46: TEMPERATURE | K46: °C
G47: raw_Channel 2 output current | I47: 1 | J47: CURRENT | K47: mA
G48: raw_Channel 2 output voltage | I48: 138 | J48: VOLTAGE | K48: mV
G49: raw_Channel 2 panel current B | I49: 13 | J49: CURRENT | K49: mA
G50: raw_Channel 2 panel voltage B | I50: 1127 | J50: VOLTAGE | K50: mV
A51: X | G51: raw_Channel 3 board temperature | I51: 1923 | J51: TEMPERATURE | K51: °C
A52: X | G52: raw_Channel 3 module temperature | I52: 1921 | J52: TEMPERATURE | K52: °C
G53: raw_Channel 3 output current | I53: 328 | J53: CURRENT | K53: mA
G54: raw_Channel 3 output voltage | I54: 3900 | J54: VOLTAGE | K54: mV
G55: raw_Channel 3 panel current B | I55: 956 | J55: CURRENT | K55: mA
G56: raw_Channel 3 panel voltage B | I56: 2674 | J56: VOLTAGE | K56: mV
A57: X | G57: raw_Channel 4 board temperature | I57: 1924 | J57: TEMPERATURE | K57: °C
A58: X | G58: raw_Channel 4 module temperature | I58: 1925 | J58: TEMPERATURE | K58: °C
G59: raw_Channel 4 output current | I59: 3 | J59: CURRENT | K59: mA
G60: raw_Channel 4 output voltage | I60: 3817 | J60: VOLTAGE | K60: mV
G61: raw_Channel 4 panel current B | I61: 1 | J61: CURRENT | K61: mA
G62: raw_Channel 4 panel voltage B | I62: 2030 | J62: VOLTAGE | K62: mV
G63: raw_Datamnt Usage | I63: 478916 | J63: MEMORY
G64: raw_EPS 3.3 Voltage | I64: 3325 | J64: VOLTAGE | K64: mV
G65: raw_EPS 3.3V Current | I65: 186 | J65: CURRENT | K65: mA
G66: raw_EPS 5V Current | I66: 135 | J66: CURRENT | K66: mA
G67: raw_EPS 5V Voltage | I67: 3434 | J67: VOLTAGE | K67: mV
G68: raw_EPS IOE MODE | I68: 252
G69: raw_EPS IOE STATE | I69: 253
G70: raw_FCPU 3V3 Current | I70: 95 | J70: CURRENT | K70: mA
G71: raw_FCPU 3V3 Voltage | I71: 3329 | J71: VOLTAGE | K71: mV
A72: X | G72: raw_FCPU TEMP 0 | I72: 1878 | J72: TEMPERATURE | K72: °C
A73: X | G73: raw_FCPU TEMP 1 | I73: 1779 | J73: TEMPERATURE | K73: °C
G74: raw_LI 3V3 Current | I74: 46 | J74: CURRENT | K74: mA
G75: raw_LI 3V3 Voltage | I75: 3326 | J75: VOLTAGE | K75: mV
G76: raw_LI VBATT Current | I76: 591 | J76: CURRENT | K76: mA
G77: raw_LI VBATT Voltage | I77: 3703 | J77: VOLTAGE | K77: mV
G78: raw_Lithium #RX | I78: 19313 | J78: COUNT
G79: raw_Lithium #TX | I79: 3319011 | J79: COUNT
A80: X | G80: raw_Lithium MSP430 Temp | I80: 20 | J80: TEMPERATURE | K80: °C
G81: raw_Lithium Op Count | I81: 19925 | J81: COUNT
G82: raw_Lithium RSSI | I82: 72 | J82: OTHER
G83: raw_MARINA 1.0V Voltage | I83: 0 | J83: VOLTAGE | K83: V
G84: raw_MARINA 2.5V Voltage | I84: 0 | J84: VOLTAGE | K84: V
A85: X | G85: raw_MARINA Temperature | I85: 691 | J85: TEMPERATURE | K85: °C
G86: raw_MARINA VBATT Current | I86: 0 | J86: CURRENT | K86: A
G87: raw_MARINA VBATT Voltage | I87: 0 | J87: VOLTAGE | K87: V
G88: raw_MARINA exit status | I88: 0
G89: raw_MZINT IOE1 MODE | I89: 51
G90: raw_MZINT IOE1 STATE | I90: 184
G91: raw_MZINT IOE2 MODE | I91: 51
G92: raw_MZINT IOE2 STATE | I92: 139
G93: raw_Marina Aborted Runs | I93: 16 | J93: COUNT
G94: raw_Marina Completed Runs | I94: 32 | J94: COUNT
G95: raw_Marina GPIO status data | I95: 76
G96: raw_NumResets | I96: 1214 | J96: COUNT
A97: X | G97: raw_Output Regulator Temperature | I97: 1907 | J97: TEMPERATURE | K97: °C
G98: raw_RTC Unix Time | I98: 1612344262 | J98: TIME
G99: raw_SD Usage | I99: 0 | J99: MEMORY
A100: X | G100: raw_TCB TEMP 0 | I100: 1947 | J100: TEMPERATURE | K100: °C
...

Sheet RNG
A1: Identifier | B1: Spec Type | C1: Spec # | D1: Priority | E1: English Spec | F1: Sensors/Signals Needed | G1: Atomic Conversions | H1: MLTL Specification | I1: Trigger | J1: Explanation | K1: Automation Level | L1: Notes | M1: COMPLETED | N1: Has bFile?
A2: CUBE | B2: RNG | C2: 1 | E2: The value of +X external temperature should always be between -55 and 130. | F2: +X external temperature | G2: a0: +X external temperature >= -55 a1: +X external temperature <= 130 | H2: G[0,M] (a0 & a1) | K2: 1 | M2: YES | N2: YES
A3: CUBE | B3: RNG | C3: 2 | E3: The value of +X internal temperature should always be between -55 and 130. | F3: +X internal temperature | G3: a0: +X internal temperature >= -55 a1: +X internal temperature <= 130 | H3: G[0,M] (a0 & a1) | K3: 1 | N3: YES
A4: CUBE | B4: RNG | C4: 3 | E4: The value of +Y external temperature should always be between -55 and 130. | F4: +Y external temperature | G4: a0: +Y external temperature >= -55 a1: +Y external temperature <= 130 | H4: G[0,M] (a0 & a1) | K4: 1 | N4: YES
A5: CUBE | B5: RNG | C5: 4 | E5: The value of +Y internal temperature should always be between -55 and 130. | F5: +Y internal temperature | G5: a0: +Y internal temperature >= -55 a1: +Y internal temperature <= 130 | H5: G[0,M] (a0 & a1) | K5: 1 | N5: YES
A6: CUBE | B6: RNG | C6: 5 | E6: The value of -X external temperature should always be between -55 and 130. | F6: -X external temperature | G6: a0: -X external temperature >= -55 a1: -X external temperature <= 130 | H6: G[0,M] (a0 & a1) | K6: 1 | N6: YES
A7: CUBE | B7: RNG | C7: 6 | E7: The value of -X internal temperature should always be between -55 and 130. | F7: -X internal temperature | G7: a0: -X internal temperature >= -55 a1: -X internal temperature <= 130 | H7: G[0,M] (a0 & a1) | K7: 1 | N7: YES
A8: CUBE | B8: RNG | C8: 7 | E8: The value of -Y external temperature should always be between -55 and 130. | F8: -Y external temperature | G8: a0: -Y external temperature >= -55 a1: -Y external temperature <= 130 | H8: G[0,M] (a0 & a1) | K8: 1 | N8: YES
A9: CUBE | B9: RNG | C9: 8 | E9: The value of -Y internal temperature should always be between -55 and 130. | F9: -Y internal temperature | G9: a0: -Y internal temperature >= -55 a1: -Y internal temperature <= 130 | H9: G[0,M] (a0 & a1) | K9: 1 | N9: YES
A10: CUBE | B10: RNG | C10: 9 | E10: The value of Battery temperature will always be between -55 and 130. | F10: Battery Temperature | G10: a0: Battery temperature >= -55 a1: Battery temperature <= 130 | H10: G[0,M] (a0 & a1) | K10: 1 | N10: YES
A11: CUBE | B11: RNG | C11: 10 | E11: The value of Channel 1 board temperature should always be between -55 and 130. | F11: Channel 1 board temperature | G11: a0: Channel 1 board temperature >= -55 a1: Channel 1 board temperature <= 130 | H11: G[0,M] (a0 & a1) | K11: 1 | N11: YES
A12: CUBE | B12: RNG | C12: 11 | E12: The value of Channel 1 module temperature should always be between -55 and 130. | F12: Channel 1 module temperature | G12: a0: Channel 1 module temperature >= -55 a1: Channel 1 module temperature <= 130 | H12: G[0,M] (a0 & a1) | K12: 1 | N12: YES
A13: CUBE | B13: RNG | C13: 12 | E13: The value of Channel 2 board temperature should always be between -55 and 130. | F13: Channel 2 board temperature | G13: a0: Channel 2 board temperature >= -55 a1: Channel 2 board temperature <= 130 | H13: G[0,M] (a0 & a1) | K13: 1 | N13: YES
A14: CUBE | B14: RNG | C14: 13 | E14: The value of Channel 2 module temperature should always be between -55 and 130. | F14: Channel 2 module temperature | G14: a0: Channel 2 module temperature >= -55 a1: Channel 2 module temperature <= 130 | H14: G[0,M] (a0 & a1) | K14: 1 | N14: YES
... A21: CUBE | B21: RNG | C21: 20 | E21: The value of Lithium MSP430 Temp should always be between -30 and 70. | F21: Lithium MSP430 Temp | G21: a0: Lithium MSP430 Temp >= -30 a1: Lithium MSP430 Temp <= 70 | H21: G[0,M] (a0 & a1) | K21: 1 | N21: YES
A22: CUBE | B22: RNG | C22: 21 | E22: The value of MARINA Temperature should always be between -55 and 130. | F22: MARINA Temperature | G22: a0: MARINA Temperature >= -55 a1: MARINA Temperature <= 130 | H22: G[0,M] (a0 & a1) | K22: 2 | L22: New assumption made 12/7/2021 RNG changed to -55 ~ 130 (MJ) | N22: YES
A23: CUBE | B23: RNG | C23: 22 | E23: The value of Output Regulator Temperature should always be between -55 and 130. | F23: Output Regulator Temperature | G23: a0: Output Regulator Temperature >= -55 a1: Output Regulator Temperature <= 130 | H23: G[0,M] (a0 & a1) | K23: 1 | N23: YES
A24: CUBE | B24: RNG | C24: 23 | E24: The value of TCB TEMP 0 should always be between -55 and 130. | F24: TCB TEMP 0 | G24: a0: TCB TEMP 0 >= -55 a1: TCB TEMP 0 <= 130 | H24: G[0,M] (a0 & a1) | K24: 1 | N24: YES
A25: CUBE | B25: RNG | C25: 24 | E25: The value of TCB TEMP 1 should always be between -55 and 130. | F25: TCB TEMP 1 | G25: a0: TCB TEMP 1 >= -55 a1: TCB TEMP 1 <= 130 | H25: G[0,M] (a0 & a1) | K25: 1 | N25: YES
A26: CUBE | B26: RNG | C26: 25 | E26: The value of TCB TEMP 2 should always be between -55 and 130. | F26: TCB TEMP 2 | G26: a0: TCB TEMP 2 >= -55 a1: TCB TEMP 2 <= 130 | H26: G[0,M] (a0 & a1) | K26: 1 | N26: YES
A27: CUBE | B27: RNG | C27: 26 | E27: The value of LI 3V3 Current should always be between 3 and 6. | F27: LI 3V3 Current | G27: a0: LI 3V3 Current >= 3 a1: LI 3V3 Current <= 6 | H27: G[0,M] (a0 & a1) | K27: 3 | L27: New assumption made 12/7/2021 RNG changed to 3 ~ 6 (MJ) | N27: YES
A28: CUBE | B28: RNG | C28: 27 | E28: The value of LI 3V3 Voltage should always be between 3 and 3.6. | F28: LI 3V3 Voltage | G28: a0: LI 3V3 Voltage >= 3 a1: LI 3V3 Voltage <= 3.6 | H28: G[0,M] (a0 & a1) | K28: 1 | N28: YES
A29: CUBE | B29: RNG | C29: 28 | E29: The value of LI VBATT Current should always be between 0 and 80. | F29: LI VBATT Current | G29: a0: VBATT Current >= 0 a1: VBATT Current <= 80 | H29: G[0,M] (a0 & a1) | K29: 3 | L29: New assumption made 12/7/2021 RNG changed to 0 ~ 80 (MJ) | N29: YES
A30: CUBE | B30: RNG | C30: 29 | E30: The value of LI VBATT Voltage should always be between 5 and 9. | F30: LI VBATT Voltage | G30: a0: VBATT Voltage >= 5 a1: VBATT Voltage <= 9 | H30: G[0,M] (a0 & a1) | K30: 3 | N30: YES
A31: CUBE | B31: RNG | C31: 30 | E31: The value of Lithium RSSI should always be greater than 0. | F31: Lithium RSSI | G31: a0: Lithium RSSI > 0 | H31: G[0,M] (a0) | K31: 3 | N31: YES
A32: CUBE | B32: RNG | C32: 31 | E32: The value of MARINA exit status should always be between 0 and 17. | F32: Marina exit status | G32: a0: MARINA exit status >= 0 a1: MARINA exit status <= 17 | H32: G[0,M] (a0 & a1) | J32: If the MARINA exit status is not one of these values, it is either turned off or non-operational. | K32: 3 | N32: YES
A33: CUBE | B33: RNG | C33: 32 | E33: The value of +X MAG X shall measure between -8 gauss and +8 gauss. | F33: +X MAG X | G33: a0: +X MAG X >= -8 a1: +X MAG X <= 8 | H33: G[0,M] (a0 & a1) | K33: 1 | N33: YES
A34: CUBE | B34: RNG | C34: 33 | E34: The value of +X MAG Y shall measure between -8 gauss and +8 gauss. | F34: +X MAG Y | G34: a0: +X MAG Y >= -8 a1: +X MAG Y <= 8 | H34: G[0,M] (a0 & a1) | K34: 1 | N34: YES
A35: CUBE | B35: RNG | C35: 34 | E35: The value of +X MAG Z shall measure between -8 gauss and +8 gauss. | F35: +X MAG Z | G35: a0: +X MAG Z >= -8 a1: +X MAG Z <= 8 | H35: G[0,M] (a0 & a1) | K35: 1 | N35: YES
A36: CUBE | B36: RNG | C36: 35 | E36: The value of +Y MAG X shall measure between -8 gauss and +8 gauss. | F36: +Y MAG X | G36: a0: +Y MAG X >= -8 a1: +Y MAG X <= 8 | H36: G[0,M] (a0 & a1) | K36: 1 | N36: YES
A37: CUBE | B37: RNG | C37: 36 | E37: The value of +Y MAG Y shall measure between -8 gauss and +8 gauss. | F37: +Y MAG Y | G37: a0: +Y MAG Y >= -8 a1: +Y MAG Y <= 8 | H37: G[0,M] (a0 & a1) | K37: 1 | N37: YES
A38: CUBE | B38: RNG | C38: 37 | E38: The value of +Y MAG Z shall measure between -8 gauss and +8 gauss. | F38: +Y MAG Z | G38: a0: +Y MAG Z >= -8 a1: +Y MAG Z <= 8 | H38: G[0,M] (a0 & a1) | K38: 1 | N38: YES
A39: CUBE | B39: RNG | C39: 38 | E39: The value of -X MAG X shall measure between -8 gauss and +8 gauss. | F39: -X MAG X | G39: a0: -X MAG X >= -8 a1: -X MAG X <= 8 | H39: G[0,M] (a0 & a1) | K39: 1 | N39: YES
A40: CUBE | B40: RNG | C40: 39 | E40: The value of -X MAG Y shall measure between -8 gauss and +8 gauss. | F40: -X MAG Y | G40: a0: -X MAG Y >= -8 a1: -X MAG Y <= 8 | H40: G[0,M] (a0 & a1) | K40: 1 | N40: YES
A41: CUBE | B41: RNG | C41: 40 | E41: The value of -X MAG Z shall measure between -8 gauss and +8 gauss. | F41: -X MAG Z | G41: a0: -X MAG Z >= -8 a1: -X MAG Z <= 8 | H41: G[0,M] (a0 & a1) | K41: 1 | N41: YES
A42: CUBE | B42: RNG | C42: 41 | E42: The value of -Y MAG X shall measure between -8 gauss and +8 gauss. | F42: -Y MAG X | G42: a0: -Y MAG X >= -8 a1: -Y MAG X <= 8 | H42: G[0,M] (a0 & a1) | K42: 1 | N42: YES
A43: CUBE | B43: RNG | C43: 42 | E43: The value of -Y MAG Y shall measure between -8 gauss and +8 gauss. | F43: -Y MAG Y | G43: a0: -Y MAG Y >= -8 a1: -Y MAG Y <= 8 | H43: G[0,M] (a0 & a1) | K43: 1 | N43: YES
A44: CUBE | B44: RNG | C44: 43 | E44: The value of -Y MAG Z shall measure between -8 gauss and +8 gauss. | F44: -Y MAG Z | G44: a0: -Y MAG Z >= -8 a1: -Y MAG Z <= 8 | H44: G[0,M] (a0 & a1) | K44: 1 | N44: YES
... A52: CUBE | B52: RNG | C52: 51 | E52: The value of EPS 5V Current shall always measure between 0 A and 0.1 A. | F52: EPS 5V Current | G52: a0: EPS 5V Current >= 0 a1: EPS 5V Current <= 0.1 | H52: G[0,M] (a0 & a1) | K52: 3 | N52: YES
A53: CUBE | B53: RNG | C53: 52 | D53: 1 | E53: The maximum storage of the FCPU is 500 Mb, so Datamnt Usage should always be between 0 and 500. | F53: Datamnt Usage | G53: a0: Datamnt Usage > 0 a1: Datamnt Usage < 500 | H53: G[0,M] (a0 & a1) | K53: 3 | N53: YES
A54: CUBE | B54: RNG | C54: 53 | D54: 2 | E54: The output voltage of solar panel 1, Channel 1 output voltage, will always read between 0V and V_oc = 16.2V (2.69V * 6). | F54: Channel 1 output voltage | G54: a0: Channel 1 output voltage > 0 a1: Channel 1 output voltage < 16.2 | H54: G[0,M] (a0 & a1) | K54: 2 | N54: YES
A55: CUBE | B55: RNG | C55: 54 | D55: 2 | E55: The output voltage of solar panel 2, Channel 2 output voltage, will always read between 0V and V_oc = 16.2V (2.69V * 6). | F55: Channel 2 output voltage | G55: a0: Channel 2 output voltage > 0 a1: Channel 2 output voltage < 16.2 | H55: G[0,M] (a0 & a1) | K55: 2 | N55: YES
A56: CUBE | B56: RNG | C56: 55 | D56: 2 | E56: The output voltage of solar panel 3, Channel 3 output voltage, will always read between 0V and V_oc = 16.2V (2.69V * 6). | F56: Channel 3 output voltage | G56: a0: Channel 3 output voltage > 0 a1: Channel 3 output voltage < 16.2 | H56: G[0,M] (a0 & a1) | K56: 2 | N56: YES
A57: CUBE | B57: RNG | C57: 56 | D57: 2 | E57: The output voltage of solar panel 4, Channel 4 output voltage, will always read between 0V and V_oc = 16.2V (2.69V * 6). | F57: Channel 4 output voltage | G57: a0: Channel 4 output voltage > 0 a1: Channel 4 output voltage < 16.2 | H57: G[0,M] (a0 & a1) | K57: 2 | N57: YES
A58: CUBE | B58: RNG | C58: 57 | D58: 2 | E58: The value of Channel 1 panel voltage B will always read between 0V and V_oc = 16.2V (2.69V * 6). | F58: Channel 1 panel voltage B | G58: a0: Channel 1 panel voltage B > 0 a1: Channel 1 panel voltage B < 16.2 | H58: G[0,M] (a0 & a1) | K58: 2 | N58: YES
A59: CUBE | B59: RNG | C59: 58 | D59: 2 | E59: The value of Channel 2 panel voltage B will always read between 0V and V_oc = 16.2V (2.69V * 6). | F59: Channel 2 panel voltage B | G59: a0: Channel 2 panel voltage B > 0 a1: Channel 2 panel voltage B < 16.2 | H59: G[0,M] (a0 & a1) | K59: 2 | N59: YES
A60: CUBE | B60: RNG | C60: 59 | D60: 2 | E60: The value of Channel 3 panel voltage B will always read between 0V and V_oc = 16.2V (2.69V * 6). | F60: Channel 3 panel voltage B | G60: a0: Channel 3 panel voltage B > 0 a1: Channel 3 panel voltage B < 16.2 | H60: G[0,M] (a0 & a1) | K60: 2 | N60: YES
A61: CUBE | B61: RNG | C61: 60 | D61: 2 | E61: The value of Channel 4 panel voltage B will always read between 0V and V_oc = 16.2V (2.69V * 6). | F61: Channel 4 panel voltage B | G61: a0: Channel 4 panel voltage B > 0 a1: Channel 4 panel voltage B < 16.2 | H61: G[0,M] (a0 & a1) | K61: 2 | N61: YES
A62: CUBE | B62: RNG | C62: 61 | D62: 2 | E62: The output current of solar panel 1, Channel 1 output current, will always be between 0A and .454A. | F62: Channel 1 output current | G62: a0: Channel 1 output current > 0 a1: Channel 1 output current < .453 | H62: G[0,M] (a0 & a1) | K62: 2 | N62: YES
A63: CUBE | B63: RNG | C63: 62 | D63: 2 | E63: The output current of solar panel 2, Channel 2 output current, will always be between 0A and .454A. | F63: Channel 2 output current | G63: a0: Channel 2 output current > 0 a1: Channel 2 output current < .453 | H63: G[0,M] (a0 & a1) | K63: 2 | N63: YES
A64: CUBE | B64: RNG | C64: 63 | D64: 2 | E64: The output current of solar panel 3, Channel 3 output current, will always be between 0A and .454A. | F64: Channel 3 output current | G64: a0: Channel 3 output current > 0 a1: Channel 3 output current < .453 | H64: G[0,M] (a0 & a1) | K64: 2 | N64: YES
... A69: CUBE | B69: RNG | C69: 68 | D69: 2 | E69: The value of Channel 4 panel current B will always be between 0A and .454A. | F69: Channel 4 panel current B | G69: a0: Channel 4 output current > 0 a1: Channel 4 output current < .453 | H69: G[0,M] (a0 & a1) | K69: 2 | N69: YES
A70: CUBE | B70: RNG | C70: 69 | D70: 1 | E70: The value of freeMem should always be greater than 0. | F70: freeMem | G70: a0: freeMem > 0 | H70: G[0,M] (a0) | J70: No free memory (at risk for memory errors) | K70: 3 | N70: YES
A71: CUBE | B71: RNG | C71: 70 | D71: 1 | E71: The value of totNumProcesses should be 0 or greater | F71: totNumProcesses | G71: a0: totNumProcesses >= 0 | H71: G[0,M] (a0) | J71: Some data may be corrupt in telemetry or something critical has gone wrong | K71: 2 | N71: YES
A72: CUBE | B72: RNG | C72: 71 | D72: 1 | E72: The value of totMem should be 0 or greater. | F72: totMem | G72: a0: totMem >= 1 | H72: G[0,M] (a0) | J72: Some data may be corrupt in telemetry or something critical has gone wrong | K72: 2 | N72: YES
A73: CUBE | B73: RNG | C73: 72 | D73: 1 | E73: The value of curNumRunnableTasks should always be greater than or equal to 0. | F73: curNumRunnableTasks | G73: a0: curNumRunnableTasks >=0 | H73: G[0,M] (a0) | K73: 3 | N73: YES
A74: CUBE | B74: RNG | C74: 73 | D74: 1 | E74: The value of avgNumActiveTasks1 should always be greater than or equal to 0. | F74: avgNumActiveTasks1 | G74: a0: avgNumActiveTasks1 >=0 | H74: G[0,M] (a0) | K74: 3 | N74: YES
A75: CUBE | B75: RNG | C75: 74 | D75: 1 | E75: The value of avgNumActiveTasks5 should always be greater than or equal to 0. | F75: avgNumActiveTasks5 | G75: a0: avgNumActiveTasks5 >=0 | H75: G[0,M] (a0) | K75: 3 | N75: YES
A76: CUBE | B76: RNG | C76: 75 | D76: 1 | E76: The value of avgNumActiveTasks15 should always be greater than or equal to 0. | F76: avgNumActiveTasks15 | G76: a0: avgNumActiveTasks15 >=0 | H76: G[0,M] (a0) | K76: 3 | N76: YES
A77: CUBE | B77: RNG | C77: 76 | D77: 1 | E77: The value of NumResets should always be greater than or equal to 0. | F77: NumResets | G77: a0: NumResets >=0 | H77: G[0,M] (a0) | J77: Common Sense | K77: 2 | N77: YES
A78: CUBE | B78: RNG | C78: 77 | D78: 1 | E78: The value of SD Usage should always be greater than or equal to 0. | F78: SD Usage | G78: a0: SD Usage >=0 | H78: G[0,M] (a0) | J78: Common Sense | K78: 3 | N78: YES
A79: CUBE | B79: RNG | C79: 78 | D79: 1 | E79: The value of 3.3V Bus Current should always be between 0.12A and 0.2A. | F79: 3.3V Bus Current | G79: a0: 3.3V Bus Current >= 0.12 a1: 3.3V Bus Current <= 0.2 | H79: G[0,M] (a0 & a1) | J79: Some data may be corrupt in telemetry or something critical has gone wrong (checking our numbers and number of errors, this spec seems to be fine) | K79: 3 | L79: New assumption made 12/7/2021 RNG changed to 0.12 ~ 0.2 (MJ) | M79: YES | N79: YES
A80: CUBE | B80: RNG | C80: 79 | D80: 1 | E80: The value of 3.3V Bus Voltage should always be between 3.3V and 3.35V. | F80: 3.3V Bus Voltage | G80: a0: 3.3V Bus Voltage >= 3.3 a1: 3.3V Bus Voltage <= 3.35 | H80: G[0,M] (a0 & a1) | J80: | | K80: 3 | L80: New assumption made 12/7/2021 RNG changed to 3.3 ~ 3.35 (MJ) | M80: YES | N80: YES
A81: CUBE | B81: RNG | C81: 80 | D81: 1 | E81: The value of 3.3V Input Current should always be between 0.08A and 0.13A. | F81: 3.3V Input Current | G81: a0: 3.3V Input Current >= 0.08 a1: 3.3V Input Current <= 0.13 | H81: G[0,M] (a0 & a1) | J81: | | K81: 3 | L81: New assumption made 12/7/2021 RNG changed to 0.08 ~ 0.13 (MJ) | M81: YES | N81: YES
A82: CUBE | B82: RNG | C82: 81 | D82: 1 | E82: The value of 5V Bus Current should always be between 0.01A and 0.04A. | F82: 5V Bus Current | G82: a0: 5V Bus Current >= 0.01 a1: 5V Bus Current <= 0.04 | H82: G[0,M] (a0 & a1) | J82: | | K82: 3 | L82: New assumption made 12/7/2021 RNG changed to 0.01 ~ 0.04 (MJ) | M82: YES | N82: YES
A83: CUBE | B83: RNG | C83: 82 | D83: 1 | E83: The value of 5V Bus Voltage should always be between 5.02V and 5.05V. | F83: 5V Bus Voltage | G83: a0: 5V Bus Voltage >= 5.02 a1: 5V Bus Voltage <= 5.05 | H83: G[0,M] (a0 & a1) | J83: | | K83: 3 | L83: New assumption made 12/7/2021 RNG changed to 5.02 ~ 5.05 (MJ) | M83: YES | N83: YES
A84: CUBE | B84: RNG | C84: 83 | D84: 1 | E84: The value of 5V Input Current should always be between 0.015A and 0.03. | F84: 5V Input Current | G84: a0: 5V Input Current >= 0.015 a1: 5V Input Current <= 0.03 | H84: G[0,M] (a0 & a1) | J84: \/ | K84: 3 | L84: New assumption made 12/7/2021 RNG changed to 0.015 ~ 0.03 (MJ) | M84: YES | N84: YES
A85: CUBE | B85: RNG | C85: 84 | D85: 1 | E85: The value of Lithium Op Count should always be greater than or equal to 0. | F85: Lithium Op Count | G85: a0: Lithium Op Count >= 0 | H85: G[0,M] (a0) | J85: Some data may be corrupt in telemetry or something critical has gone wrong | K85: 2 | L85: New assumption made 12/9/2021 RNG changed to 0.015 ~ 0.03 (MJ) | M85: YES | N85: YES
A86: CUBE | B86: RNG | C86: 85 | D86: 1 | E86: The value of Lithium #RX should always be greater than or equal to 0. | F86: Lithium #RX | G86: a0: Lithium #RX >= 0 | H86: G[0,M] (a0) | J86: | | K86: 2 | L86: Verified 12/9/2021 (MJ) | M86: YES | N86: YES
A87: CUBE | B87: RNG | C87: 86 | D87: 1 | E87: The value of Lithium #TX should always be greater than or equal to 0. | F87: Lithium #TX | G87: a0: Lithium #TX >= 0 | H87: G[0,M] (a0) | J87: \/ | K87: 2 | L87: Verified 12/9/2021 (MJ) | M87: YES | N87: YES
A88: CUBE | B88: RNG | C88: 87 | D88: 3 | E88: If MARINA exit status has a value of "1", the signal was received properly. | F88: MARINA exit status | G88: a0: MARINA exit status == 1 a1: 0 (success) | H88: G[0,M] (a0 -> a1) | J88: Data collection was successful. | K88: 1 | L88: Verified 12/9/2021 (MJ) We will not run this spec | M88: YES | N88: N/A
A89: CUBE | B89: RNG | C89: 88 | D89: 2 | E89: If MARINA exit status has a value of "2", the signal experienced a revision error. | F89: MARINA exit status | G89: a0: MARINA exit status == 2 a1: 1 (failure) | H89: G[0,M] (a0 -> a1) | J89: Data collection was unsuccessful. | K89: 1 | L89: Verified 12/9/2021 (MJ) We will not run this spec | M89: YES | N89: N/A
A90: CUBE | B90: RNG | C90: 89 | D90: 2 | E90: If MARINA exit status has a value of "3", the signal experienced an option parse error. | F90: MARINA exit status | G90: a0: MARINA exit status == 3 a1: 1 (failure) | H90: G[0,M] (a0 -> a1) | J90: Data collection was unsuccessful. | K90: 1 | L90: Verified 12/9/2021 (MJ) We will not run this spec | M90: YES | N90: N/A
... A106: CUBE | B106: RNG | C106: 105 | D106: 2 | E106: If Variable 2 has a value of "0", the MARINA payload is safe to be operated. | F106: Variable 2 | G106: a0: Variable 2 == 0 a1: 0 (success) | H106: G[0,M] (a0 -> a1) | J106: Data collection indicates payload can be operated. | K106: 1 | L106: Verified 12/9/2021 (MJ) We will not run this spec | M106: YES | N106: N/A
A107: CUBE | B107: RNG | C107: 106 | D107: 2 | E107: If Variable 2 has a value of "1", the MARINA payload is not safe to be operated due to an EPS I2C error. | F107: Variable 2 | G107: a0: Variable 2 == 1 a1: 1 (failure) | H107: G[0,M] (a0 -> a1) | I107: Email operators. | J107: Data collection indicates the payload cannot be safely operated. | K107: 1 | L107: Verified 12/9/2021 (MJ) We will not run this spec | M107: YES | N107: N/A
A108: CUBE | B108: RNG | C108: 107 | D108: 2 | E108: If Variable 2 has a value of "2", the MARINA payload is not safe to be operated due to an FCPU I2C error. | F108: Variable 2 | G108: a0: Variable 2 == 2 a1: 1 (failure) | H108: G[0,M] (a0 -> a1) | I108: Email operators. | J108: Data collection indicates the payload cannot be safely operated. | K108: 1 | L108: Verified 12/9/2021 (MJ) We will not run this spec | M108: YES | N108: N/A
A109: CUBE | B109: RNG | C109: 108 | D109: 2 | E109: If Variable 2 has a value of "3", the MARINA payload is not safe to be operated due to a MARINA I2C error. | F109: Variable 2 | G109: a0: Variable 2 == 3 a1: 1 (failure) | H109: G[0,M] (a0 -> a1) | I109: Email operators. | J109: Data collection indicates the payload cannot be safely operated. | K109: 1 | L109: Verified 12/9/2021 (MJ) We will not run this spec | M109: YES | N109: N/A
A110: CUBE | B110: RNG | C110: 109 | D110: 2 | E110: If Variable 2 has a value of "4", the MARINA payload is not safe to be operated due to a VBATT current too high error. | F110: Variable 2 | G110: a0: Variable 2 == 4 a1: 1 (failure) | H110: G[0,M] (a0 -> a1) | I110: Email operators. | J110: Data collection indicates the payload cannot be safely operated. | K110: 1 | L110: Verified 12/9/2021 (MJ) We will not run this spec | M110: YES | N110: N/A
A111: CUBE | B111: RNG | C111: 110 | D111: 2 | E111: If Variable 2 has a value of "5", the MARINA payload is not safe to be operated due to a VBATT voltage too low error. | F111: Variable 2 | G111: a0: Variable 2 == 5 a1: 1 (failure) | H111: G[0,M] (a0 -> a1) | J111: Data collection indicates the payload cannot be safely operated. | K111: 1 | L111: Verified 12/9/2021 (MJ) We will not run this spec | M111: YES | N111: N/A
A112: CUBE | B112: RNG | C112: 111 | D112: 2 | E112: If Variable 2 has a value of "6", the MARINA payload is not safe to be operated due to an FCPU temp too high error. | F112: Variable 2 | G112: a0: Variable 2 == 6 a1: 1 (failure) | H112: G[0,M] (a0 -> a1) | I112: Email operators. | J112: Data collection indicates the payload cannot be safely operated. | K112: 1 | L112: Verified 12/9/2021 (MJ) We will not run this spec | M112: YES | N112: N/A
A113: CUBE | B113: RNG | C113: 112 | D113: 2 | E113: If Variable 2 has a value of "8", the MARINA payload is not safe to be operated due to a MARINA temp too high error. | F113: Variable 2 | G113: a0: Variable 2 == 8 a1: 1 (failure) | H113: G[0,M] (a0 -> a1) | I113: Email operators. | J113: Data collection indicates the payload cannot be safely operated. | K113: 1 | L113: Verified 12/9/2021 (MJ) We will not run this spec | M113: YES | N113: N/A
A114: CUBE | B114: RNG | C114: 113 | D114: 2 | E114: Variable 2 should always measure between 0 and 8, but not 7. | F114: Variable 2 | G114: a0: Variable 2 >= 0 a1: Variable 2 <= 8 a2: Variable 2 != 7 | H114: G[0,M] (a0 & a1 & a2) | K114: 1 | L114: Verified 12/9/2021 (MJ) FYI Will fail A LOT | M114: YES | N114: NO
A115: CUBE | B115: RNG | C115: 114 | D115: 2? | E115: ADCS Enable Status should always be 1. | F115: ADCS Enable Status | G115: a0: ADCS Enable Status == 1 | H115: G[0, M] (a0) | K115: 3 | L115: New assumption made 12/9/2021 | M115: YES | N115: NO
A116: CUBE | B116: RNG | C116: 115 | D116: 2? | E116: ADCS1 IOE MODE should always be between 0 and 255. | F116: ADCS1 IOE MODE | G116: a0: ADCS1 IOE MODE >= 0 a1: ADCS1 IOE MODE <= 255 | H116: G[0, M] (a0 & a1) | K116: 3 | L116: New assumption made 12/9/2021 | M116: YES | N116: NO
A117: CUBE | B117: RNG | C117: 116 | D117: 2? | E117: ADCS1 IOE STATE should always be 0. | F117: ADCS1 IOE STATE | G117: a0: ADCS Enable Status == 0 | H117: G[0, M] (a0) | K117: 3 | L117: New assumption made 12/9/2021 | M117: YES | N117: NO
A118: CUBE | B118: RNG | C118: 117 | D118: 2 | E118: Battery Bus Current should always be between 0A and 1A. | F118: Battery Bus Current | G118: a0: Battery Bus Current >= 0 a1: Battery Bus Current <= 1 | H118: G[0, M] (a0 & a1) | K118: 3 | L118: New assumption made 12/9/2021 | M118: YES | N118: NO
A119: CUBE | B119: RNG | C119: 118 | D119: 2 | E119: Battery Bus Voltage should always be between 7V and 9V. | F119: Battery Bus Voltage | G119: a0: Battery Bus Voltage >= 7 a1: Battery Bus Voltage <= 9 | H119: G[0, M] (a0 & a1) | K119: 3 | L119: New assumption made 12/9/2021 | M119: YES | N119: NO
A120: CUBE | B120: RNG | C120: 119 | D120: 2 | E120: Battery Current should always be between -1A and 1A. | F120: Battery Current | G120: a0: Battery Current >= -1 a1: Battery Current <= 1 | H120: G[0, M] (a0 & a1) | K120: 3 | L120: New assumption made 12/9/2021 | M120: YES | N120: NO
A121: CUBE | B121: RNG | C121: 120 | D121: 2 | E121: Battery Voltage should always be between 6V and 10V. | F121: Battery Voltage | G121: a0: Battery Voltage >= 6 a1: Battery Voltage <= 10 | H121: G[0, M] (a0 & a1) | K121: 3 | L121: New assumption made 12/9/2021 Pretty Noisy... | M121: YES | N121: NO
A122: CUBE | B122: RNG | C122: 121 | D122: 2 | E122: EPS IOE MODE Status should always be 252. | F122: EPS IOE MODE | G122: a0: ADCS Enable Status == 252 | H122: G[0, M] (a0) | K122: 3 | L122: New assumption made 12/9/2021 Pretty Noisy... | M122: YES | N122: NO
A123: CUBE | B123: RNG | C123: 122 | D123: 2 | E123: EPSIOE STATE should always be between 0 and 253. | F123: EPSIOE STATE | G123: a0: EPSIOE STATE >= 0 a1: EPSIOE STATE <= 253 | H123: G[0, M] (a0 & a1) | K123: 3 | L123: New assumption made 12/9/2021 | M123: YES | N123: NO
A124: CUBE | B124: RNG | C124: 123 | D124: 1 | E124: FCPU 3V3 Current should always be between 9A and 14A. | F124: FCPU 3V3 Current | G124: a0: FCPU 3V3 Current >= 9 a1: FCPU 3V3 Current <= 14 | H124: G[0, M] (a0 & a1) | K124: 3 | L124: New assumption made 12/9/2021 | M124: YES | N124: NO
A125: CUBE | B125: RNG | C125: 124 | D125: 1 | E125: FCPU 3V3 Voltage should always be between 3.2V and 3.4V. | F125: FCPU 3V3 Voltage | G125: a0: FCPU 3V3 Voltage >= 3.2 a1: FCPU 3V3 Voltage <= 3.4 | H125: G[0, M] (a0 & a1) | K125: 3 | L125: New assumption made 12/9/2021 | M125: YES | N125: NO
A126: CUBE | B126: RNG | C126: 125 | D126: 1 | E126: MARINA 1.0V Voltage should always be between 0V and 0.01V. | F126: MARINA 1.0V Voltage | G126: a0: MARINA 1.0V Voltage >= 0 a1: MARINA 1.0V Voltage <= 0.01 | H126: G[0, M] (a0 & a1) | K126: 3 | L126: New assumption made 12/9/2021 | M126: YES | N126: NO
A127: CUBE | B127: RNG | C127: 126 | D127: 1 | E127: MARINA 2.5V Voltage should always be between 0V and 0.01V. | F127: MARINA 2.5V Voltage | G127: a0: MARINA 2.5V Voltage >= 0 a1: MARINA 2.5V Voltage <= 0.01 | H127: G[0, M] (a0 & a1) | K127: 3 | L127: New assumption made 12/9/2021 | M127: YES | N127: NO
A128: CUBE | B128: RNG | C128: 127 | D128: 1 | E128: MARINA VBATT Current should always be between 0A and 0.01A. | F128: MARINA VBATT Current | G128: a0: MARINA VBATT Current >= 0 a1: MARINA VBATT Current <= 0.01 | H128: G[0, M] (a0 & a1) | K128: 3 | L128: New assumption made 12/9/2021 | M128: YES | N128: NO
A129: CUBE | B129: RNG | C129: 128 | D129: 1 | E129: MARINA VBATT Voltage should always be between 0V and 0.02V. | F129: MARINA VBATT Voltage | G129: a0: MARINA VBATT Voltage >= 0 a1: MARINA VBATT Voltage <= 0.02 | H129: G[0, M] (a0 & a1) | K129: 3 | L129: New assumption made 12/9/2021 | M129: YES | N129: NO
... A150: CUBE | B150: RNG | C150: 149 | D150: 3 | E150: pid should always be 0. | F150: pid | G150: a0: pid == 0 | H150: G[0, M] (a0) | K150: 3 | L150: New assumption made 12/9/2021 | M150: YES | N150: NO
N151: Total Need? | O151: 37
N152: Total Have? | O152: 84

Sheet RAT
A1: BL | B1: Spec Type | C1: Spec # | D1: Priority | E1: English Spec | F1: Sensors/Signals Needed | G1: Atomic Conversions | H1: MLTL Specification | I1: Trigger | J1: Explanation | K1: Automation Level | L1: Notes | M1: COMPLETED
A2: CUBE | B2: RAT | C2: 1 | D2: 1 | E2: The most recent value of Lithium Op Count should always be greater than the previous collection. | F2: Lithium Op Count | G2: a0: Lithium Op Count[0] > Lithium Op Count[-1] | H2: G[0,M] (a0) | J2: If this specification is not met, it means the data is out of consecutive order or that the detector did not send data properly and instead used an old collection. | K2: 1 | L2: Verified my MJ 12/9/2021 | M2: YES
A3: CUBE | B3: RAT | C3: 2 | D3: 1 | E3: The most recent value of Lithium #RX should always be greater than the previous collection. | F3: Lithium #RX | G3: a0: Lithium #RX[0] > Lithium #RX[-1] | H3: G[0,M] (a0) | J3: If this specification is not met, it means the data is out of consecutive order or that the detector did not send data properly and instead used an old collection. | K3: 1 | L3: Verified my MJ 12/9/2021 | M3: YES
A4: CUBE | B4: RAT | C4: 3 | D4: 1 | E4: The most recent value of Lithium #TX should always be greater than the previous collection. | F4: Lithium #TX | G4: a0: Lithium #TX[0] > Lithium #TX[-1] | H4: G[0,M] (a0) | J4: If this specification is not met, it means the data is out of consecutive order or that the detector did not send data properly and instead used an old collection. | K4: 1 | L4: Verified my MJ 12/9/2021 | M4: YES
A5: CUBE | B5: RAT | C5: 4 | D5: 1 | E5: The most recent value of Marina Completed Runs should always be greater than or equal to the previous collection. | F5: Marina Completed Runs | G5: a0: Marina Completed Runs[0] >= Marina Completed Runs[-1] | H5: G[0,M] (a0) | J5: If this specification is not met, it means the data is out of consecutive order or that the detector did not send data properly and instead used an old collection. | K5: 1 | L5: Verified my MJ 12/9/2021 | M5: YES
A6: CUBE | B6: RAT | C6: 5 | D6: 1 | E6: The most recent value of Marina Aborted Runs should always be greater than or equal to the previous collection. | F6: Marina Aborted Runs | G6: a0: Marina Aborted Runs[0] >= Marina Aborted Runs[-1] | H6: G[0,M] (a0) | J6: If this specification is not met, it means the data is out of consecutive order or that the detector did not send data properly and instead used an old collection. | K6: 1 | L6: Verified my MJ 12/9/2021 | M6: YES
A7: CUBE | B7: RAT | C7: 6 | D7: 1 | E7: The value of NumResets should never decrease. | F7: NumResets | G7: a0: NumResets[0] >= NumResets[-1] | H7: G[0,M] (a0) | J7: If this specification is not met, it means the data is out of consecutive order or that the detector did not send data properly and instead used an old collection. | K7: 1 | L7: Verified my MJ 12/9/2021 | M7: YES
A8: CUBE | B8: RAT | C8: 7 | D8: 1 | E8: The most recent value of RTC Unix Time should be greater than the previous value. | F8: RTC Unix Time | G8: a0: RTC Unix Time[0] > RTC Unix Time[-1] | H8: G[0,M] (a0) | J8: If this specification is not met, it means the data is out of consecutive order or that the detector did not send data properly and instead used an old collection. | K8: 1 | L8: Verified my MJ 12/9/2021 | M8: YES
A9: CUBE | B9: RAT | C9: 8 | D9: 1 | E9: The temperature change of +X external temperature should not exceed 185 degrees between each collection. | F9: +X external temperature | G9: a0: (abs(+X external temperature[-1] - +X external temperature[0])) <= 185 | H9: G[0,M] (a0) | J9: If this Specification is not met, it means that there was an alarming change in temperature that can mean there is something fishy happening with the sensor or something critically went wrong (Such as a battery explosion). | K9: 1 | L9: Value is abs diff between RNG bounds 12/9/2021 MJ | M9: YES
A10: CUBE | B10: RAT | C10: 9 | D10: 1 | E10: The temperature change of +X internal temperature should not exceed 185 degrees between each collection. | F10: +X internal temperature | G10: a0: (abs(+X internal temperature[-1] - +X internal temperature[0])) <= 185 | H10: G[0,M] (a0) | J10: If this Specification is not met, it means that there was an alarming change in temperature that can mean there is something fishy happening with the sensor or something critically went wrong (Such as a battery explosion). | K10: 1 | L10: Value is abs diff between RNG bounds 12/9/2021 MJ | M10: YES
A11: CUBE | B11: RAT | C11: 10 | D11: 1 | E11: The temperature change of +Y external temperature should not exceed 185degrees between each collection. | F11: +Y external temperature | G11: a0: (abs(+Y external temperature[-1] - +Y external temperature[0])) <= 185 | H11: G[0,M] (a0) | J11: If this Specification is not met, it means that there was an alarming change in temperature that can mean there is something fishy happening with the sensor or something critically went wrong (Such as a battery explosion). | K11: 1 | L11: Value is abs diff between RNG bounds 12/9/2021 MJ | M11: YES
A12: CUBE | B12: RAT | C12: 11 | D12: 1 | E12: The temperature change of +Y internal temperature should not exceed 185 degrees between each collection. | F12: +Y internal temperature | G12: a0: (abs(+Y internal temperature[-1] - +Y internal temperature[0])) <= 185 | H12: G[0,M] (a0) | J12: If this Specification is not met, it means that there was an alarming change in temperature that can mean there is something fishy happening with the sensor or something critically went wrong (Such as a battery explosion). | K12: 1 | L12: Value is abs diff between RNG bounds 12/9/2021 MJ | M12: YES
A13: CUBE | B13: RAT | C13: 12 | D13: 1 | E13: The temperature change of -X external temperature should not exceed 185 degrees between each collection. | F13: -X external temperature | G13: a0: (abs(-X external temperature[-1] - -X external temperature[0])) <= 185 | H13: G[0,M] (a0) | J13: If this Specification is not met, it means that there was an alarming change in temperature that can mean there is something fishy happening with the sensor or something critically went wrong (Such as a battery explosion). | K13: 1 | L13: Value is abs diff between RNG bounds 12/9/2021 MJ | M13: YES
... A90: CUBE | B90: RAT | C90: 89 | D90: 1 | E90: The variable associated with Marina exit status should not exceed 17 between each collection | F90: Marina exit status | G90: a0: (abs(Marina exit status[-1] - Marina exit status[0]) <= 17 | H90: G[0,M] (a0) | J90: If this specification is not met, tere may be an issue with the sensors on board GRIFEX, or indicating something drastic has happened. | K90: 1 | L90: Verified my MJ 12/9/2021 | M90: YES
A91: CUBE | B91: RAT | C91: 90 | D91: 1 | E91: The value of ADCS Enable Status should never change. | F91: ADCS Enable Status | G91: a0: (abs(ADCS Enable Status[-1] - ADCS Enable Status[0])) <= 0 | H91: G[0,M] (a0) | K91: 1 | L91: Value is abs diff between RNG bounds 12/9/2021 MJ | M91: YES
A92: CUBE | B92: RAT | C92: 91 | D92: 1 | E92: The value change of ADCS IOE MODE should never exceed 255 between each collection. | F92: ADCS1 IOE MODE | G92: a0: (abs(ADCS1 IOE MODE[-1] - ADCS1 IOE MODE[0])) <= 255 | H92: G[0,M] (a0) | K92: 1 | L92: Value is abs diff between RNG bounds 12/9/2021 MJ | M92: YES
A93: CUBE | B93: RAT | C93: 92 | D93: 1 | E93: The value of ADCS1 IOE STATE should never change. | F93: ADCS1 IOE STATE | G93: a0: (abs(ADCS1 IOE STATE[-1] - ADCS1 IOE STATE[0])) <= 0 | H93: G[0,M] (a0) | K93: 1 | L93: Value is abs diff between RNG bounds 12/9/2021 MJ | M93: YES
A94: CUBE | B94: RAT | C94: 93 | D94: 1 | E94: The value of EPS IOE MODE should never change. | F94: EPS IOE MODE | G94: a0: (abs(EPS IOE MODE[-1] - EPS IOE MODE[0])) <= 0 | H94: G[0,M] (a0) | K94: 1 | L94: Value is abs diff between RNG bounds 12/9/2021 MJ | M94: YES
A95: CUBE | B95: RAT | C95: 94 | D95: 1 | E95: The value change of EPS IOE STATE should never exceed 253 between each collection. | F95: EPS IOE STATE | G95: a0: (abs(EPS IOE STATE[-1] - EPS IOE STATE[0])) <= 253 | H95: G[0,M] (a0) | K95: 1 | L95: Value is abs diff between RNG bounds 12/9/2021 MJ | M95: YES
A96: CUBE | B96: RAT | C96: 95 | D96: 1 | E96: The value change of MZINT IOE1 MODE should never exceed 103 between each collection. | F96: MZINT IOE1 MODE | G96: a0: (abs(MZINT IOE1 MODE[-1] - MZINT IOE1 MODE[0])) <= 103 | H96: G[0,M] (a0) | K96: 1 | L96: Value is abs diff between RNG bounds 12/9/2021 MJ | M96: YES
A97: CUBE | B97: RAT | C97: 96 | D97: 1 | E97: The value change of MZINT IOE2 MODE should never exceed 103 between each collection. | F97: MZINT IOE2 MODE | G97: a0: (abs(MZINT IOE2 MODE[-1] - MZINT IOE2 MODE[0])) <= 103 | H97: G[0,M] (a0) | K97: 1 | L97: Value is abs diff between RNG bounds 12/9/2021 MJ | M97: YES
A98: CUBE | B98: RAT | C98: 97 | D98: 1 | E98: The value of Variable 1 should never change. | F98: Variable 1 | G98: a0: (abs(Variable 1[-1] - Variable 1[0])) <= 0 | H98: G[0,M] (a0) | K98: 1 | L98: Value is abs diff between RNG bounds 12/9/2021 MJ | M98: YES
A99: CUBE | B99: RAT | C99: 98 | D99: 1 | E99: The value of Variable 10 should never change. | F99: Variable 10 | G99: a0: (abs(Variable 10[-1] - Variable 10[0])) <= 0 | H99: G[0,M] (a0) | K99: 1 | L99: Value is abs diff between RNG bounds 12/9/2021 MJ | M99: YES
A100: CUBE | B100: RAT | C100: 99 | D100: 1 | E100: The value change of Variable 2 should never exceed 8 between each collection. | F100: Variable 2 | G100: a0: (abs(Variable 2[-1] - Variable 2[0])) <= 8 | H100: G[0,M] (a0) | K100: 1 | L100: Value is abs diff between RNG bounds 12/9/2021 MJ | M100: YES
A101: CUBE | B101: RAT | C101: 100 | D101: 1 | E101: The value change of Variable 3 should never exceed 115 between each collection. | F101: Variable 3 | G101: a0: (abs(Variable 3[-1] - Variable 3[0])) <= 115 | H101: G[0,M] (a0) | K101: 1 | L101: Value is abs diff between RNG bounds 12/9/2021 MJ | M101: YES
A102: CUBE | B102: RAT | C102: 101 | D102: 1 | E102: The value change of Variable 4 should never exceed 62 between each collection. | F102: Variable 4 | G102: a0: (abs(Variable 4[-1] - Variable 4[0])) <= 62 | H102: G[0,M] (a0) | K102: 1 | L102: Value is abs diff between RNG bounds 12/9/2021 MJ | M102: YES
... A113: CUBE | B113: RAT | C113: 112 | D113: 1 | E113: The value change of Battery Temperature should never exceed 185 between each collection. | F113: Battery Temperature | G113: a0: (abs(Battery Temperature[-1] - Battery Temperature[0])) <= 185 | H113: G[0,M] (a0) | K113: 1 | L113: Value is abs diff between RNG bounds 12/9/2021 MJ | M113: YES

Sheet REL
A1: BL | B1: Spec Type | C1: Spec # | D1: Priority | E1: English Spec | F1: Sensors/Signals Needed | G1: Atomic Conversions | H1: MLTL Specification | I1: Trigger | J1: Explanation | K1: Automation Level | L1: Notes | M1: COMPLETED
A2: CUBE | B2: REL | C2: 1 | D2: 1 | E2: The temperatures of FCPU_TEMP_0 and FCPU_TEMP_1, should measure withing 10C of each other at each time step. | F2: FCPU_TEMP_0 && FCPU_TEMP_1 | G2: a0: abs (FCPU_TEMP_0 - FCPU_TEMP_1) < 10 | H2: G[0,M] a0 | K2: 3 | M2: YES
A3: CUBE | B3: REL | C3: 2 | D3: 1 | E3: The temperatures of TCB_TEMP_0, TCB_TEMP_1, and TCB_TEMP_2 should measure withing 5C of each other at each time step. | F3: TCB_TEMP_0 && TCB_TEMP_1 && TCB_TEMP_2 | G3: a0: abs(TCB_TEMP_0 - TCB_TEMP_1) < 5 a1: abs(TCB_TEMP_0 - TCB_TEMP_2) < 5 a2: abs(TCB_TEMP_1 - TCB_TEMP_2) < 5 | H3: G[0,M] (a0 & a1 & a2) | K3: 3 | M3: YES
A4: CUBE | B4: REL | C4: 3 | D4: 1 | E4: The temperatures of Channel 1 module temperature, Channel 2 module temperature, Channel 3 module temperatures, and Channel 4 module temperature should measure withing 4C of each other at each time step. | F4: CH_TEMP_1 && CH_TEMP_2 && CH_TEMP_3 && CH_TEMP_4 | G4: a0: abs(CH_TEMP_1-CH_TEMP_2-CH_TEMP_3-CH_TEMP_4) < 4 | H4: G[0,M] a0 | K4: 3 | M4: YES
A5: CUBE | B5: REL | C5: 4 | D5: 1 | E5: The voltages of Channel 1 module voltage, Channel 2 module voltage, Channel 3 module voltage, and Channel 4 module voltage should measure withing 8V of each other at each time step. | F5: CH_V_1 && CH_V_2 && CH_V_3 && CH_V_4 | G5: a0: abs(CH_V_1-CH_V_2-CH_V_3-CH_V_4) <8 | H5: G[0,M] a0 | K5: 3 | M5: YES

Sheet CTRL
A1: BL | B1: Spec Type | C1: Spec # | D1: Priority | E1: English Spec | F1: Sensors/Signals Needed | G1: Atomic Conversions | H1: MLTL Specification | I1: Trigger | J1: Explanation | K1: Automation Level | L1: Notes | M1: COMPLETED

Sheet CHE
A1: BL | B1: Spec Type | C1: Spec # | D1: Priority | E1: English Spec | F1: Sensors/Signals Needed | G1: Atomic Conversions | H1: MLTL Specification | I1: Trigger | J1: Explanation | K1: Automation Level | L1: Notes | M1: COMPLETED
