Workbook

Sheet UTM
A1: RNG | B1: RAT | C1: REL | D1: CTRL | E1: CHE | F1: Category (Subsystem) | G1: Parameters | H1: Shortened Name | I1: Data | J1: Data Type | K1: Units | L1: Designed In-House vs. Sourced from Data Sheet | M1: Description | N1: Pattern | O1: Used Only for Ground Testing? | P1: Additional Notes | Q1: Unique Data Values | R1: Amount | S1: Specification Types | U1: Parameter Count | V1: Pattern Types | W1: Total Count | X1: Automation Level | Z1: Amount
A2: X | G2: RPM | J2: OTHER | K2: rpm | Q2: ACCELERATION | R2: =COUNTIF(J2:J193,Q2) -> 6 | S2: RNG: Range | T2: X | U2: =COUNTIF(A2:A238,T2) -> 47 | V2: RNG | W2: =COUNTIF(RNG!B2:B238,V2)+COUNTIF(RAT!B2:B238,V2)+COUNTIF(REL!B2:B238,V2)+COUNTIF(CTRL!B2:B238,V2)+COUNTIF(CHE!B2:B238,V2) -> 80 | X2: 1: Automatically Extracted | Y2: 1 | Z2: =COUNTIF(RNG!K2:K238,Y2)+COUNTIF(RAT!K2:K238,Y2)+COUNTIF(REL!K2:K238,Y2)+COUNTIF(CTRL!K2:K238,Y2)+COUNTIF(CHE!K2:K238,Y2) -> 34
A3: X | B3: X | G3: Roll | J3: OTHER | K3: deg | Q3: VELOCITY | R3: =COUNTIF(J2:J193,Q3) -> 10 | S3: RAT: Rates of Change | T3: X | U3: =COUNTIF(B2:B238,T3) -> 16 | V3: RAT | W3: =COUNTIF(RNG!B2:B238,V3)+COUNTIF(RAT!B2:B238,V3)+COUNTIF(REL!B2:B238,V3)+COUNTIF(CTRL!B2:B238,V3)+COUNTIF(CHE!B2:B238,V3) -> 18 | X3: 2: Minimal Interaction | Y3: 2 | Z3: =COUNTIF(RNG!K2:K238,Y3)+COUNTIF(RAT!K2:K238,Y3)+COUNTIF(REL!K2:K238,Y3)+COUNTIF(CTRL!K2:K238,Y3)+COUNTIF(CHE!K2:K238,Y3) -> 83
A4: X | B4: X | G4: Pitch | J4: OTHER | K4: deg | Q4: TEMPERATURE | R4: =COUNTIF(J2:J193,Q4) -> 3 | S4: CTRL: Control Sequences | T4: X | U4: =COUNTIF(C2:C238,T4) -> 28 | V4: CTRL | W4: =COUNTIF(RNG!B2:B238,V4)+COUNTIF(RAT!B2:B238,V4)+COUNTIF(REL!B2:B238,V4)+COUNTIF(CTRL!B2:B238,V4)+COUNTIF(CHE!B2:B238,V4) -> 8 | X4: 3: Fully Manual | Y4: 3 | Z4: =COUNTIF(RNG!K2:K238,Y4)+COUNTIF(RAT!K2:K238,Y4)+COUNTIF(REL!K2:K238,Y4)+COUNTIF(CTRL!K2:K238,Y4)+COUNTIF(CHE!K2:K238,Y4) -> 7
A5: X | B5: X | G5: Yaw | J5: OTHER | K5: deg | Q5: TIME | R5: =COUNTIF(J2:J193,Q5) -> 7 | S5: REL: Relationships | T5: X | U5: =COUNTIF(D2:D238,T5) -> 13 | V5: REL | W5: =COUNTIF(RNG!B2:B238,V5)+COUNTIF(RAT!B2:B238,V5)+COUNTIF(REL!B2:B238,V5)+COUNTIF(CTRL!B2:B238,V5)+COUNTIF(CHE!B2:B238,V5) -> 18 | X5: Total | Z5: =SUM(Z2:Z4) -> 124
A6: X | C6: X | G6: Alt | J6: ALTITUDE | Q6: LATTITUDE | R6: =COUNTIF(J2:J193,Q6) -> 5 | S6: CHE: Checks | T6: X | U6: =COUNTIF(E2:E238,T6) -> 0 | V6: CHE | W6: =COUNTIF(RNG!B2:B238,V6)+COUNTIF(RAT!B2:B238,V6)+COUNTIF(REL!B2:B238,V6)+COUNTIF(CTRL!B2:B238,V6)+COUNTIF(CHE!B2:B238,V6) -> 0
A7: X | B7: X | C7: X | G7: Time | J7: TIME | Q7: LONGITUDE | R7: =COUNTIF(J2:J193,Q7) -> 5 | S7: Total | T7: X | U7: =SUM(U2:U6) -> 104 | W7: =SUM(W2:W6) -> 124
A8: X | C8: X | G8: Lat | J8: LATTITUDE | K8: deg | Q8: ALTITUDE | R8: =COUNTIF(J2:J193,Q8) -> 6
A9: X | C9: X | G9: Long/Lon | J9: LONGITUDE | K9: deg | Q9: POSITION | R9: =COUNTIF(J2:J193,Q9) -> 3
A10: X | B10: X | D10: X | G10: Subphase | J10: OTHER | K10: N/A | Q10: PRESSURE | R10: =COUNTIF(J2:J193,Q10) -> 2
A11: X | B11: X | D11: X | G11: Phase | J11: OTHER | K11: N/A | Q11: IDENTIFICATION | R11: =COUNTIF(J2:J193,Q11) -> 4
A12: X | G12: FlightMode | J12: OTHER | K12: N/A | Q12: OTHER | R12: =COUNTIF(J2:J193,Q12) -> 11
A13: X | G13: Temp | J13: TEMPERATURE | K13: degC | Q13: TOTAL | R13: =SUM(R2:R12) -> 62
A14: X | G14: TempE1 | J14: TEMPERATURE | K14: degC
A15: X | G15: TempE2 | J15: TEMPERATURE | K15: degC
A16: X | B16: X | G16: Pres | J16: PRESSURE
A17: X | C17: X | G17: AccN | J17: ACCELERATION | K17: m/s2
A18: X | C18: X | G18: AccE | J18: ACCELERATION | K18: m/s2
A19: X | C19: X | G19: AccD | J19: ACCELERATION | K19: m/s2
A20: X | C20: X | G20: VelN | J20: VELOCITY | K20: m/s
A21: X | C21: X | G21: VelE | J21: VELOCITY | K21: m/s
A22: X | B22: X | G22: VelD | J22: VELOCITY | K22: m/s
A23: X | B23: X | C23: X | G23: PosN | J23: POSITION | K23: km
A24: X | B24: X | C24: X | G24: PosE | J24: POSITION | K24: km
A25: X | B25: X | C25: X | G25: PosD | J25: POSITION | K25: km
A26: X | C26: X | D26: X | G26: wpLat | J26: LATTITUDE | K26: deg
A27: X | C27: X | D27: X | G27: wpLon | J27: LONGITUDE | K27: deg
A28: X | D28: X | G28: fpLat | J28: LATTITUDE | K28: deg
A29: X | D29: X | G29: fpLon | J29: LONGITUDE | K29: deg
A30: X | B30: X | G30: Status | J30: OTHER | K30: N/A
A31: X | C31: X | G31: Start | J31: TIME
A32: X | C32: X | G32: End | J32: TIME
A33: X | B33: X | G33: Time_Filed | J33: TIME
A34: X | G34: fpAlt | J34: ALTITUDE
A35: X | D35: X | G35: LatWP | J35: LATTITUDE | K35: deg
A36: X | D36: X | G36: LonWP | J36: LONGITUDE | K36: deg
A37: X | G37: AltWP | J37: ALTITUDE
A38: X | G38: wpAlt | J38: ALTITUDE
A39: X | C39: X | G39: Vel | J39: VELOCITY | K39: m/s
A40: X | C40: X | G40: Ang | J40: OTHER | K40: deg
A41: X | G41: conUAS_A | J41: IDENTIFICATION | K41: N/A
A42: X | G42: con_UAS_B | J42: IDENTIFICATION | K42: N/A
A43: X | B43: X | G43: Flight_Plan_ID | J43: IDENTIFICATION | K43: N/A
A44: X | C44: X | G44: conStart | J44: TIME
A45: X | C45: X | G45: conEnd | J45: TIME
A46: X | G46: conLat | J46: LATTITUDE | K46: deg
A47: X | G47: conLon | J47: LONGITUDE | K47: deg
A48: X | G48: conAlt | J48: ALTITUDE
B49: X | G49: PrevTime | J49: TIME
B50: X | G50: ID | J50: IDENTIFICATION | K50: N/A
C51: X | G51: Pres (Barometer) | J51: PRESSURE
C52: X | G52: alt (GPS) | J52: ALTITUDE
C53: X | G53: VelN (GPS) | J53: VELOCITY | K53: m/s
C54: X | G54: AccN (IMU) | J54: ACCELERATION | K54: m/s2
C55: X | G55: VelE (GPS) | J55: VELOCITY | K55: m/s
C56: X | G56: AccE (IMU) | J56: ACCELERATION | K56: m/s2
C57: X | G57: VelD (GPS) | J57: VELOCITY | K57: m/s
C58: X | G58: AccD (IMU) | J58: ACCELERATION | K58: m/s2
D59: X | G59: RefVelN | J59: VELOCITY | K59: m/s
D60: X | G60: RefVelE | J60: VELOCITY | K60: m/s
D61: X | G61: RefVelD | J61: VELOCITY | K61: m/s
D62: X | G62: RefYaw | J62: OTHER | K62: deg
D63: X | G63: RefYawdot | J63: OTHER | K63: deg

Sheet RNG
A1: Identifier | B1: Spec Type | C1: Spec # | D1: Priority | E1: English Spec | F1: Sensors/Signals Needed | G1: Atomic Conversions | H1: MLTL Specification | I1: Trigger | J1: Explanation | K1: Automation Level | L1: Notes
A2: UAS | B2: RNG | C2: 1 | E2: The motor RPM will be bounded between 0 and RPM_SENS_MAX at all instances | F2: RPM | G2: RPM_geq_0: RPM >= 0.0 RPM_leq_MAX: RPM <= RPM_SENS_MAX | H2: G[0,M] (RPM_geq_0 & RPM_leq_MAX) | I2: Emergency | J2: Motor RPM is not within bounds | K2: 1 | L2: RPM_SENS_MAX would be obtained from physical max rpm rotor can produce
A3: UAS | B3: RNG | C3: 2 | E3: The Roll measurement will be bounded in (-180,180] degrees at all instances | F3: Roll | G3: Roll_gt_180: Roll > -180 Roll_leq_180: Roll <= 180 | H3: G[0,M] (Roll_gt_180 & Roll_leq_180) | I3: Emergency | J3: Measured roll is outside of physical possibility | K3: 1 | L3: Based on UAS onboard telemetry definition for roll
A4: UAS | B4: RNG | C4: 3 | E4: The Pitch measurement will be bounded in (-180,180] degrees at all instances | F4: Pitch | G4: Pitch_gr_180: Pitch > -180 Pitch_leq_180: Pitch <= 180 | H4: G[0,M] (Pitch_gr_180 & Pitch_leq_180) | I4: Emergency | J4: Measured pitch is outside of physical possibility | K4: 1 | L4: Based on UAS onboard telemetry definition for pitch
A5: UAS | B5: RNG | C5: 4 | E5: The Yaw measurement will be bounded in (-180, 180] degrees at all instances | F5: Yaw | G5: Yaw_gr_180: Yaw > -180 Yaw _leq_180: Yaw <= 180 | H5: G[0,M] (Yaw_gr_180 & Yaw_leq_180) | I5: Emergency | J5: Measured yaw is outside of physical possibility | K5: 1 | L5: Based on UAS onboard telemetry definition for yaw
A6: UAS | B6: RNG | C6: 5 | E6: The Altitude (Alt in AGL) will be bounded between 0 and ALT_SENS_MAX, but if it is not, allow 3 timesteps to recover | F6: Alt | G6: Alt_geq_0: Alt >= 0.0 Alt_leq_MAX: Alt <= ALT_SENS_MAX | H6: !G[0,3] !(Alt_geq_0 & Alt_leq_MAX) | I6: Emergency | J6: Altitude has been outside of physical possiblity for too much time | K6: 1 | L6: ALT_SENS_MAX would be obtained from barometer datasheet. Allows for oscillation in data
A7: UAS | B7: RNG | C7: 6 | E7: The Altitude (Alt in AGL) will be bounded between 0 and ALT_SENS_MAX at all instances | F7: Alt | G7: Alt_geq_0: Alt >= 0.0 Alt_leq_MAX: Alt <= ALT_SENS_MAX | H7: G[0,M] (Alt_geq_0 & Alt_leq_MAX) | I7: Critical Warning | J7: Altitude is outside of physical possiblity | K7: 1 | L7: ALT_SENS_MAX would be obtained from barometer datasheet
A8: UAS | B8: RNG | C8: 7 | E8: The Time will be bounded between 0 and 23:59:59 at all instances | F8: Time | G8: Time_lt_24: Time <= 23:59:59 Time_geq_0: Time >= 0:00:00 | H8: G[0,M] (Time_lt_24 & Time_geq_0) | I8: Critical Warning | J8: Clock is outside of physical possibility | K8: 1 | L8: Time from 24 hour clock onboard UAS
A9: UAS | B9: RNG | C9: 8 | E9: The flight time will be bounded between 0 and FT_SENS_MAX at all instances | F9: Time | G9: FlightTime = Time - StartTime FlightTime_lt_MAX: FlightTime < FT_SENS_MAX FlightTime_geq_0: FlightTime >= 0 | H9: G[0,M] (FlightTime_lt_MAX & FlightTime_geq_0) | I9: Emergency | J9: Flight time has exceeded the possibly flight time the UAS can fly | K9: 1 | L9: FT_SENS_MAX based on longest possible operating time of battery (most likely while aircraft is in standby on ground)
A10: UAS | B10: RNG | C10: 9 | E10: The UAS's position will exist on Earth GPS coordinates. Lat will be bounded in (-90,90) deg and Long will be bounded in (-180,180) deg at all instances | F10: Lat, Long | G10: Lat_gt_90: Lat > -90 Lat_lt_90: Lat < 90 Long_gt_180: Long > -180 Long_lt_180: Long < 180 | H10: G[0,M] (Lat_gt_90 & Lat_lt_90 & Long_gt_180 & Long_lt_180) | I10: Emergency | J10: UAS is outside of latitude and/or longitute earth bounds. | K10: 1
A11: UAS | B11: RNG | C11: 10 | E11: The Subphase of the UAS will be limited to the following string at all instances: <undefined>, Test actuators, Stationary, Hover, Cruise, Go to, Stop at, In flight, Landed | F11: Subphase | G11: Subphase_eq_undefined: Subphase == <undefined> Subphase_eq_TestActuators: Subphase == Test Actuators Subphase_eq_Stationary: Subphase == Stationary Subphase_eq_Hover: Subphase == Hover Subphase_eq_Cruise: Subphase == Cruise Subphase_eq_GoTo: Subphase == Go to Subphase_eq_StopAt: Subphase == Stop at Subphase_eq_InFlight: Subphase == In flight Subphase_eq_Landed: Subphase == Landed | H11: G[0,M] (Subphase_eq_undefined || Subphase_eq_TestActuators || Subphase_eq_Stationary || Subphase_eq_Hover || Subphase_eq_Cruise || Subphase_eq_GoTo || Subphase_eq_StopAt || Subphase_eq_InFlight || Subphase_eq_Landed) | I11: Critical Warning | J11: Subphase is not one of predefined strings. Can only be undefined, Test Actuators, Stationary, Hover, Cruise, Go to, Stop at, In flight, or landed. | K11: 2 | L11: Based on all possible states the UAS Subphase can enter
A12: UAS | B12: RNG | C12: 11 | E12: The Phase of the UAS will be limited to the following strings at all instances: Ready, Test, Takeoff, Manual, Waypoints, Home, Landing | F12: Phase | G12: Phase_eq_Ready: Phase == Ready Phase_eq_Test: Phase == Test Phase_eq_Manual: Phase == Manual Phase_eq_Waypoints: Phase == Waypoints Phase_eq_Home: Phase == Home Phase_eq_Landing: Phase == Landing Phase_eq_Takeoff: Phase == Takeoff | H12: G[0,M] (Phase_eq_Ready || Phase_eq_Test || Phase_eq_Manual || Phase_eq_Waypoints || Phase_eq_Home || Phase_eq_Landing || Phase_eq_Takeoff) | I12: Critical Warning | J12: Phase is not one of predefined strings. Can only be Ready, Test, Manual, Waypoints, Home, or Landing | K12: 2 | L12: Based on all possible states the UAS Phase can enter
A13: UAS | B13: RNG | C13: 12 | E13: The FlightMode of the UAS will be limited to the following strings at all instances: Automatic, Home | F13: FlightMode | G13: FlightMode_eq_Automatic: FlightMode == Automatic FlightMode_eq_Home: FlightMode == Home | H13: G[0,M] (FlightMode_eq_Automatic || FlightMode_eq_Home) | I13: Critical Warning | J13: Flightmode is not one of predefined strings. Can only be Home or Automatic | K13: 2 | L13: Based on all possible states the UAS FlightMode can enter
A14: UAS | B14: RNG | C14: 13 | E14: The Temp of the UAS will be bounded between TEMP_SENS_MIN and TEMP_SENS_MAX, but if it is not, allow 3 timesteps to recover | F14: Temp | G14: Temp_leq_MAX: Temp <= TEMP_SENS_MAX Temp_geq_MIN: Temp >= TEMP_SENS_MIN | H14: G[0,M] (Temp_leq_MAX & Temp_geq_MIN) | I14: Emergency | J14: Ambient temperture is not physically possible | K14: 1 | L14: TEMP_SENS_MAX and TEMP_SENS_MIN would be obtained from barometer data sheet. Allows for data oscillation
A15: UAS | B15: RNG | C15: 14 | E15: The TempE1 of the UAS will be bounded between TEMPE1_SENS_MIN and TEMPE1_SENS_MAX, but if it is not, allow 3 timesteps to recover | F15: TempE1 | G15: TempE1_leq_MAX: TempE1 <= TEMPE1_SENS_MAX TempE1_geq_MIN: TempE1 >= TEMPE1_SENS_MIN | H15: G[0,M] (TempE1_leq_MAX & TempE1_geq_MIN) | I15: Emergency | J15: Engine One temperature is not within operating range | K15: 1 | L15: TEMPE1_SENS_MAX and TEMPE1_SENS_MIN would be obtained from sensor data sheet. Allows for data oscillation
A16: UAS | B16: RNG | C16: 15 | E16: The TempE2 of the UAS will be bounded between TEMPE2_SENS_MIN and TEMPE2_SENS_MAX, but if it is not, allow 3 timesteps to recover | F16: TempE2 | G16: TempE2_leq_MAX: TempE2 <= TEMPE2_SENS_MAX TempE2_geq_MIN: TempE2 >= TEMPE2_SENS_MIN | H16: G[0,M] (TempE2_leq_MAX & TempE2_geq_MIN) | I16: Emergency | J16: Engine Two temperature is not within operating range | K16: 1 | L16: TEMPE2_SENS_MAX and TEMPE2_SENS_MIN would be obtained from sensor data sheet. Allows for data oscillation
A17: UAS | B17: RNG | C17: 16 | E17: The Pres of the UAS will be bounded between 0 and PRES_SENS_MAX at all instances | F17: Pres | G17: Pres_leq_MAX: Pres <= PRES_SENS_MAX Pres_geq_0: Pres >= 0 | H17: G[0,M] (Pres_leq_MAX & Pres_geq_0) | I17: Emergency | J17: Pressure is not physically possible | K17: 1 | L17: PRES_SENS_MAX would be obtained from barometer data sheet
A18: UAS | B18: RNG | C18: 17 | E18: The magnitude of acceleration vector (AccN, AccE, AccD) will be bounded between 0 and ACC_SENS_MAX, but if it is not, allow 3 timesteps to recover | F18: AccN, AccE, AccD | G18: Acc_Mag = sqrt(AccN^2 + AccE^2 + AccD^2) Acc_Mag_leq_MAX: Acc_Mag <= ACC_SENSE_MAX Acc_Mag_geq_0: Acc_Mag >= 0 | H18: !G[0,3] !(Acc_Mag_leq_MAX & Acc_Mag_geq_0) | I18: Emergency | J18: Acceleration is not physically possible | K18: 2 | L18: ACC_SENS_MAX equal to 2G (19.6 m/s^2) as conservative value
A19: UAS | B19: RNG | C19: 18 | E19: The motor RPM will be bound by RPM_OR_MIN and RPM_OR_MAX while Subphase is not equal to Landed, Test Actuators, or <undefinied>, but if it exceeds it, allow 3 timesteps to recover | F19: RPM, Subphase | G19: RPM_leq_MAX: RPM <= RPM_OR_MAX RPM_geq_MIN: RPM >= RPM_OR_MIN Subphase_neq_Undefined: Subphase != <undefined> Subphase_neq_TestActuators: Subphase != "Test Actuators" Subphase_neq_Landed: Subphase != "Landed" | H19: (Subphase_neq_Undefined & Subphase_neq_TestActuators & Subphase_neq_Landed) -> !G[0,3] !(RPM_leq_MAX & RPM_geq_MIN) | I19: Warning | J19: RPM present during landing phase, test actuators phase, or undefined phase | K19: 2 | L19: RPM_OR_MAX and RPM_OR_MIN based on 20% of nominal RPM (880) would be 1056 and 704 RPM respectively
A20: UAS | B20: RNG | C20: 19 | E20: The Roll measurement will be bounded between -45 to 45 degrees, but if it exceeds it, allow 3 timesteps to recover | F20: Roll | G20: Roll_geq_45: Roll >= -45 Roll_leq_45: Roll <= 45 | H20: !G[0,3] !(Roll_geq_45 & Roll_leq_45) | I20: Warning | J20: Roll is exceeding flight bounds | K20: 2 | L20: 45 degrees is highly conservative
A21: UAS | B21: RNG | C21: 20 | E21: The Pitch measurement will be bounded between -45 to 45 degrees, but if it exceeds it, allow 3 timesteps to recover | F21: Pitch | G21: Pitch_geq_45: Pitch >= -45 Pitch_leq_45: Pitch <= 45 | H21: !G[0,3] !(Pitch_geq_45 & Pitch_leq_45) | I21: Warning | J21: Pitch is exceeding flight bounds | K21: 2 | L21: 45 degrees is highly conservative
A22: UAS | B22: RNG | C22: 21 | E22: The Altitude (Alt in AGL) will be bounded by ALT_OR_MAX, but if it exceeds it, allow 3 timesteps to recover | F22: Alt | G22: Alt_leq_MAX: Alt <= ALT_OR_MAX | H22: !G[0,3] !(Alt_leq_MAX) | I22: Warning | J22: Altitude is exceeding maximum altitude | K22: 2 | L22: The altitude must be below a certain threshold and above ground
... A30: UAS | B30: RNG | C30: 29 | E30: The magnitude of the individual position components (PosN, PosE, PosD) will be bounded between 0 and DIST_OR_MAX, but if it is not, allow 3 timesteps to recover | F30: PosN,PosE,PosD | G30: PosMag = sqrt(PosN^2 + PosE^2 + PosD^2) PosMag_lt_MAX: PosMag < DIST_OR_MAX | H30: !G[0,3] !(PosMag_lt_MAX) | I30: Warning | J30: Position magnitude is exceeding flight bounds | K30: 2 | L30: DIST_OR_MAX given in data sheet as 56 km
A31: UAS | B31: RNG | C31: 30 | E31: The UAS's position (PosN,PosE,PosD) will be bounded within a circle of radius MAX_RECEIVER_DIST | F31: PosN,PosE,PosD | G31: PosMag = sqrt(PosN^2 + PosE^2 + PosD^2) PosMag_leq_MAX: PosMag <= MAX_RECIEVER_DIST | H31: G[0,M](PosMag_leq_Max) | I31: Critical Warning | J31: Posiition magnitude is exceeding reciever distance | K31: 2
A32: GCS | B32: RNG | C32: 31 | E32: All wpLat will be bounded between -90 and 90 degrees | F32: wpLat | G32: wpLat_leq_MaxLatUB: wpLat <= MaxLatUB wpLat_geq_MinLatLB: wpLat >= MinLatLB | H32: ! G[0,M] ! (wpLat_leq_MaxLatUB & wpLat_geq_MinLatLB) | I32: Critical Warning | J32: Latitude is outside of path between way points | K32: 2 | L32: All Latitude and Longitude values should be actual Earth locations
A33: GCS | B33: RNG | C33: 32 | E33: All wpLon will be bounded between -180 and 180 degrees | F33: wpLon | G33: wpLon_leq_MaxLonUB: wpLon <= MaxLonUB wpLon_geq_MinLonLB: wpLon >= MinLonLB | H33: ! G[0,M] ! (wpLon_leq_MaxLonUB & wpLon_geq_MinLonLB) | I33: Critical Warning | J33: Longitude is outside of path between way points | K33: 2 | L33: All Latitude and Longitude values should be actual Earth locations
A34: GCS | B34: RNG | C34: 33 | E34: All Lat will be bounded between -90 and 90 degrees | F34: Lat | G34: Lat_leq_MaxLatUB: Lat <= MaxLatUB Lat_geq_MinLatLB: Lat >= MinLatLB | H34: ! G[0,M] ! (Lat_leq_MaxLatUB & Lat_geq_MinLatLB) | I34: Emergency | J34: Latitude is outside of physical possiblity | K34: 1 | L34: All Latitude and Longitude values should be actual Earth locations
A35: GCS | B35: RNG | C35: 34 | E35: All Lon will bounded between -180 and 180 degrees | F35: Lon | G35: Lon_leq_MaxLonUB: Lon <= MaxLonUB Lon_geq_MinLonLB: Lon >= MinLonLB | H35: ! G[0,M] ! (Lon_leq_MaxLonUB & Lon_geq_MinLonLB) | I35: Emergency | J35: Longitude is outside of physical possibility | K35: 1 | L35: All Latitude and Longitude values should be actual Earth locations
A36: GCS | B36: RNG | C36: 35 | E36: All fpLat will be bounded between -90 and 90 degrees | F36: fpLat | G36: fpLat_leq_MaxLatUB: fpLat <= MaxLatUB fpLat_geq_MinLatLB: fpLat >= MinLatLB | H36: ! G[0,M] ! (fpLat_leq_MaxLatUB & fpLat_geq_MinLatLB) | I36: Critical Warning | J36: Latitude is outside of predefined flightpath | K36: 2 | L36: All Latitude and Longitude values should be actual Earth locations
A37: GCS | B37: RNG | C37: 36 | E37: All fpLon will be bounded between -180 and 180 degrees | F37: fpLon | G37: fpLon_leq_MaxLonUB: fpLon <= MaxLonUB fpLon_geq_MinLonLB: fpLon >= MinLonLB | H37: ! G[0,M] ! (fpLon_leq_MaxLonUB & fpLon_geq_MinLonLB) | I37: Critical Warning | J37: Longitude is outside of predefined flightpath | K37: 2 | L37: All Latitude and Longitude values should be actual Earth locations
A38: GCS | B38: RNG | C38: 37 | E38: The Status of a flight plan will always be either: ACCEPTED, REJECTED, or REPLACED | F38: Status | G38: Status_eq_Accepted: Status == ACCEPTED Status_eq_Rejected: Status == REJECTED Status_eq_Replaced: Status == REPLACED | H38: Status_eq_Accepted || Status_eq_Rejected || Status_eq_Replaced | I38: Emergency | J38: Flightplan status is not a predefined string | K38: 2
A39: GCS | B39: RNG | C39: 38 | E39: The Start time of any flight plan must be less than the flight plan's End time | F39: Start, End | G39: Start_leq_End: Start <= End | H39: Start_leq_End | I39: Critical Warning | J39: The user should not be able to say they landed before they took off | K39: 1
A40: GCS | B40: RNG | C40: 39 | E40: The Start time of any flight plan should be greater than the Time_Filed of the flight plan | F40: Start, Time_Filed | G40: Start_geq_TimeFiled = True; for(i = 0; i< NumWp; i++) { if(Start < Time_Filed[i]) { Start_geq_TimeFiled = False; } } | H40: Start_geq_TimeFiled | I40: Warning | J40: You cannot file a flightplan that started in the past | K40: 1
A41: GCS | B41: RNG | C41: 40 | E41: All latitude (fpLat) waypoints of any UAS's flight plan will be bounded between LatLB and LatUB | F41: fpLat | G41: fpLat_leq_LatUB: fpLat <= LatUB fpLat_geq_LatLB: fpLat >= LatLB | H41: fpLat_leq_LatUB & pfLat_geq_LatLB | I41: Critical Warning | J41: Any waypoint from the flight plan should be within the UTM's airspace | K41: 2
A42: GCS | B42: RNG | C42: 41 | E42: All longitude (fpLon) waypoints of any UAS's telemetry data will be bounded between LON_LB and LON_UB | F42: fpLon | G42: fpLon_leq_LonUB: fpLon <= Lon_UB fpLon_geq_LonLB: fpLon >= Lon_UB | H42: fpLon_leq_LonUB & fpLon_geq_LongLB | K42: 2
A43: GCS | B43: RNG | C43: 42 | E43: All altitude (fpAlt) waypoints of any UAS's telemetry data will be bounded between 0.0 and ALT_UB | F43: fpAlt | G43: fpAlt_leq_AltUB: fpAlt <= AltUB fpAlt_geq_0: fpAlt >= 0.0 | H43: fpAlt_leq_AltUB & fpAlt_geq_0 | K43: 2
A44: GCS | B44: RNG | C44: 43 | E44: The Phase of any flight plan must be either START, STOP, HOME, or CRUISE | F44: Phase | G44: Phase_eq_Valid = False; for(i = 0; i < NumWp; i++) { if((Phase[i] == "START) || (Phase[i] == "STOP") || (Phase[i] == "HOME") || (Phase[i] == "CRUISE")) { Phase_eq_Valid = True; } } | H44: Phase_eq_Valid | I44: Emergency | J44: The Phase (type of waypoint) is not valid. Only Start, Stop, Home, and Cruise waypoints are valid waypoints in our current implementation of the UTM | K44: 2
A45: GCS | B45: RNG | C45: 44 | E45: The reference latitude (LatWP), longitude (LonWP), and altitude (AltWP) will be contained within the set of waypoints given in the flight plan | F45: LatWP, LonWP, AltWP fpLat, fpLon, fpAlt | G45: wpLonLat_eq_fpLonLat = False; for (i = 0; i < NumWp; i++) { if ((wpLon == fpLon(i)) && (wpLat == fpLat(i))) wpLonLat_eq_fpLonLat == True; } | H45: wpLonLat_eq_fpLon_Lat | I45: Critical Warning | J45: Reference waypoints should be contained within the set of waypoints from that UAS's flight plan (this spec will tell us if anyone deviated from their flight plan) | K45: 2
A46: GCS | B46: RNG | C46: 45 | E46: The latitude reference waypoint (wpLat) that any UAS is flying towards will be bounded between LAT_LB and LAT_UB | F46: wpLat | G46: wpLat_leq_LatUB: wpLat <= LatUB wpLat_geq_LatLB: wpLat >= LatLB | H46: wpLat_leq_LatUB & wpLat_geq_LatLB | I46: Emergency | J46: Any reference waypoint should be within the UTM's airspace | K46: 2
A47: GCS | B47: RNG | C47: 46 | E47: The longitude reference waypoint (wpLon) that any UAS is flying towards will be bounded between LON_LB and LON_UB | F47: wpLon | G47: wpLon_leq_LonUB: wpLon <= LonUB wpLon_geq_LonLB: wpLon >= LonLB | H47: wpLon_leq_LongUB & wpLon_geq_LonLB | K47: 2
A48: GCS | B48: RNG | C48: 47 | E48: The altitude reference waypoint (wpAlt) that any UASs is flying towars will be bounded between 0.0 and ALT_UB | F48: wpAlt | G48: wpAlt_leq_AltUB: wpAlt <= AltUB wpAlt_geq_0 : wpAlt >= 0.0 | H48: wpAlt_leq_AltUB & wpAlt_geq_0 | K48: 2
A49: GCS | B49: RNG | C49: 48 | E49: The latitude (Lat) of any UAS's telemetry data will be bounded between LAT_LB and LAT_UB | F49: Lat | G49: Lat_leq_LatUB: Lat <= LatUB Lat_geq_LatLB: Lat >= LatLB | H49: Lat_leq_LatLB & Lat_geq_LatLB | I49: Emergency | J49: Any telemetry point should be within the UTM's airspace | K49: 2
A50: GCS | B50: RNG | C50: 49 | E50: The longitude (Lon) of any UAS's telemetry data will be bounded between LON_LB and LON_UB | F50: Lon | G50: Lon_leq_LonUB: Lon <= LonUB Lon_geq_LonLB: Lon >= LonLB | H50: Lon_leq_LonUB & Lon_geq_LonLB | K50: 2
A51: GCS | B51: RNG | C51: 50 | E51: The altitude (Alt) of any UAS's telemetry data will be bounded between 0.0 and ALT_UB | F51: Alt | G51: Alt_leq_AltUB: Alt <= AltUB Alt_geq_0: Alt >= 0.0 | H51: Alt_leq_AltUB & Alt_geq_0 | K51: 2
A52: GCS | B52: RNG | C52: 51 | E52: The velocity (Vel) of any UAS's telemetry data will be bounded between 0.0 and VEL_UB | F52: Vel | G52: Vel_leq_VelUB: Vel <= VelUB Vel_geq_0: Vel >= 0.0 | H52: Vel_leq_VelUB & Vel_geq_0 | I52: Critical Warning | J52: The speed of the UAS should be bounded | K52: 1
A53: GCS | B53: RNG | C53: 52 | E53: The heading (Ang) of any UAS's telemetry data will be bounded between 0.0 and 360.0 | F53: Ang | G53: Ang_leq_360: Ang <= 360.0 Ang_geq_0: Ang >= 0.0 | H53: Ang_leq_360 & Ang_geq_0 | I53: Emergency | J53: The heading of the UAS should loop from 0 to 360 degrees | K53: 1
A54: UTM | B54: RNG | C54: 53 | E54: All wpLat will be bounded between -90 and 90 degrees | F54: wpLat | G54: wpLat_leq_MaxLatUB: wpLat <= MaxLatUB wpLat_geq_MinLatLB: wpLat >= MinLatLB | H54: ! G[0,M] ! (wpLat_leq_MaxLatUB & wpLat_geq_MinLatLB) | I54: Critical Warning | J54: Latitude is outside of path between way points | K54: 2 | L54: All Latitude and Longitude values should be actual Earth locations
A55: UTM | B55: RNG | C55: 54 | E55: All wpLon will be bounded between -180 and 180 degrees | F55: wpLon | G55: wpLon_leq_MaxLonUB: wpLon <= MaxLonUB wpLon_geq_MinLonLB: wpLon >= MinLonLB | H55: ! G[0,M] ! (wpLon_leq_MaxLonUB & wpLon_geq_MinLonLB) | I55: Critical Warning | J55: Longitude is outside of path between way points | K55: 2 | L55: All Latitude and Longitude values should be actual Earth locations
A56: UTM | B56: RNG | C56: 55 | E56: All Lat will be bounded between -90 and 90 degrees | F56: Lat | G56: Lat_leq_MaxLatUB: Lat <= MaxLatUB Lat_geq_MinLatLB: Lat >= MinLatLB | H56: ! G[0,M] ! (Lat_leq_MaxLatUB & Lat_geq_MinLatLB) | I56: Emergency | J56: Latitude is outside of physical Possibility | K56: 1 | L56: All Latitude and Longitude values should be actual Earth locations
A57: UTM | B57: RNG | C57: 56 | E57: All Lon will bounded between -180 and 180 degrees | F57: Lon | G57: Lon_leq_MaxLonUB: Lon <= MaxLonUB Lon_geq_MinLonLB: Lon >= MinLonLB | H57: ! G[0,M] ! (Lon_leq_MaxLonUB & Lon_geq_MinLonLB) | I57: Emergency | J57: Longitude is outside of physical possibility | K57: 1 | L57: All Latitude and Longitude values should be actual Earth locations
A58: UTM | B58: RNG | C58: 57 | E58: All fpLat will be bounded between -90 and 90 degrees | F58: fpLat | G58: fpLat_leq_MaxLatUB: fpLat <= MaxLatUB fpLat_geq_MinLatLB: fpLat >= MinLatLB | H58: ! G[0,M] ! (fpLat_leq_MaxLatUB & fpLat_geq_MinLatLB) | I58: Critical Warning | J58: Latitude is outside of predefined flightpath | K58: 2 | L58: All Latitude and Longitude values should be actual Earth locations
A59: UTM | B59: RNG | C59: 58 | E59: All fpLon will be bounded between -180 and 180 degrees | F59: fpLon | G59: fpLon_leq_MaxLonUB: fpLon <= MaxLonUB fpLon_geq_MinLonLB: fpLon >= MinLonLB | H59: ! G[0,M] ! (fpLon_leq_MaxLonUB & fpLon_geq_MinLonLB) | I59: Critical Warning | J59: Longitude is outside fo predefined flightpath | K59: 2 | L59: All Latitude and Longitude values should be actual Earth locations
A60: UTM | B60: RNG | C60: 59 | E60: The Status of a flight plan will always be either: ACCEPTED, REJECTED, or REPLACED | F60: Status | G60: Status_eq_Accepted: Status == ACCEPTED Status_eq_Rejected: Status == REJECTED Status_eq_Replaced: Status == REPLACED | H60: Status_eq_Accepted || Status_eq_Rejected || Status_eq_Replaced | I60: Emergency | J60: Flight plan type is not a predined string | K60: 2 | L60: operational_fp
A61: UTM | B61: RNG | C61: 60 | E61: The Start time of any flight plan must be less than the flight plan's End time | F61: Start, End | G61: Start_leq_End: Start <= End | H61: Start_leq_End | I61: Critical Warning | J61: The user should not be able to say they landed before they took off | K61: 2 | L61: operational_fp
A62: UTM | B62: RNG | C62: 61 | E62: The Start time of any flight plan should be greater than the Time_Filed of the flight plan | F62: Start, Time_Filed | G62: Start_geq_TimeFiled = True; for(i = 0; i< NumWp; i++) { if(Start < Time_Filed[i]) { Start_geq_TimeFiled = False; } } | H62: Start_geq_TimeFiled | I62: Warning | J62: You cannot file a flightplan that started in the past | K62: 2 | L62: operational_fp
A63: UTM | B63: RNG | C63: 62 | E63: All latitude (fpLat) waypoints of any UAS's flight plan will be bounded between LatLB and LatUB | F63: fpLat | G63: fpLat_leq_LatUB: fpLat <= LatUB fpLat_geq_LatLB: fpLat >= LatLB | H63: fpLat_leq_LatUB & fpLat_geq_LatLB | I63: Critical Warning | J63: Any waypoint from the flight plan should be within the UTM's airspace | K63: 2 | L63: waypoint_fp
A64: UTM | B64: RNG | C64: 63 | E64: All longitude (fpLon) waypoints of any UAS's telemetry data will be bounded between LON_LB and LON_UB | F64: fpLon | G64: fpLon_leq_LonUB: fpLon <= Lon_UB fpLon_geq_LonLB: fpLon >= Lon_UB | H64: fpLon_leq_LonUB & fpLon_geq_LonLB | K64: 2 | L64: waypoint_fp
A65: UTM | B65: RNG | C65: 64 | E65: All altitude (fpAlt) waypoints of any UAS's telemetry data will be bounded between 0.0 and ALT_UB | F65: fpAlt | G65: fpAlt_leq_AltUB: fpAlt <= AltUB fpAlt_geq_0: fpAlt >= 0.0 | H65: fpAlt_Leq_AltUB & fpAlt_geq_0 | K65: 2 | L65: waypoint_fp
A66: UTM | B66: RNG | C66: 65 | E66: The Phase of any flight plan must be either START, STOP, HOME, or CRUISE | F66: Phase | G66: Phase_eq_Valid = False; for(i = 0; i < NumWp; i++) { if((Phase[i] == "START) || (Phase[i] == "STOP") || (Phase[i] == "HOME") || (Phase[i] == "CRUISE")) { Phase_eq_Valid = True; } } | H66: Phase_eq_Valid | I66: Emergency | J66: The Phase (type of waypoint) is not valid. Only Start, Stop, Home, and Cruise waypoints are valid waypoints in our current implementation of the UTM | K66: 2 | L66: waypoint_fp
A67: UTM | B67: RNG | C67: 66 | E67: The latitude reference waypoint (wpLat) that any UAS is flying towards will be bounded between LAT_LB and LAT_UB | F67: wpLat | G67: wpLat_leq_LatUB: wpLat <= LatUB wpLat_geq_LatLB: wpLat >= LatLB | H67: wpLat_leq_LatUB & wpLat_geq_LatLB | I67: Critical Warning | J67: Any reference waypoint should be within the UTM's airspace | K67: 2 | L67: telemetry
A68: UTM | B68: RNG | C68: 67 | E68: The longitude reference waypoint (wpLon) that any UAS is flying towards will be bounded between LON_LB and LON_UB | F68: wpLon | G68: wpLon_leq_LonUB: wpLon <= LonUB wpLon_geq_LonLB: wpLon >= LonLB | H68: wpLon_Leq_LonUB & wpLon_geq_LonLB | K68: 2 | L68: telemetry
A69: UTM | B69: RNG | C69: 68 | E69: The altitude reference waypoint (wpAlt) that any UASs is flying towars will be bounded between 0.0 and ALT_UB | F69: wpAlt | G69: wpAlt_leq_AltUB: wpAlt <= AltUB wpAlt_geq_0 : wpAlt >= 0.0 | H69: wpAlt_leq_AltUB & wpAlt_geq_0 | K69: 2 | L69: telemetry
A70: UTM | B70: RNG | C70: 69 | E70: The latitude (Lat) of any UAS's telemetry data will be bounded between LAT_LB and LAT_UB | F70: Lat | G70: Lat_leq_LatUB: Lat <= LatUB Lat_geq_LatLB: Lat >= LatLB | H70: Lat_leq_LatUB & Lat_geq_latLB | I70: Emergency | J70: Any telemetry point should be within the UTM's airspace | K70: 2 | L70: telemetry
A71: UTM | B71: RNG | C71: 70 | E71: The longitude (Lon) of any UAS's telemetry data will be bounded between LON_LB and LON_UB | F71: Lon | G71: Lon_leq_LonUB: Lon <= LonUB Lon_geq_LonLB: Lon >= LonLB | H71: Lon_leq_LonUB & Lon_geq_LonLB | K71: 2 | L71: telemetry
A72: UTM | B72: RNG | C72: 71 | E72: The altitude (Alt) of any UAS's telemetry data will be bounded between 0.0 and ALT_UB | F72: Alt | G72: Alt_leq_AltUB: Alt <= AltUB Alt_geq_0: Alt >= 0.0 | H72: Alt_leq_AltUB & Alt_geq_0 | K72: 2 | L72: telemetry
A73: UTM | B73: RNG | C73: 72 | E73: The velocity (Vel) of any UAS's telemetry data will be bounded between 0.0 and VEL_UB | F73: Vel | G73: Vel_leq_VelUB: Vel <= VelUB Vel_geq_0: Vel >= 0.0 | H73: Vel_leq_VelUB & Vel_geq_0 | I73: Critical Warning | J73: The speed of the UAS should be bounded | K73: 1 | L73: telemetry
A74: UTM | B74: RNG | C74: 73 | E74: The heading (Ang) of any UAS's telemetry data will be bounded between 0.0 and 360.0 | F74: Ang | G74: Ang_leq_360: Ang <= 360.0 Ang_geq_0: Ang >= 0.0 | H74: Ang_leq_360 & Ang_geq_0 | I74: Emergency | J74: The heading of the UAS should loop from 0 to 360 degrees | K74: 1 | L74: telemetry
A75: UTM | B75: RNG | C75: 74 | E75: A conflicting flight plan ID (conUAS_A or conUAS_B) must always greater than 0 and less than the maximum number of assigned flight plan IDs | F75: conUAS_A, con_UAS_B Flight_Plan_ID | G75: conUASa_geq_MaxFP: conUAS_A >= max(Flight_Plan_ID) conUASb_geq_MaxFP: conUAS_B >= max(Flight_Plan_ID) | H75: conUASa_geq_MaxFP & conUASb_geq_MasFP | I75: Critical Warning | J75: You cannot have a conflict with an unassigned flight plan | K75: 2 | L75: conflict, operational_fp
A76: UTM | B76: RNG | C76: 75 | E76: If there is an en route conflict detected between two UAS (conUAS_A and conUAS_B), then the estimated Start time and the estimated End time of a flight plan must overlap for the two UAS | F76: conUAS_A, conUAS_B Start, End | G76: StartA_leq_StartB: Start(conUAS_A) <= Start(conUAS_B) StartA_leq_EndB: Start(conUAS_A) <= End(conUAS_B) StartB_leq_EndA: Start(conUAS_B) <= End(conUAS_A) | H76: (StartA_leq_StartB & StartB_leq_EndA) || (!StartA_leq_StartB & StartA_leq_EndB) | I76: Critical Warning | J76: You should not have a conflict with anyone who is not in the air | K76: 2 | L76: conflict, operational_fp
A77: UTM | B77: RNG | C77: 76 | E77: A conflict's estimated start time (conStart) must always be less than the estimated End time (conEnd) | F77: conStart, conEnd | G77: conStart_leq_conEnd: conStart <= conEnd | H77: conStart_leq_conEnd | I77: Critical Warning | J77: Conflicts cannot end before they begin | K77: 2 | L77: conflict
A78: UTM | B78: RNG | C78: 77 | E78: Conflicting flight plan IDs (conUAS_A and conUAS_B) must be different IDs | F78: conUAS_A, conUAS_B | G78: conUASa_neq_conUASb: conUAS_A != conUAS_B | H78: conUASa_neq_conUAS | I78: Critical Warning | J78: You cannot have a conflict with yourself | K78: 2 | L78: conflict
A79: UTM | B79: RNG | C79: 78 | E79: The latitude (conLat) of any conflict will be bounded between LAT_LB and LAT_UB | F79: conLat | G79: conLat_leq_LatUB: conLat <= LatUB conLat_geq_LatLB: conLat >= LatLB | H79: conLat_leq_LatUB & conLat_geq_LatLB | I79: Critical Warning | J79: Any conflict should be within the UTM's airspace | K79: 2 | L79: conflict
A80: UTM | B80: RNG | C80: 79 | E80: The longitude (conLon) of any conflict will be bounded between LON_LB and LON_UB | F80: conLon | G80: conLon_leq_LonUB: conLon <= LonUB conLon_geq_LonLB: conLon >= LonLB | H80: conLon_leq_LonLB & conLon_geq_LonLB | K80: 2 | L80: conflict
A81: UTM | B81: RNG | C81: 80 | E81: The altitude (conAlt) of any conflict will be bounded between 0.0 and ALT_UB | F81: conAlt | G81: conAlt_leq_AltUB: conAlt <= AltUB conAlt_geq_0: conAlt >= 0.0 | H81: conAlt_leq_AltUB & conAlt_geq_0 | K81: 2 | L81: conflict

Sheet RAT
A1: Identifier | B1: Spec Type | C1: Spec # | D1: Priority | E1: English Spec | F1: Sensors/Signals Needed | G1: Atomic Conversions | H1: MLTL Specification | I1: Trigger | J1: Explanation | K1: Automation Level | L1: Notes
A2: UAS | B2: RAT | C2: 1 | E2: The temperature (Temp, TempE1, TempE2) will not change by more than TEMP_DELTA_MAX each sample instance at any time | F2: x | G2: Temp_lt_Prev_plus_MAX: Temp < PREV_TEMP + TEMP_DELTA_MAX Temp_gr_Prev_minus_MAX: Temp > PREV_TEMP - TEMP_DELTA_MAX TempE1_lt_Prev_plus_MAX: TempE1 < PREV_TEMPE1 + TEMP_DELTA_MAX TempE1_gr_Prev_minus_MAX: TempE1 > PREV_TEMPE1 - TEMP_DELTA_MAX TempE2_lt_Prev_plus_MAX: TempE2 < PREV_TEMPE2 + TEMP_DELTA_MAX TempE2_gr_Prev_minus_MAX: TempE2 > PREV_TEMPE2 - TEMP_DELTA_MAX | H2: G[0,M] (Temp_lt_Prev_plus_MAX & Temp_gr_Prev_minus_MAX & TempE1_lt_Prev_plus_MAX & TempE1_gr_Prev_minus_MAX & TempE2_lt_Prev_plus_MAX & TempE2_gr_Prev_minus_MAX) | I2: Warning | J2: Change in ambient or engine temperature is changed too rapidly | K2: 1 | L2: TEMP_DELTA_MAX based on temperature sensor data sheet or experimental testing.
A3: UAS | B3: RAT | C3: 2 | E3: The horizontal position (PosN, PosE) magnitude will not change by more than POSH_DELTA_MAX each sample instance at any time | F3: PosN, PosE | G3: PosHMag = sqrt(PosN^2 + PosE^2) PosHMag_lt_Prev_plus_Delta: PosHMag < PREV_POS_MAG + POSH_DELTA_MAX PosHMag_gr_Prev_minus_Delta: PosHMag > PREV_POS_MAG - POSH_DELTA_MAX | H3: G[0,M] (PosHMag_lt_Prev_plus_Delta & PosHMag_gt_Prev_minus_Delta) | I3: Warning | J3: Horizontal Position is changing too fast. | K3: 1 | L3: POSH_DELTA_MAX based on max horizontal speed (56km/hr from data sheet) Corresponds with operating bounds spec for horizontal velocity
A4: UAS | B4: RAT | C4: 3 | E4: The vertical position (PosD) shall not change by more than POS_DELTA_INC or less than POS_DELTA_DEC each sample instance at any time | F4: PosD | G4: PosD_lt_Prev_Delta_Inc: PosD < PREV_POSD + POSD_DELTA_INC PosD_gt_Prev_minus_Delta_Dec: |PosD| > PREV_POSD - POSD_DELTA_DEC | H4: G[0,M] (PosD_lt_Prev_Delta_Inc & PosD_gr_Prev_minus_Delta_Dec) | I4: Warning | J4: Vertical Position is changing too fast | K4: 1 | L4: POSD_DELTA_INC is maximum increase in altitude, POSD_DELTA_DEC is maximum decrease in altitude. Corresponds with operating bounds spec for vertical velocity.
A5: UAS | B5: RAT | C5: 4 | E5: There should be noise in the Pitch, Roll, and Yaw measurement while the Phase is not "Ready" such that the change is at minimum EUL_DELTA_MIN, but if it is not, allow 3 timesteps to recover | F5: Pitch, Roll, Yaw, Phase | G5: Pitch_gt_Prev_plus_Delta: Pitch > PREV_PITCH + EUL_DELTA_MIN Pitch_lt_Prev_minus_Delta: Pitch < PREV_PITCH - EUL_DELTA_MIN Roll_gt_Prev_plut_Delta: Roll > PREV_ROLL + EUL_DELTA_MIN Roll_lt_Prev_minus_Delta: Roll < PREV_ROLL - EUL_DELTA_MIN Yaw_gt_Prev_plus_Delta: Yaw > PREV_YAW + EUL_DELTA_MIN Yaw_lt_Prev_minus_Delta: Yaw < PREV_YAW - EUL_DELTA_MIN Phase_eq_Ready: Phase == "Ready" | H5: !G[0,3] {!Phase_eq_Ready & ( (!Pitch_gt_Prev_plus_Delta & !Pitch_lt_Prev_minus_Delta) || (!Roll_gt_Prev_plut_Delta & !Roll_lt_Prev_minus_Delta) || (!Yaw_gt_Prev_plus_Delta & !Yaw_lt_Prev_minus_Delta) ) } | I5: Emergency | J5: Pitch, Roll, and/or Yaw are not producing typical noise: may indicate problem with sensor technology | K5: 2 | L5: There should be noise in these measurements; if there is not that could be a problem (sensor is hung up, cyber-attack, etc.). EUL_DELTA_MIN can be made a small non-zero number to be conservative
A6: UAS | B6: RAT | C6: 5 | E6: Yaw will not change by more than YAW_DELTA_MAX each sample instance when the Subphase is "Go to" at any time | F6: Subphase, Yaw | G6: Subphase_eq_GoTo: Subphase =="Go to" Yaw_lt_Prev_plus_Delta: Yaw < PREV_YAW + YAW_DELTA_MAX Yaw_gt_Prev_minus_Delta: Yaw > PREV_YAW - DELTA_MAX | H6: G[0,M] (Subphase_eq_GoTo -> (Yaw_lt_Prev_plus_Delta & Yaw_gr_Prev_minus_Delta) ) | I6: Critical Warning | J6: UAS should be flying relatively straight: it is turning more than typical | K6: 2 | L6: The rate at which the UAS can turn during "Go To" should be low because in the phase the aircraft should be flying in one direction. YAW_DELTA_MAX would need to be determined experimentally
A7: UAS | B7: RAT | C7: 6 | E7: The climb rate (VelD) of the UAS will be less than VELD_DELTA_CLIMB and greater than VELD_DELTA_DESC, but if it is not, allow 3 timesteps to recover | F7: VelD | G7: VelD_lt_Prev_plus_Delta_Climb: VelD < PREV_VELD + VELD_DELTA_CLIMB VelD_gt_Prev_minus_Delta_Desc: VelD > PREV_VELD - VELD_DELTA_DESC | H7: !G[0,3] !(VelD_lt_Prev_plus_Delta_Climb & VelD_gt_Prev_minus_Delta_Desc) | I7: Critical Warning | J7: Vertical Velocity is changing too fast | K7: 2 | L7: VELD_DELTA_CLIMB and VELD_DELTA_DESC should not lead to an excess of 2G's. Corresponds to acceleration sensor bounds spec
A8: UAS | B8: RAT | C8: 7 | E8: There should be noise in the Pres measurement when Phase is not "Ready" such that the change is at a minimum PRES_DELTA_MIN, but if there is not, allow 3 timesteps to recover | F8: Pres, Phase | G8: Phase_eq_Ready: Phase == "Ready" Pres_gt_Prev_plus_Delta: Pres > PREV_PRES + PRES_DELTA_MIN Pres_lt_Prev_minus_Delta: Pres < PREV_PRES - PRES_DELTA_MIN | H8: !G[0,3] {!Phase_eq_Ready-> (!Pres_gt_Prev_plus_Delta & !Pres_lt_Prev_minus_Delta)} | I8: Emergency | J8: Pressure is changing too slowly | K8: 2 | L8: Pres_DELTA_MIN can be made a small non-zero number to be conservative. If there isn't noise, there is an issue with the sensor
A9: UAS | B9: RAT | C9: 8 | E9: The Pres should not change by more than PRES_DELTA_MAX, but it it does, allow 3 timesteps to recover | F9: Pres | G9: Pres_lt_Prev_plus_Delta: Pres < PREV_PRES + PRES_DELTA_MAX Pres_gt_Prev_minus_Delta: Pres > PREV_PRES - PRES_DELTA_MAX | H9: !G[0,3] !(Pres_lt_Prev_plus_Delta & Pres_gt_Prev_minus_Delta) | I9: Critical Warning | J9: Pressure is changing too quickly | K9: 2 | L9: PRES_DELTA_MAX should correlate to the equivalent maximum change in altitude per timestep
A10: GCS | B10: RAT | C10: 9 | E10: Once the Status of a flight plan is REJECTED, it can never become APPROVED or REPLACED | F10: Status | G10: Status_eq_Rejected: Status == REJECTED | H10: Status_eq_Rejected => G Status_eq_Rejected | I10: Critical Warning | J10: Rejected flightplan has moved to either Approved or Replaced | K10: 2 | L10: Defines the valid transitions for the Status variable
A11: GCS | B11: RAT | C11: 10 | E11: Once the Status of a flight plan is APPROVED, it can only transition from APPROVED to REPLACED; never APPROVED to REJECTED | F11: Status | G11: Status_eq_Rejected: Status == REJECTED Status_eq_Approved: Status == APPROVED | H11: Status_eq_Rejected => G !Status_eq_Approved | J11: Rejected flightplan has moved to either Approved | K11: 2
A12: GCS | B12: RAT | C12: 11 | E12: Once the Status of a flight plan is REPLACED, it can never become APPROVED | F12: Status | G12: Status_eq_Approved: Status == APPROVED Status_eq_Replaced: Status == REPLACED | H12: Status_eq_Replaced => G !Status_eq_Approved | J12: Replaced flightplan has moved to Approved | K12: 2
A13: GCS | B13: RAT | C13: 12 | E13: The incoming telemetry data's Time field should be within MAX_RATE seconds of the previous telemetry data's Time field | F13: Time, PrevTime | G13: TimeDif_leq_MaxTime: (Time - PrevTime) <= MAX_RATE | H13: !G[0,3] !TimeDif_leq_MaxTime | I13: Warning | J13: There have been many dropped packages in a row | K13: 2 | L13: Make sure we have timely updates from the UAS
A14: UTM | B14: RAT | C14: 13 | E14: Once the Status of a flight plan is REJECTED, it can never become APPROVED or REPLACED | F14: Status | G14: Status_eq_Rejected: Status == REJECTED | H14: Status_eq_Rejected => G Status_eq_Rejected | I14: Critical Warning | J14: Rejected flightplan has moved to either Approved or Replaced | K14: 2 | L14: operational_fp
A15: UTM | B15: RAT | C15: 14 | E15: Once the Status of a flight plan is APPROVED, it can only transition from APPROVED to REPLACED; never APPROVED to REJECTED | F15: Status | G15: Status_eq_Rejected: Status == REJECTED Status_eq_Approved: Status == APPROVED | H15: Status_eq_Rejected => G !Status_eq_Approved | J15: Rejected flightplan has moved to either Approved | K15: 2 | L15: operational_fp
A16: UTM | B16: RAT | C16: 15 | E16: Once the Status of a flight plan is REPLACED, it can never become APPROVED | F16: Status | G16: Status_eq_Approved: Status == APPROVED Status_eq_Replaced: Status == REPLACED | H16: Status_eq_Replaced => G !Status_eq_Approved | J16: Replaced flightplan has moved to Approved | K16: 2 | L16: operational_fp
A17: UTM | B17: RAT | C17: 16 | E17: Flight_Plan_IDs, issued from the UTM server, may only ever increment (to make sure no two UAS have the same Flight_Plan_ID) | F17: Flight_Plan_ID | G17: fpID_leq_PrevfpID: Flight_Plan_ID <= PrevFlight_Plan_ID | H17: G (fpID_leq_PrevfpID) | I17: Critical Warning | J17: Overflow of Flight_Plan_ID counter | K17: 2 | L17: operational_fp, waypoint_fp,Catch overflows for flight plan IDs
A18: UTM | B18: RAT | C18: 17 | E18: The rate at which an individual UAS's telemetry data is received by the UAS will be once per second while the UAS is in flight | F18: ID, Time | G18: Time_geq_PrevTime: Time(ID) >= PrevTime(ID) + 3 | H18: G[0,3] Time_geq_PrevTimeMargin | I18: Critical Warning | J18: Loss of telemetry transmission for UAS ID | K18: 2 | L18: telemetry, Is used to check for loss of communications
A19: UTM | B19: RAT | C19: 18 | E19: The UTM will return a Status response to a flight plan request within UTM_MAX_FP_RESPONSE_TIME | F19: Status, Time_Filed | G19: Status_eq_Rejected: Status == REJECTED Status_eq_Approved: Status == APPROVED Status_eq_Replaced: Status == REPLACED TimeFiledDiff_geq_Margin: Time - TimeFiled >= Margin | H19: G[0,3] ( (!Status_eq_Rejected & !Status_eq_Approved & !Status_eq_Replaced) & TimeFiledDiff_geq_Margin) | I19: Warning | J19: Failure of UTM to return UAS ID's flight plan Status | K19: 2 | L19: The UTM should have timely responses to flight plans

Sheet REL
A1: Identifier | B1: Spec Type | C1: Spec # | D1: Priority | E1: English Spec | F1: Sensors/Signals Needed | G1: Atomic Conversions | H1: MLTL Specification | I1: Trigger | J1: Explanation | K1: Automation Level | L1: Notes
A2: UAS | B2: REL | C2: 1 | E2: Since the altimeter and the barometer both can derive the air pressure, the error between these two measurements of pressure will be less than ERROR_PRES. If it is not, allow 3 time steps to recover | F2: Pres (Barometer), alt (GPS) | G2: Pres_lt_MaxPresErr: PRES_baro < PRES_GPSder + ERROR_PRES Pres_gt_MinPresErr: PRES_baro > PRES_GPSder - ERROR_PRES | H2: !G[0,3] !(VelE_lt_PrevVA_plus_Error & VelE_gt_PrevVA_minus_Error) | I2: Critical warning | J2: The Pressure measured from the barometer doesn't match up with the pressure calculated from the GPS | K2: 3 | L2: relationship derived from hydrostatic equation & equation of state
A3: UAS | B3: REL | C3: 2 | E3: The velocity measurement difference from the GPS and the IMU should be less than ERROR_VEL | F3: VelN (GPS), AccN (IMU) | G3: VelN_lt_PrevVA_plus_Error: VelN < PREV_VelN + PREV_AccN + ERROR_VEL VelN_gt_PrevVA_minus_Error: VelN > PREV_VelN +PREV_AccN - ERROR_VEL | H3: !G[0,3] !(VelD_lt_PrevVA_plus_Error & VelD_gt_PrevVA_minus_Error) | I3: Critical warning | J3: The error of the northern velocity between the GPS and the IMU is out of bounds | K3: 3 | L3: acceleration component is multiplied by change in time, but for the Vapor dt=1
A4: UAS | B4: REL | C4: 3 | E4: The velocity measurement difference from the GPS and the IMU should be less than ERROR_VEL | F4: VelE (GPS), AccE (IMU) | G4: VelE_lt_PrevVA_plus_Error: VelE < PREV_VelE + PREV_AccE + ERROR_VEL VelE_gt_PrevVA_minus_Error: VelE > PREV_VelE +PREV_AccE - ERROR_VEL | H4: !G[0,3] !(VelE_lt_PrevVA_plus_Error & VelE_gt_PrevVA_minus_Error) | J4: The error of the eastern velocity between the GPS and the IMU is out of bounds | K4: 3
A5: UAS | B5: REL | C5: 4 | E5: The velocity measurement difference from the GPS and the IMU should be less than ERROR_VEL | F5: VelD (GPS), AccD (IMU) | G5: VelD_lt_PrevVA_plus_Error: VelD < PREV_VelD + PREV_AccD + ERROR_VEL VelD_gt_PrevVA_minus_Error: VelD > PREV_VelD +PREV_AccD - ERROR_VEL | H5: !G[0,3] !(VelE_lt_PrevVA_plus_Error & VelE_gt_PrevVA_minus_Error) | J5: The error of the vertical velocity between the GPS and the IMU is out of bounds | K5: 3
A6: UAS | B6: REL | C6: 5 | E6: When the VelN velocity is positive and not small (>0.25m/s), the change in Lat shall be greater than 0 at all instances (in the northern hemisphere). The opposite shall be true when VelN is negative and not small (<0.25m/s) | F6: VelN, Lat | G6: DeltaLat = Lat - PREV_LAT VelN_gt_0.25: VelN > 0.25 VelN_lt_0.25: VelN < -0.25 DeltaLat_gt_0: DeltaLat > 0 DeltaLat_lt_0: DeltaLat < 0 | H6: G[0,M] ( (VelN_gt_0.25 & DeltaLat_gt_0) || (VelN_lt_0.25 & DeltaLat_lt_0) ) | I6: Critical Warning | J6: There is no change in Latitude due to the Velocity North, where there should be. | K6: 1 | L6: Need magnitude of VelN to be small so that a DeltaLat should be non 0. This accounts for some of minor disturbances that might occur when stationary.
A7: UAS | B7: REL | C7: 6 | E7: When the VelE velocity is positive and not small (>0.25m/s), the change in Long shall be greater than 0 at all instances (in the northern hemisphere). The opposite shall be true when VelE is negative and not small (<0.25m/s) | F7: VelE, Long | G7: DeltaLong = Long - PREV_LONG VelE_gt_0.25: VelE > 0.25 VelE_lt_0.25: VelE < -0.25 DeltaLong_gt_0: DeltaLong > 0 DeltaLong_lt_0: DeltaLong < 0 | H7: G[0,M] ( (VelE_gt_0.25 & DeltaLong_gt_0) || (VelE_lt_0.25 & DeltaLong_lt_0) ) | I7: Critical Warning | J7: There is no change in Longitude due to the Velocity East, where there should be. | K7: 1 | L7: Need magnitude of VelE to be small so that a DeltaLong should be non 0. This accounts for some of minor disturbances that might occur when stationary.
A8: UAS | B8: REL | C8: 7 | E8: The relationship between the Lat and the PosN measurements shall be directly proportional by factor k1. The error between these two should be less than ERROR_LAT_POSN. If it is outside these error bounds, then allow 3 timesteps for recovery | F8: Lat, PosN | G8: PosNrise = POSN - PREV_POSN LatRise = LAT - PREV_LAT ConvFact = PosNrise/LatRise PosNrise_geq_0.25: PosNrise >= 0.25 PosNrise_leq_0.25: PosNrise <= -0.25 ConvFact_leq_k1_plus_Error: ConvFact <= k1 + ERROR_LAT_POSN ConvFact_geq_k1_minus_Error: ConvFact >= k1 - ERROR_LAT_POSN | H8: (PosNrise_geq_0.25 || PosNrise_leq_0.25) -> !G[0,3] (!ConvFact_leq_k1_plus_Error || !ConvFact_geq_k1_minus_Error) | I8: Emergency | J8: The relationship between the Latitude and Position North is outside the error bounds and are too widely varied. | K8: 3 | L8: k1 would have to be predefined and is mission dependent based on initial altitude. ERROR_LAT_POSN could be given a value like 25% of k1
A9: UAS | B9: REL | C9: 8 | E9: The relationship between the Long and the PosE measurements shall be directly proportional by factor k2. The error between these two should be less than ERROR_LONG_POSE. If it is outside these error bounds, then allow 3 timesteps for recovery | F9: Long, PosE | G9: PosErise = POSE - PREV_POSE LongRise = LONG - PREV_LONG ConvFact = PosErise/LongRise PosErise_geq_0.25: PosErise >= 0.25 PosErise_leq_0.25: PosErise <= -0.25 ConvFact_leq_k2_plus_Error: ConvFact <= k2 + ERROR_LONG_POSE ConvFact_geq_k2_minus_Error: ConvFact >= k2 - ERROR_LONG_POSE | H9: (PosErise_geq_0.25 || PosErise_leq_0.25) -> !G[0,3] (!ConvFact_leq_k2_plus_Error || !ConvFact_geq_k2_minus_Error) | I9: Emergency | J9: The relationship between the Longitude and Position East is outside the error bounds and are too widely varied. | K9: 3 | L9: k2 would have to be predefined and is mission dependent based on initial altitude. ERROR_LONG_POSE could be given a value like 25% of k2
A10: UAS | B10: REL | C10: 9 | E10: There should be a linear relationship between the Altitude and the PosD measurements. The error between these two should be less than ERROR_ALT_POSD | F10: Alt, PosD | G10: PosD_plus_Alt_lt_Error: |PosD + Alt| < ERROR_ALT_POSD | H10: G[0,M] (PosD_plus_Alt_lt_Error) | I10: Emergency | J10: The difference between the altitude and the vertical position are too widely varied | K10: 3 | L10: Due to Pos D being negative, we have to add to find the accurate differences
A11: GCS | B11: REL | C11: 10 | E11: The Time of any given telemetry stream should be bounded within the flight plan's estimated Start and End times | F11: Time Start, End | G11: Time_geq_Start: Time >= Start Time_leq_End: Time <= End | H11: G (Time_geq_Start && Time_leq_End) | I11: Warning | J11: FlightTime has exceeded the start or end time | K11: 2
A12: UTM | B12: REL | C12: 11 | E12: The Time of any given telemetry stream should be bounded within the flight plan's estimated Start and End times | F12: Time Start, End | G12: Time_geq_Start: Time >= Start Time_leq_End: Time <= End | H12: G (Time_geq_Start && Time_leq_End) | I12: Warning | J12: FlightTime has exceeded the start or end time | K12: 2 | L12: Bounded or Intersensor spec? We need to know the telemetry's time and the start/end time of the flight plan (i.e., infro from two different place should match)
A13: UTM | B13: REL | C13: 12 | E13: The conStart and conEnd times of a conflict should be bounded within the flight plan's estimated Start and End times | F13: conStart, conEnd Start, End | G13: conStart_geq_Start : conStart >= Start conEnd_leq_End: conEnd <= End | H13: G (conStart_geq_Start && conEnd_leq_End) | I13: Warning | J13: Conflight Times exceed the planned flight time | K13: 2 | L13: Bounded or Intersensor spec? We need to know the conflicting start/end time and the start/end time of the flight plan (i.e., info from two different places should match)
A14: UTM | B14: REL | C14: 13 | E14: The conStart and conEnd times of a conflict should be between 0 and 120 seconds from the latest telemetry stream's Time | F14: conStart, conEnd Time | G14: conStart_geq_Time: conStart >= Time conEnd_leq_120Time: conEnd <= Time + 120 | H14: G (conStart_geq_Time && conEnd_leq_120Time) | I14: Warning | J14: Invalid conflict detected | K14: 2 | L14: Our prediction window is only 120 seconds, so we should not be returning an estimated end time further than our prediction horizon
A15: UTM | B15: REL | C15: 14 | E15: A telemetry's (wpLon, wpLat) reference waypoint should match a pair of (Lon, Lat) waypoints from that UAS's flight plan | F15: wpLon, wpLat Lon, Lat | G15: wpLonLat_eq_fpLonLat = False for (i = 0; i++; i < NumWaypoints) { if(wpLon == fpLon(i)) && (wpLat == fpLat(i))) wpLonLat_eq_fpLonLat = True; } | H15: G wpLonLat_eq_fpLonLat | I15: Warning | J15: Telemetry Waypoints do not match the waypoints in the UAS flight plan | K15: 2 | L15: Bounded or Intersensor spec? We need to know the waypoints from the flight plan and the telemtry's reference waypoints (i.e, info from two different places should match)
A16: UTM | B16: REL | C16: 15 | E16: If the Ang from a UAS's telemetry is between 0 and 90 degrees, then, if the UAS's Vel is greater than zero, the UAS's Lat should be increasing and the Lon should be decreasing each telemetry stream | F16: Ang, Vel, Lat, Lon | G16: Ang_leq_90: Ang <= 90.0 Ang_geq_0: Ang >= 0.0 Vel_gt_0: Vel > 0.0 Lat_minus_Prev_gt_0: Lat - PrevLat > 0 Lon_minus_Prev_lt_0: Lon - PrevLon < 0 | H16: ((Ang_leq_90 & Ang_geq_0 & Vel_gt_0) => (Lat_minus_Prev_gt_0 & Lon_minus_Prev_lt_0) | I16: Critical Warning | J16: The UAS's bearing is between 0 and 90 degrees, but the Latitude is decreasing and/or the Longitude is increase whearas they should be increasing and decreasing respectively | K16: 2 | L16: Assuming the UTM is operating in North America, there should be a correlation b/w heading and Lat/Lon, if the UAS's velocity is nonzero
A17: UTM | B17: REL | C17: 16 | E17: If the Ang from a UAS's telemetry is between 90 and 180 degrees, then, if the UAS's Vel is greater than zero, the UAS's Lat and Lon should be incrementing each telemetry stream | F17: Ang, Vel, Lat, Lon | G17: Ang_geq_180: Ang >= 180.0 Ang_leq_90: Ang <= 90.0 Vel_gt_0: Vel > 0.0 Lat_minus_Prev_gt_0: Lat - PrevLat > 0 Lon_minus_Prev_gt_0: Lon - PrevLon > 0 | H17: ((Ang_geq_180 & Ang_leq_90 & Vel_gt_0) => (Lat_minus_Prev_gt_0 & Lon_minus_Prev_gt_0) | I17: Critical Warning | J17: The UAS's bearing is between 90 and 180 degrees, but the Latitude and/or the Longitude are decreasing whearas they should be increasing | K17: 2 | L17: Assuming the UTM is operating in North America, there should be a correlation b/w heading and Lat/Lon, if the UAS's velocity is nonzero
A18: UTM | B18: REL | C18: 17 | E18: If the Ang from a UAS's telemetry is between 180 and 270 degrees, then, if the UAS's Vel is greater than zero, the UAS's Lat should be decreasing and the Lon should be increasing each telemetry stream | F18: Ang, Vel, Lat, Lon | G18: Ang_geq_180: Ang >= 180.0 Ang_leq_270: Ang <= 270.0 Vel_gt_0: Vel > 0.0 Lat_minus_Prev_lt_0: Lat - PrevLat < 0 Lon_minus_Prev_gt_0: Lon - PrevLon > 0 | H18: ((Ang_geq_180 & Ang_leq_270 & Vel_gt_0) => (Lat_minus_Prev_lt_0 & Lon_minus_Prev_gt_0) | I18: Critical Warning | J18: The UAS's bearing is between 180 and 270, but the Latitude is increasing and/or the Longitude is decreasing, whearas they should be decreasing and increasing respectively. | K18: 2 | L18: Assuming the UTM is operating in North America, there should be a correlation b/w heading and Lat/Lon, if the UAS's velocity is nonzero
A19: UTM | B19: REL | C19: 18 | E19: If the Ang from a UAS's telemetry is between 270 and 360 degrees, then, if the UAS's Vel is greater than zero, the UAS's Lat and Lon should be decreasint each telemetry stream | F19: Ang, Vel, Lat, Lon | G19: Ang_geq_270: Ang >= 270.0 Ang_leq_360: Ang <= 360.0 Vel_gt_0: Vel > 0.0 Lat_minus_Prev_lt_0: Lat - PrevLat < 0 Lon_minus_Prev_lt_0: Lon - PrevLon < 0 | H19: ((Ang_geq_270 & Ang_leq_360 & Vel_gt_0) => (Lat_minus_Prev_lt_0 & Lon_minus_Prev_lt_0) | I19: Critical Warning | J19: The UAS's bearing is between 270 and 360 degrees, but the Latitude and/or Longitude is increasing whearas they should be decreasing | K19: 2 | L19: Assuming the UTM is operating in North America, there should be a correlation b/w heading and Lat/Lon, if the UAS's velocity is nonzero

Sheet CTRL
A1: Identifier | B1: Spec Type | C1: Spec # | D1: Priority | E1: English Spec | F1: Sensors/Signals Needed | G1: Atomic Conversions | H1: MLTL Specification | I1: Trigger | J1: Explanation | K1: Automation Level | L1: Notes
A2: UAS | B2: CTRL | C2: 1 | E2: The UAS cmd values RefVelN, RefVelE, RefVelD, RefYaw, and RefYawdot should be 0 when Subphase is Test Actuators or when Phase is in Test at all instances | F2: RefVelN, RefVelE, RefVelD, RefYaw, RefYawdot, Subphase, Phase | G2: RefVelN_eq_0: RefVelN==0 RefVelE_eq_0: RefVelE==0 RefVelD_eq_0: RefVelD==0 RefYaw_eq_0: RefYaw==0 RefYawdot_eq_0: RefYawdot==0 Phase_eq_Test: Phase=="Test" Subphase_eq_TestActuators: Subphase == "Test Actuators" | H2: G[0,M] ((Phase_eq_Test || Subphase_eq_TestActuators) -> (RefVelN_eq_0 & RefVelE_eq_0 & RefVelD_eq_0 & RefYaw_eq_0 & RefYawdot_eq_0)) | I2: Warning | J2: UAS is moving when in testing phase or test actuators subphase | K2: 1 | L2: Based strictly off of the 2018-0-02-telemetry.csv file
A3: UAS | B3: CTRL | C3: 2 | E3: If a UAS takes off, eventually it will land in all cases | F3: Phase, Subphase | G3: Phase_eq_Takeoff: Phase == "Takeoff" Phase_eq_Landing: Phase == "Landing" | H3: Phase_eq_Takeoff -> F[0,M] (Phase_eq_Landing) | I3: Warning | J3: Landing did not occur after takeoff | K3: 2
A4: UAS | B4: CTRL | C4: 3 | E4: The UAS will always take-off before it lands in all cases | F4: Phase, Subphase | G4: Takeoff_Time_lt_Landing_Time: Takeoff_Time < Landing_Time | H4: G[0,M] (Takeoff_Time_lt_Landing_Time) | I4: Emergency | J4: The UAS has landed before taking off | K4: 1
A5: UAS | B5: CTRL | C5: 4 | E5: If a UAS is flying toward a STOP waypoint, it will eventually decelerate | F5: Subphase,AccD,AccE,AccN | G5: Subphase_eq_Stop: Subphase == "Stop" AccD_leq_0: AccD <= 0 AccN_lt_0: AccN < 0 AccE_lt_0: AccE < 0 | H5: Subphase_eq_Stop => F[0,M] (AccD_leq_0 & AccN_lt_0 & AccE_lt_0) | I5: Emergency | J5: UAS is not slowing down while heading to a stop | K5: 2 | L5: If the UAS is at the correct altitude, there shouldn't be any acceleration up or down so it is possible for it to be zero
A6: UAS | B6: CTRL | C6: 5 | E6: If a UAS is flying toward a CRUISE waypoint, it will maintain its speed | F6: Subphase,AccD,AccE,AccN | G6: Subphase_eq_Cruise: Subphase == "Cruise" AccD_eq_0: AccD == 0 AccN_eq_0: AccN == 0 AccE_eq_0: AccE == 0 | H6: Subphase_eq_Cruise => F[0.M] (AccD_eq_0 & AccN_eq_0 & AccE_eq_0) | I6: Emergency | J6: The UAS is either accelerating or decelerating towards a Cruise Waypoint | K6: 2
A7: GCS | B7: CTRL | C7: 6 | E7: The reference waypoint (wpLat, wpLon) will eventually change to a new reference waypoint | F7: wpLat, wpLon | G7: wpLat_neq_prevWpLat: wpLat != prevWpLat wpLon_new_prevWpLon: wpLon != prevWpLon | H7: F[0,200](wpLat_neq_preWpLat && wpLon_neq_prevWpLon) | I7: Critical Warning | J7: The UAS should progress through waypoints (not be stuck at one waypoint) | K7: 2
A8: GCS | B8: CTRL | C8: 7 | E8: A UAS reference waypoint (wpLat, wpLon) will eventually change to the next flight plan waypoint (fpLat, fpLon) | F8: wpLat, wpLon, fpLat, fpLon, | G8: atomics_vector[38] = 1; if((wpLat != prevWpLat) || (wpLon != prevWpLon)){ i = 0; j = 0; k = 0; for(i = 0; i < NumWp; i++) { if(wpLat == fpLat[i]) { j = i;} if(prevWpLat == fpLat[i]){ k = i; }} if((j < k) && (j != -1) && (k != -1)){ atomics_vector[37] = 0;}} | H8: F[0,200](wpLat_eq_fpLati && wpLon_eq_fpLoni) | I8: Warning | J8: The order the UAS progresses through waypoints should be upheld | K8: 2
A9: GCS | B9: CTRL | C9: 8 | E9: The reference latitude (LatWP) and longitude (LonWP) will be contained within the set of waypoints given in the flight plan | F9: LatWP, LonWP fpLat, fpLon | G9: wpLonLat_eq_fpLonLat = False; for (i = 0; i < NumWp; i++) { if ((wpLon == fpLon(i)) && (wpLat == fpLat(i))) wpLonLat_eq_fpLonLat == True; } | H9: wpLonLat_eq_fpLon_Lat | I9: Critical Warning | J9: Reference waypoints should be contained within the set of waypoints from that UAS's flight plan (this spec will tell us if anyone deviated from their flight plan) | K9: 2

Sheet CHE
A1: BL | B1: Spec Type | C1: Spec # | D1: Priority | E1: English Spec | F1: Sensors/Signals Needed | G1: Atomic Conversions | H1: MLTL Specification | I1: Trigger | J1: Explanation | K1: Automation Level | L1: Notes
A2: CUBE
