Workbook

Sheet Details (Regular)
A1: Name | B1: Details
A2: LOC.R.01 | B2: Basic configuration with engine defaults
A3: LOC.R.02 | B3: Basic configuration with LOC iterating groups in reverse
A4: LOC.R.03 | B4: Configuration with one fast and lossy LOC
A5: LOC.R.04 | B5: Configuration with one fast and lossy, reverse iterating LOC
A6: LOC.R.05 | B6: Configuration with one fast and lossy, with repetition of high-affinity groups
A7: LOC.R.06 | B7: Configuration with one fast and lossy, with exactly one repetition of unsolved non-singletons groups as singletons
A8: LOC.R.07 | B8: Configuration with one fast and lossy, with repetition of all high-affinity groups as singletons
A9: LOC.R.08 | B9: Configuration with LOC BMC rerun if TBV produces a counterexample
A10: LOC.R.09 | B10: Configuration with LOC PBA after BMC stage is completed
A11: LOC.R.10 | B11: Configuration with LOC PBA after every BMC step
A12: LOC.R.11 | B12: Configuration with LOC PBA after every BMC step with hard registers
... A37: LOC.R.36 | B37: Configuration with one fast and lossy LOC with minimal PBA after every BMC step with hard registers, and repetition of all high-affinity groups as singletons

Sheet Results (Regular)
A1: Benchmark | B1: Total | C1: LOC.R.01 | G1: LOC.R.02 | K1: LOC.R.03 | O1: LOC.R.04 | S1: LOC.R.05 | W1: LOC.R.06 | AA1: LOC.R.07 | AE1: LOC.R.08 | AI1: LOC.R.09 | AM1: LOC.R.10 | AQ1: LOC.R.11 | AU1: LOC.R.12 | AY1: LOC.R.13 | BC1: LOC.R.14 | BG1: LOC.R.15 | BK1: LOC.R.16 | BO1: LOC.R.17 | BS1: LOC.R.18 | BW1: LOC.R.19 | CA1: LOC.R.20 | CE1: LOC.R.21 | CI1: LOC.R.22 | CM1: LOC.R.23 | CQ1: LOC.R.24 | CU1: LOC.R.25 | CY1: LOC.R.26 | DC1: LOC.R.27 | DG1: LOC.R.28 | DK1: LOC.R.29 | DO1: LOC.R.30 | DS1: LOC.R.31 | DW1: LOC.R.32 | EA1: LOC.R.33 | EE1: LOC.R.34 | EI1: LOC.R.35 | EM1: LOC.R.36
C2: P | D2: H | E2: L | F2: U | G2: P | H2: H | I2: L | J2: U | K2: P | L2: H | M2: L | N2: U | O2: P | P2: H | Q2: L | R2: U | S2: P | T2: H | U2: L | V2: U | W2: P | X2: H | Y2: L | Z2: U | AA2: P | AB2: H | AC2: L | AD2: U | AE2: P | AF2: H | AG2: L | AH2: U | AI2: P | AJ2: H | AK2: L | AL2: U | AM2: P | AN2: H | AO2: L | AP2: U | AQ2: P | AR2: H | AS2: L | AT2: U | AU2: P | AV2: H | AW2: L | AX2: U | AY2: P | AZ2: H | BA2: L | BB2: U | BC2: P | BD2: H | BE2: L | BF2: U | BG2: P | BH2: H | BI2: L | BJ2: U | BK2: P | BL2: H | BM2: L | BN2: U | BO2: P | BP2: H | BQ2: L | BR2: U | BS2: P | BT2: H | BU2: L | BV2: U | BW2: P | BX2: H | BY2: L | BZ2: U | CA2: P | CB2: H | CC2: L | CD2: U | CE2: P | CF2: H | CG2: L | CH2: U | CI2: P | CJ2: H | CK2: L | CL2: U | CM2: P | CN2: H | CO2: L | CP2: U | CQ2: P | CR2: H | CS2: L | CT2: U | CU2: P | CV2: H | CW2: L | CX2: U | CY2: P | CZ2: H | DA2: L | DB2: U | DC2: P | DD2: H | DE2: L | DF2: U | DG2: P | DH2: H | DI2: L | DJ2: U | DK2: P | DL2: H | DM2: L | DN2: U | DO2: P | DP2: H | DQ2: L | DR2: U | DS2: P | DT2: H | DU2: L | DV2: U | DW2: P | DX2: H | DY2: L | DZ2: U | EA2: P | EB2: H | EC2: L | ED2: U | EE2: P | EF2: H | EG2: L | EH2: U | EI2: P | EJ2: H | EK2: L | EL2: U | EM2: P | EN2: H | EO2: L | EP2: U
A3: ibm.r.01 | B3: 112 | C3: 111 | D3: 1 | E3: 0 | F3: 0 | G3: 111 | H3: 1 | I3: 0 | J3: 0 | K3: 111 | L3: 1 | M3: 0 | N3: 0 | O3: 111 | P3: 1 | Q3: 0 | R3: 0 | S3: 111 | T3: 1 | U3: 0 | V3: 0 | W3: 111 | X3: 1 | Y3: 0 | Z3: 0 | AA3: 111 | AB3: 1 | AC3: 0 | AD3: 0 | AE3: 111 | AF3: 1 | AG3: 0 | AH3: 0 | AI3: 111 | AJ3: 1 | AK3: 0 | AL3: 0 | AM3: 111 | AN3: 1 | AO3: 0 | AP3: 0 | AQ3: 111 | AR3: 1 | AS3: 0 | AT3: 0 | AU3: 111 | AV3: 1 | AW3: 0 | AX3: 0 | AY3: 111 | AZ3: 1 | BA3: 0 | BB3: 0 | BC3: 111 | BD3: 1 | BE3: 0 | BF3: 0 | BG3: 111 | BH3: 1 | BI3: 0 | BJ3: 0 | BK3: 111 | BL3: 1 | BM3: 0 | BN3: 0 | BO3: 111 | BP3: 1 | BQ3: 0 | BR3: 0 | BS3: 111 | BT3: 1 | BU3: 0 | BV3: 0 | BW3: 111 | BX3: 1 | BY3: 0 | BZ3: 0 | CA3: 111 | CB3: 1 | CC3: 0 | CD3: 0 | CE3: 111 | CF3: 1 | CG3: 0 | CH3: 0 | CI3: 111 | CJ3: 1 | CK3: 0 | CL3: 0 | CM3: 111 | CN3: 1 | CO3: 0 | CP3: 0 | CQ3: 111 | CR3: 1 | CS3: 0 | CT3: 0 | CU3: 111 | CV3: 1 | CW3: 0 | CX3: 0 | CY3: 111 | CZ3: 1 | DA3: 0 | DB3: 0 | DC3: 111 | DD3: 1 | DE3: 0 | DF3: 0 | DG3: 111 | DH3: 1 | DI3: 0 | DJ3: 0 | DK3: 111 | DL3: 1 | DM3: 0 | DN3: 0 | DO3: 111 | DP3: 1 | DQ3: 0 | DR3: 0 | DS3: 111 | DT3: 1 | DU3: 0 | DV3: 0 | DW3: 111 | DX3: 1 | DY3: 0 | DZ3: 0 | EA3: 111 | EB3: 1 | EC3: 0 | ED3: 0 | EE3: 111 | EF3: 1 | EG3: 0 | EH3: 0 | EI3: 111 | EJ3: 1 | EK3: 0 | EL3: 0 | EM3: 111 | EN3: 1 | EO3: 0 | EP3: 0
A4: ibm.r.02 | B4: 1 | C4: 0 | D4: 0 | E4: 1 | F4: 0 | G4: 0 | H4: 0 | I4: 1 | J4: 0 | K4: 0 | L4: 0 | M4: 1 | N4: 0 | O4: 0 | P4: 0 | Q4: 1 | R4: 0 | S4: 0 | T4: 0 | U4: 1 | V4: 0 | W4: 0 | X4: 0 | Y4: 1 | Z4: 0 | AA4: 0 | AB4: 0 | AC4: 1 | AD4: 0 | AE4: 0 | AF4: 0 | AG4: 1 | AH4: 0 | AI4: 0 | AJ4: 0 | AK4: 1 | AL4: 0 | AM4: 0 | AN4: 0 | AO4: 1 | AP4: 0 | AQ4: 0 | AR4: 0 | AS4: 1 | AT4: 0 | AU4: 0 | AV4: 0 | AW4: 1 | AX4: 0 | AY4: 0 | AZ4: 0 | BA4: 1 | BB4: 0 | BC4: 0 | BD4: 0 | BE4: 1 | BF4: 0 | BG4: 0 | BH4: 0 | BI4: 1 | BJ4: 0 | BK4: 0 | BL4: 0 | BM4: 1 | BN4: 0 | BO4: 0 | BP4: 0 | BQ4: 1 | BR4: 0 | BS4: 0 | BT4: 0 | BU4: 1 | BV4: 0 | BW4: 0 | BX4: 0 | BY4: 1 | BZ4: 0 | CA4: 0 | CB4: 0 | CC4: 1 | CD4: 0 | CE4: 0 | CF4: 0 | CG4: 1 | CH4: 0 | CI4: 0 | CJ4: 0 | CK4: 1 | CL4: 0 | CM4: 0 | CN4: 0 | CO4: 1 | CP4: 0 | CQ4: 0 | CR4: 0 | CS4: 1 | CT4: 0 | CU4: 0 | CV4: 0 | CW4: 1 | CX4: 0 | CY4: 0 | CZ4: 0 | DA4: 1 | DB4: 0 | DC4: 0 | DD4: 0 | DE4: 1 | DF4: 0 | DG4: 0 | DH4: 0 | DI4: 1 | DJ4: 0 | DK4: 0 | DL4: 0 | DM4: 1 | DN4: 0 | DO4: 0 | DP4: 0 | DQ4: 1 | DR4: 0 | DS4: 0 | DT4: 0 | DU4: 1 | DV4: 0 | DW4: 0 | DX4: 0 | DY4: 1 | DZ4: 0 | EA4: 0 | EB4: 0 | EC4: 1 | ED4: 0 | EE4: 0 | EF4: 0 | EG4: 1 | EH4: 0 | EI4: 0 | EJ4: 0 | EK4: 1 | EL4: 0 | EM4: 0 | EN4: 0 | EO4: 1 | EP4: 0
A5: ibm.r.03 | B5: 1 | C5: 0 | D5: 0 | E5: 1 | F5: 0 | G5: 0 | H5: 0 | I5: 1 | J5: 0 | K5: 0 | L5: 0 | M5: 1 | N5: 0 | O5: 0 | P5: 0 | Q5: 1 | R5: 0 | S5: 0 | T5: 0 | U5: 1 | V5: 0 | W5: 0 | X5: 0 | Y5: 1 | Z5: 0 | AA5: 0 | AB5: 0 | AC5: 1 | AD5: 0 | AE5: 0 | AF5: 0 | AG5: 1 | AH5: 0 | AI5: 0 | AJ5: 0 | AK5: 1 | AL5: 0 | AM5: 0 | AN5: 0 | AO5: 1 | AP5: 0 | AQ5: 0 | AR5: 0 | AS5: 1 | AT5: 0 | AU5: 0 | AV5: 0 | AW5: 1 | AX5: 0 | AY5: 0 | AZ5: 0 | BA5: 1 | BB5: 0 | BC5: 0 | BD5: 0 | BE5: 1 | BF5: 0 | BG5: 0 | BH5: 0 | BI5: 1 | BJ5: 0 | BK5: 0 | BL5: 0 | BM5: 1 | BN5: 0 | BO5: 0 | BP5: 0 | BQ5: 1 | BR5: 0 | BS5: 0 | BT5: 0 | BU5: 1 | BV5: 0 | BW5: 0 | BX5: 0 | BY5: 1 | BZ5: 0 | CA5: 0 | CB5: 0 | CC5: 1 | CD5: 0 | CE5: 0 | CF5: 0 | CG5: 1 | CH5: 0 | CI5: 0 | CJ5: 0 | CK5: 1 | CL5: 0 | CM5: 0 | CN5: 0 | CO5: 1 | CP5: 0 | CQ5: 0 | CR5: 0 | CS5: 1 | CT5: 0 | CU5: 0 | CV5: 0 | CW5: 1 | CX5: 0 | CY5: 0 | CZ5: 0 | DA5: 1 | DB5: 0 | DC5: 0 | DD5: 0 | DE5: 1 | DF5: 0 | DG5: 0 | DH5: 0 | DI5: 1 | DJ5: 0 | DK5: 0 | DL5: 0 | DM5: 1 | DN5: 0 | DO5: 0 | DP5: 0 | DQ5: 1 | DR5: 0 | DS5: 0 | DT5: 0 | DU5: 1 | DV5: 0 | DW5: 0 | DX5: 0 | DY5: 1 | DZ5: 0 | EA5: 0 | EB5: 0 | EC5: 1 | ED5: 0 | EE5: 0 | EF5: 0 | EG5: 1 | EH5: 0 | EI5: 0 | EJ5: 0 | EK5: 1 | EL5: 0 | EM5: 0 | EN5: 0 | EO5: 1 | EP5: 0
A6: ibm.r.04 | B6: 1 | C6: 0 | D6: 0 | E6: 1 | F6: 0 | G6: 0 | H6: 0 | I6: 1 | J6: 0 | K6: 0 | L6: 0 | M6: 1 | N6: 0 | O6: 0 | P6: 0 | Q6: 1 | R6: 0 | S6: 0 | T6: 0 | U6: 1 | V6: 0 | W6: 0 | X6: 0 | Y6: 1 | Z6: 0 | AA6: 0 | AB6: 0 | AC6: 1 | AD6: 0 | AE6: 0 | AF6: 0 | AG6: 1 | AH6: 0 | AI6: 0 | AJ6: 0 | AK6: 1 | AL6: 0 | AM6: 0 | AN6: 0 | AO6: 1 | AP6: 0 | AQ6: 0 | AR6: 0 | AS6: 1 | AT6: 0 | AU6: 0 | AV6: 0 | AW6: 1 | AX6: 0 | AY6: 0 | AZ6: 0 | BA6: 1 | BB6: 0 | BC6: 0 | BD6: 0 | BE6: 1 | BF6: 0 | BG6: 0 | BH6: 0 | BI6: 1 | BJ6: 0 | BK6: 0 | BL6: 0 | BM6: 1 | BN6: 0 | BO6: 0 | BP6: 0 | BQ6: 1 | BR6: 0 | BS6: 0 | BT6: 0 | BU6: 1 | BV6: 0 | BW6: 0 | BX6: 0 | BY6: 1 | BZ6: 0 | CA6: 0 | CB6: 0 | CC6: 1 | CD6: 0 | CE6: 0 | CF6: 0 | CG6: 1 | CH6: 0 | CI6: 0 | CJ6: 0 | CK6: 1 | CL6: 0 | CM6: 0 | CN6: 0 | CO6: 1 | CP6: 0 | CQ6: 0 | CR6: 0 | CS6: 1 | CT6: 0 | CU6: 0 | CV6: 0 | CW6: 1 | CX6: 0 | CY6: 0 | CZ6: 0 | DA6: 1 | DB6: 0 | DC6: 0 | DD6: 0 | DE6: 1 | DF6: 0 | DG6: 0 | DH6: 0 | DI6: 1 | DJ6: 0 | DK6: 0 | DL6: 0 | DM6: 1 | DN6: 0 | DO6: 0 | DP6: 0 | DQ6: 1 | DR6: 0 | DS6: 0 | DT6: 0 | DU6: 1 | DV6: 0 | DW6: 0 | DX6: 0 | DY6: 1 | DZ6: 0 | EA6: 0 | EB6: 0 | EC6: 1 | ED6: 0 | EE6: 0 | EF6: 0 | EG6: 1 | EH6: 0 | EI6: 0 | EJ6: 0 | EK6: 1 | EL6: 0 | EM6: 0 | EN6: 0 | EO6: 1 | EP6: 0
A7: ibm.r.05 | B7: 1 | C7: 0 | D7: 0 | E7: 1 | F7: 0 | G7: 0 | H7: 0 | I7: 1 | J7: 0 | K7: 0 | L7: 0 | M7: 1 | N7: 0 | O7: 0 | P7: 0 | Q7: 1 | R7: 0 | S7: 0 | T7: 0 | U7: 1 | V7: 0 | W7: 0 | X7: 0 | Y7: 1 | Z7: 0 | AA7: 0 | AB7: 0 | AC7: 1 | AD7: 0 | AE7: 0 | AF7: 0 | AG7: 1 | AH7: 0 | AI7: 0 | AJ7: 0 | AK7: 1 | AL7: 0 | AM7: 0 | AN7: 0 | AO7: 1 | AP7: 0 | AQ7: 0 | AR7: 0 | AS7: 1 | AT7: 0 | AU7: 0 | AV7: 0 | AW7: 1 | AX7: 0 | AY7: 0 | AZ7: 0 | BA7: 1 | BB7: 0 | BC7: 0 | BD7: 0 | BE7: 1 | BF7: 0 | BG7: 0 | BH7: 0 | BI7: 1 | BJ7: 0 | BK7: 0 | BL7: 0 | BM7: 1 | BN7: 0 | BO7: 0 | BP7: 0 | BQ7: 1 | BR7: 0 | BS7: 0 | BT7: 0 | BU7: 1 | BV7: 0 | BW7: 0 | BX7: 0 | BY7: 1 | BZ7: 0 | CA7: 0 | CB7: 0 | CC7: 1 | CD7: 0 | CE7: 0 | CF7: 0 | CG7: 1 | CH7: 0 | CI7: 0 | CJ7: 0 | CK7: 1 | CL7: 0 | CM7: 0 | CN7: 0 | CO7: 1 | CP7: 0 | CQ7: 0 | CR7: 0 | CS7: 1 | CT7: 0 | CU7: 0 | CV7: 0 | CW7: 1 | CX7: 0 | CY7: 0 | CZ7: 0 | DA7: 1 | DB7: 0 | DC7: 0 | DD7: 0 | DE7: 1 | DF7: 0 | DG7: 0 | DH7: 0 | DI7: 1 | DJ7: 0 | DK7: 0 | DL7: 0 | DM7: 1 | DN7: 0 | DO7: 0 | DP7: 0 | DQ7: 1 | DR7: 0 | DS7: 0 | DT7: 0 | DU7: 1 | DV7: 0 | DW7: 0 | DX7: 0 | DY7: 1 | DZ7: 0 | EA7: 0 | EB7: 0 | EC7: 1 | ED7: 0 | EE7: 0 | EF7: 0 | EG7: 1 | EH7: 0 | EI7: 0 | EJ7: 0 | EK7: 1 | EL7: 0 | EM7: 0 | EN7: 0 | EO7: 1 | EP7: 0
A8: ibm.r.06 | B8: 4 | C8: 3 | D8: 0 | E8: 1 | F8: 0 | G8: 0 | H8: 0 | I8: 4 | J8: 0 | K8: 1 | L8: 0 | M8: 3 | N8: 0 | O8: 1 | P8: 0 | Q8: 3 | R8: 0 | S8: 1 | T8: 0 | U8: 3 | V8: 0 | W8: 1 | X8: 0 | Y8: 3 | Z8: 0 | AA8: 1 | AB8: 0 | AC8: 3 | AD8: 0 | AE8: 3 | AF8: 0 | AG8: 1 | AH8: 0 | AI8: 3 | AJ8: 0 | AK8: 1 | AL8: 0 | AM8: 3 | AN8: 0 | AO8: 1 | AP8: 0 | AQ8: 3 | AR8: 0 | AS8: 1 | AT8: 0 | AU8: 3 | AV8: 0 | AW8: 1 | AX8: 0 | AY8: 3 | AZ8: 0 | BA8: 1 | BB8: 0 | BC8: 3 | BD8: 0 | BE8: 1 | BF8: 0 | BG8: 3 | BH8: 0 | BI8: 1 | BJ8: 0 | BK8: 3 | BL8: 0 | BM8: 1 | BN8: 0 | BO8: 3 | BP8: 0 | BQ8: 1 | BR8: 0 | BS8: 1 | BT8: 0 | BU8: 3 | BV8: 0 | BW8: 1 | BX8: 0 | BY8: 3 | BZ8: 0 | CA8: 1 | CB8: 0 | CC8: 3 | CD8: 0 | CE8: 1 | CF8: 0 | CG8: 3 | CH8: 0 | CI8: 1 | CJ8: 0 | CK8: 3 | CL8: 0 | CM8: 1 | CN8: 0 | CO8: 3 | CP8: 0 | CQ8: 1 | CR8: 0 | CS8: 3 | CT8: 0 | CU8: 1 | CV8: 0 | CW8: 3 | CX8: 0 | CY8: 1 | CZ8: 0 | DA8: 3 | DB8: 0 | DC8: 0 | DD8: 0 | DE8: 4 | DF8: 0 | DG8: 0 | DH8: 0 | DI8: 4 | DJ8: 0 | DK8: 0 | DL8: 0 | DM8: 4 | DN8: 0 | DO8: 3 | DP8: 0 | DQ8: 1 | DR8: 0 | DS8: 0 | DT8: 0 | DU8: 4 | DV8: 0 | DW8: 0 | DX8: 0 | DY8: 4 | DZ8: 0 | EA8: 0 | EB8: 0 | EC8: 4 | ED8: 0 | EE8: 0 | EF8: 0 | EG8: 4 | EH8: 0 | EI8: 0 | EJ8: 0 | EK8: 4 | EL8: 0 | EM8: 1 | EN8: 0 | EO8: 3 | EP8: 0
A9: ibm.r.07 | B9: 1 | C9: 0 | D9: 0 | E9: 1 | F9: 0 | G9: 0 | H9: 0 | I9: 1 | J9: 0 | K9: 0 | L9: 0 | M9: 1 | N9: 0 | O9: 0 | P9: 0 | Q9: 1 | R9: 0 | S9: 0 | T9: 0 | U9: 1 | V9: 0 | W9: 0 | X9: 0 | Y9: 1 | Z9: 0 | AA9: 0 | AB9: 0 | AC9: 1 | AD9: 0 | AE9: 0 | AF9: 0 | AG9: 1 | AH9: 0 | AI9: 0 | AJ9: 0 | AK9: 1 | AL9: 0 | AM9: 0 | AN9: 0 | AO9: 1 | AP9: 0 | AQ9: 0 | AR9: 0 | AS9: 1 | AT9: 0 | AU9: 0 | AV9: 0 | AW9: 1 | AX9: 0 | AY9: 0 | AZ9: 0 | BA9: 1 | BB9: 0 | BC9: 0 | BD9: 0 | BE9: 1 | BF9: 0 | BG9: 0 | BH9: 0 | BI9: 1 | BJ9: 0 | BK9: 0 | BL9: 0 | BM9: 1 | BN9: 0 | BO9: 0 | BP9: 0 | BQ9: 1 | BR9: 0 | BS9: 0 | BT9: 0 | BU9: 1 | BV9: 0 | BW9: 0 | BX9: 0 | BY9: 1 | BZ9: 0 | CA9: 0 | CB9: 0 | CC9: 1 | CD9: 0 | CE9: 0 | CF9: 0 | CG9: 1 | CH9: 0 | CI9: 0 | CJ9: 0 | CK9: 1 | CL9: 0 | CM9: 0 | CN9: 0 | CO9: 1 | CP9: 0 | CQ9: 0 | CR9: 0 | CS9: 1 | CT9: 0 | CU9: 0 | CV9: 0 | CW9: 1 | CX9: 0 | CY9: 0 | CZ9: 0 | DA9: 1 | DB9: 0 | DC9: 0 | DD9: 0 | DE9: 1 | DF9: 0 | DG9: 0 | DH9: 0 | DI9: 1 | DJ9: 0 | DK9: 0 | DL9: 0 | DM9: 1 | DN9: 0 | DO9: 0 | DP9: 0 | DQ9: 1 | DR9: 0 | DS9: 0 | DT9: 0 | DU9: 1 | DV9: 0 | DW9: 0 | DX9: 0 | DY9: 1 | DZ9: 0 | EA9: 0 | EB9: 0 | EC9: 1 | ED9: 0 | EE9: 0 | EF9: 0 | EG9: 1 | EH9: 0 | EI9: 0 | EJ9: 0 | EK9: 1 | EL9: 0 | EM9: 0 | EN9: 0 | EO9: 1 | EP9: 0
A10: ibm.r.08 | B10: 2 | C10: 0 | D10: 0 | E10: 2 | F10: 0 | G10: 0 | H10: 0 | I10: 2 | J10: 0 | K10: 0 | L10: 0 | M10: 2 | N10: 0 | O10: 0 | P10: 0 | Q10: 2 | R10: 0 | S10: 0 | T10: 0 | U10: 2 | V10: 0 | W10: 0 | X10: 0 | Y10: 2 | Z10: 0 | AA10: 0 | AB10: 0 | AC10: 2 | AD10: 0 | AE10: 0 | AF10: 0 | AG10: 2 | AH10: 0 | AI10: 0 | AJ10: 0 | AK10: 2 | AL10: 0 | AM10: 0 | AN10: 0 | AO10: 2 | AP10: 0 | AQ10: 0 | AR10: 0 | AS10: 2 | AT10: 0 | AU10: 0 | AV10: 0 | AW10: 2 | AX10: 0 | AY10: 0 | AZ10: 0 | BA10: 2 | BB10: 0 | BC10: 0 | BD10: 0 | BE10: 2 | BF10: 0 | BG10: 0 | BH10: 0 | BI10: 2 | BJ10: 0 | BK10: 0 | BL10: 0 | BM10: 2 | BN10: 0 | BO10: 0 | BP10: 0 | BQ10: 2 | BR10: 0 | BS10: 0 | BT10: 0 | BU10: 2 | BV10: 0 | BW10: 0 | BX10: 0 | BY10: 2 | BZ10: 0 | CA10: 0 | CB10: 0 | CC10: 2 | CD10: 0 | CE10: 0 | CF10: 0 | CG10: 2 | CH10: 0 | CI10: 0 | CJ10: 0 | CK10: 2 | CL10: 0 | CM10: 0 | CN10: 0 | CO10: 2 | CP10: 0 | CQ10: 0 | CR10: 0 | CS10: 2 | CT10: 0 | CU10: 0 | CV10: 0 | CW10: 2 | CX10: 0 | CY10: 0 | CZ10: 0 | DA10: 2 | DB10: 0 | DC10: 0 | DD10: 0 | DE10: 2 | DF10: 0 | DG10: 0 | DH10: 0 | DI10: 2 | DJ10: 0 | DK10: 0 | DL10: 0 | DM10: 2 | DN10: 0 | DO10: 0 | DP10: 0 | DQ10: 2 | DR10: 0 | DS10: 0 | DT10: 0 | DU10: 2 | DV10: 0 | DW10: 0 | DX10: 0 | DY10: 2 | DZ10: 0 | EA10: 0 | EB10: 0 | EC10: 2 | ED10: 0 | EE10: 0 | EF10: 0 | EG10: 2 | EH10: 0 | EI10: 0 | EJ10: 0 | EK10: 2 | EL10: 0 | EM10: 0 | EN10: 0 | EO10: 2 | EP10: 0
A11: ibm.r.09 | B11: 70 | C11: 48 | D11: 0 | E11: 22 | F11: 0 | G11: 48 | H11: 0 | I11: 22 | J11: 0 | K11: 48 | L11: 0 | M11: 22 | N11: 0 | O11: 48 | P11: 0 | Q11: 22 | R11: 0 | S11: 48 | T11: 0 | U11: 22 | V11: 0 | W11: 48 | X11: 0 | Y11: 22 | Z11: 0 | AA11: 48 | AB11: 0 | AC11: 22 | AD11: 0 | AE11: 48 | AF11: 0 | AG11: 22 | AH11: 0 | AI11: 48 | AJ11: 0 | AK11: 22 | AL11: 0 | AM11: 48 | AN11: 0 | AO11: 22 | AP11: 0 | AQ11: 48 | AR11: 0 | AS11: 22 | AT11: 0 | AU11: 48 | AV11: 0 | AW11: 22 | AX11: 0 | AY11: 48 | AZ11: 0 | BA11: 22 | BB11: 0 | BC11: 48 | BD11: 0 | BE11: 22 | BF11: 0 | BG11: 48 | BH11: 0 | BI11: 22 | BJ11: 0 | BK11: 48 | BL11: 0 | BM11: 22 | BN11: 0 | BO11: 48 | BP11: 0 | BQ11: 22 | BR11: 0 | BS11: 48 | BT11: 0 | BU11: 22 | BV11: 0 | BW11: 48 | BX11: 0 | BY11: 22 | BZ11: 0 | CA11: 48 | CB11: 0 | CC11: 22 | CD11: 0 | CE11: 48 | CF11: 0 | CG11: 22 | CH11: 0 | CI11: 48 | CJ11: 0 | CK11: 22 | CL11: 0 | CM11: 48 | CN11: 0 | CO11: 22 | CP11: 0 | CQ11: 48 | CR11: 0 | CS11: 22 | CT11: 0 | CU11: 48 | CV11: 0 | CW11: 22 | CX11: 0 | CY11: 48 | CZ11: 0 | DA11: 22 | DB11: 0 | DC11: 48 | DD11: 0 | DE11: 22 | DF11: 0 | DG11: 10 | DH11: 0 | DI11: 60 | DJ11: 0 | DK11: 48 | DL11: 0 | DM11: 22 | DN11: 0 | DO11: 48 | DP11: 0 | DQ11: 22 | DR11: 0 | DS11: 48 | DT11: 0 | DU11: 22 | DV11: 0 | DW11: 48 | DX11: 0 | DY11: 22 | DZ11: 0 | EA11: 48 | EB11: 0 | EC11: 22 | ED11: 0 | EE11: 48 | EF11: 0 | EG11: 22 | EH11: 0 | EI11: 48 | EJ11: 0 | EK11: 22 | EL11: 0 | EM11: 48 | EN11: 0 | EO11: 22 | EP11: 0
A12: ibm.r.10 | B12: 70 | C12: 48 | D12: 0 | E12: 22 | F12: 0 | G12: 48 | H12: 0 | I12: 22 | J12: 0 | K12: 48 | L12: 0 | M12: 22 | N12: 0 | O12: 48 | P12: 0 | Q12: 22 | R12: 0 | S12: 48 | T12: 0 | U12: 22 | V12: 0 | W12: 48 | X12: 0 | Y12: 22 | Z12: 0 | AA12: 48 | AB12: 0 | AC12: 22 | AD12: 0 | AE12: 48 | AF12: 0 | AG12: 22 | AH12: 0 | AI12: 48 | AJ12: 0 | AK12: 22 | AL12: 0 | AM12: 48 | AN12: 0 | AO12: 22 | AP12: 0 | AQ12: 48 | AR12: 0 | AS12: 22 | AT12: 0 | AU12: 48 | AV12: 0 | AW12: 22 | AX12: 0 | AY12: 48 | AZ12: 0 | BA12: 22 | BB12: 0 | BC12: 48 | BD12: 0 | BE12: 22 | BF12: 0 | BG12: 48 | BH12: 0 | BI12: 22 | BJ12: 0 | BK12: 48 | BL12: 0 | BM12: 22 | BN12: 0 | BO12: 48 | BP12: 0 | BQ12: 22 | BR12: 0 | BS12: 48 | BT12: 0 | BU12: 22 | BV12: 0 | BW12: 48 | BX12: 0 | BY12: 22 | BZ12: 0 | CA12: 48 | CB12: 0 | CC12: 22 | CD12: 0 | CE12: 48 | CF12: 0 | CG12: 22 | CH12: 0 | CI12: 48 | CJ12: 0 | CK12: 22 | CL12: 0 | CM12: 48 | CN12: 0 | CO12: 22 | CP12: 0 | CQ12: 48 | CR12: 0 | CS12: 22 | CT12: 0 | CU12: 48 | CV12: 0 | CW12: 22 | CX12: 0 | CY12: 48 | CZ12: 0 | DA12: 22 | DB12: 0 | DC12: 48 | DD12: 0 | DE12: 22 | DF12: 0 | DG12: 2 | DH12: 0 | DI12: 68 | DJ12: 0 | DK12: 48 | DL12: 0 | DM12: 22 | DN12: 0 | DO12: 48 | DP12: 0 | DQ12: 22 | DR12: 0 | DS12: 48 | DT12: 0 | DU12: 22 | DV12: 0 | DW12: 48 | DX12: 0 | DY12: 22 | DZ12: 0 | EA12: 48 | EB12: 0 | EC12: 22 | ED12: 0 | EE12: 48 | EF12: 0 | EG12: 22 | EH12: 0 | EI12: 48 | EJ12: 0 | EK12: 22 | EL12: 0 | EM12: 48 | EN12: 0 | EO12: 22 | EP12: 0
A13: ibm.r.11 | B13: 72 | C13: 48 | D13: 0 | E13: 24 | F13: 0 | G13: 50 | H13: 0 | I13: 22 | J13: 0 | K13: 50 | L13: 0 | M13: 22 | N13: 0 | O13: 50 | P13: 0 | Q13: 22 | R13: 0 | S13: 50 | T13: 0 | U13: 22 | V13: 0 | W13: 50 | X13: 0 | Y13: 22 | Z13: 0 | AA13: 50 | AB13: 0 | AC13: 22 | AD13: 0 | AE13: 48 | AF13: 0 | AG13: 24 | AH13: 0 | AI13: 48 | AJ13: 0 | AK13: 24 | AL13: 0 | AM13: 48 | AN13: 0 | AO13: 24 | AP13: 0 | AQ13: 48 | AR13: 0 | AS13: 24 | AT13: 0 | AU13: 48 | AV13: 0 | AW13: 24 | AX13: 0 | AY13: 48 | AZ13: 0 | BA13: 24 | BB13: 0 | BC13: 48 | BD13: 0 | BE13: 24 | BF13: 0 | BG13: 48 | BH13: 0 | BI13: 24 | BJ13: 0 | BK13: 48 | BL13: 0 | BM13: 24 | BN13: 0 | BO13: 48 | BP13: 0 | BQ13: 24 | BR13: 0 | BS13: 50 | BT13: 0 | BU13: 22 | BV13: 0 | BW13: 50 | BX13: 0 | BY13: 22 | BZ13: 0 | CA13: 50 | CB13: 0 | CC13: 22 | CD13: 0 | CE13: 50 | CF13: 0 | CG13: 22 | CH13: 0 | CI13: 50 | CJ13: 0 | CK13: 22 | CL13: 0 | CM13: 50 | CN13: 0 | CO13: 22 | CP13: 0 | CQ13: 50 | CR13: 0 | CS13: 22 | CT13: 0 | CU13: 50 | CV13: 0 | CW13: 22 | CX13: 0 | CY13: 50 | CZ13: 0 | DA13: 22 | DB13: 0 | DC13: 50 | DD13: 0 | DE13: 22 | DF13: 0 | DG13: 21 | DH13: 0 | DI13: 51 | DJ13: 0 | DK13: 50 | DL13: 0 | DM13: 22 | DN13: 0 | DO13: 48 | DP13: 0 | DQ13: 24 | DR13: 0 | DS13: 50 | DT13: 0 | DU13: 22 | DV13: 0 | DW13: 50 | DX13: 0 | DY13: 22 | DZ13: 0 | EA13: 50 | EB13: 0 | EC13: 22 | ED13: 0 | EE13: 50 | EF13: 0 | EG13: 22 | EH13: 0 | EI13: 50 | EJ13: 0 | EK13: 22 | EL13: 0 | EM13: 50 | EN13: 0 | EO13: 22 | EP13: 0
A14: ibm.r.12 | B14: 72 | C14: 48 | D14: 0 | E14: 24 | F14: 0 | G14: 50 | H14: 0 | I14: 22 | J14: 0 | K14: 50 | L14: 0 | M14: 22 | N14: 0 | O14: 50 | P14: 0 | Q14: 22 | R14: 0 | S14: 50 | T14: 0 | U14: 22 | V14: 0 | W14: 50 | X14: 0 | Y14: 22 | Z14: 0 | AA14: 50 | AB14: 0 | AC14: 22 | AD14: 0 | AE14: 48 | AF14: 0 | AG14: 24 | AH14: 0 | AI14: 48 | AJ14: 0 | AK14: 24 | AL14: 0 | AM14: 48 | AN14: 0 | AO14: 24 | AP14: 0 | AQ14: 48 | AR14: 0 | AS14: 24 | AT14: 0 | AU14: 48 | AV14: 0 | AW14: 24 | AX14: 0 | AY14: 48 | AZ14: 0 | BA14: 24 | BB14: 0 | BC14: 48 | BD14: 0 | BE14: 24 | BF14: 0 | BG14: 48 | BH14: 0 | BI14: 24 | BJ14: 0 | BK14: 48 | BL14: 0 | BM14: 24 | BN14: 0 | BO14: 48 | BP14: 0 | BQ14: 24 | BR14: 0 | BS14: 50 | BT14: 0 | BU14: 22 | BV14: 0 | BW14: 50 | BX14: 0 | BY14: 22 | BZ14: 0 | CA14: 50 | CB14: 0 | CC14: 22 | CD14: 0 | CE14: 50 | CF14: 0 | CG14: 22 | CH14: 0 | CI14: 50 | CJ14: 0 | CK14: 22 | CL14: 0 | CM14: 50 | CN14: 0 | CO14: 22 | CP14: 0 | CQ14: 50 | CR14: 0 | CS14: 22 | CT14: 0 | CU14: 50 | CV14: 0 | CW14: 22 | CX14: 0 | CY14: 50 | CZ14: 0 | DA14: 22 | DB14: 0 | DC14: 50 | DD14: 0 | DE14: 22 | DF14: 0 | DG14: 7 | DH14: 0 | DI14: 65 | DJ14: 0 | DK14: 50 | DL14: 0 | DM14: 22 | DN14: 0 | DO14: 48 | DP14: 0 | DQ14: 24 | DR14: 0 | DS14: 50 | DT14: 0 | DU14: 22 | DV14: 0 | DW14: 50 | DX14: 0 | DY14: 22 | DZ14: 0 | EA14: 50 | EB14: 0 | EC14: 22 | ED14: 0 | EE14: 50 | EF14: 0 | EG14: 22 | EH14: 0 | EI14: 50 | EJ14: 0 | EK14: 22 | EL14: 0 | EM14: 50 | EN14: 0 | EO14: 22 | EP14: 0
... A35: ibm.r.33 | B35: 780 | C35: 2 | D35: 0 | E35: 778 | F35: 0 | G35: 2 | H35: 0 | I35: 778 | J35: 2 | K35: 0 | L35: 0 | M35: 780 | N35: 0 | O35: 0 | P35: 0 | Q35: 780 | R35: 0 | S35: 0 | T35: 0 | U35: 780 | V35: 0 | W35: 0 | X35: 0 | Y35: 780 | Z35: 0 | AA35: 0 | AB35: 0 | AC35: 780 | AD35: 0 | AE35: 2 | AF35: 0 | AG35: 778 | AH35: 0 | AI35: 2 | AJ35: 0 | AK35: 778 | AL35: 0 | AM35: 2 | AN35: 0 | AO35: 778 | AP35: 0 | AQ35: 2 | AR35: 0 | AS35: 778 | AT35: 0 | AU35: 2 | AV35: 0 | AW35: 778 | AX35: 0 | AY35: 1 | AZ35: 0 | BA35: 779 | BB35: 0 | BC35: 2 | BD35: 0 | BE35: 778 | BF35: 0 | BG35: 2 | BH35: 0 | BI35: 778 | BJ35: 0 | BK35: 3 | BL35: 0 | BM35: 777 | BN35: 1 | BO35: 2 | BP35: 0 | BQ35: 778 | BR35: 0 | BS35: 0 | BT35: 0 | BU35: 780 | BV35: 0 | BW35: 0 | BX35: 0 | BY35: 780 | BZ35: 0 | CA35: 0 | CB35: 0 | CC35: 780 | CD35: 0 | CE35: 0 | CF35: 0 | CG35: 780 | CH35: 0 | CI35: 0 | CJ35: 0 | CK35: 780 | CL35: 0 | CM35: 0 | CN35: 0 | CO35: 780 | CP35: 0 | CQ35: 0 | CR35: 0 | CS35: 780 | CT35: 0 | CU35: 0 | CV35: 0 | CW35: 780 | CX35: 0 | CY35: 0 | CZ35: 0 | DA35: 780 | DB35: 0 | DC35: 3 | DD35: 0 | DE35: 777 | DF35: 0 | DG35: 2 | DH35: 0 | DI35: 778 | DJ35: 0 | DK35: 3 | DL35: 0 | DM35: 777 | DN35: 0 | DO35: 2 | DP35: 0 | DQ35: 778 | DR35: 0 | DS35: 0 | DT35: 0 | DU35: 780 | DV35: 0 | DW35: 0 | DX35: 0 | DY35: 780 | DZ35: 0 | EA35: 0 | EB35: 0 | EC35: 780 | ED35: 0 | EE35: 2 | EF35: 0 | EG35: 778 | EH35: 0 | EI35: 4 | EJ35: 0 | EK35: 776 | EL35: 2 | EM35: 0 | EN35: 0 | EO35: 780 | EP35: 0
A36: Total | C36: =SUM(C3:C35) -> 1569 | D36: =SUM(D3:D35) -> 1 | E36: =SUM(E3:E35) -> 1466 | F36: =SUM(F3:F35) -> 0 | G36: =SUM(G3:G35) -> 907 | H36: =SUM(H3:H35) -> 1 | I36: =SUM(I3:I35) -> 2128 | J36: =SUM(J3:J35) -> 2 | ... EP36: =SUM(EP3:EP35) -> 0

Sheet Details (Array)
A1: Name | B1: Details | C1: P | D1: H | E1: L | F1: U
A2: LOC.A.03 | B2: Configuration with one fast and lossy LOC | C2: ='Results (Array)'!C28 -> 2382 | D2: ='Results (Array)'!D28 -> 0 | E2: ='Results (Array)'!E28 -> 1526 | F2: ='Results (Array)'!F28 -> 0
A3: LOC.A.05 | B3: Configuration with one fast and lossy, with repetition of high-affinity groups | C3: ='Results (Array)'!G28 -> 2439 | D3: ='Results (Array)'!H28 -> 0 | E3: ='Results (Array)'!I28 -> 1469 | F3: ='Results (Array)'!J28 -> 29
A4: LOC.A.07 | B4: Configuration with one fast and lossy, with repetition of all high-affinity groups as singletons | C4: ='Results (Array)'!K28 -> 2480 | D4: ='Results (Array)'!L28 -> 0 | E4: ='Results (Array)'!M28 -> 1428 | F4: ='Results (Array)'!N28 -> 3
A5: LOC.A.16 | B5: Configuration with LOC minimal PBA after every LOC BMC step | C5: ='Results (Array)'!O28 -> 1631 | D5: ='Results (Array)'!P28 -> 0 | E5: ='Results (Array)'!Q28 -> 2277 | F5: ='Results (Array)'!R28 -> 0
A6: LOC.A.25 | B6: Configuration with one fast and lossy LOC with minimal PBA after every BMC step, and repetition of high-affinity groups | C6: ='Results (Array)'!S28 -> 2125 | D6: ='Results (Array)'!T28 -> 0 | E6: ='Results (Array)'!U28 -> 1783 | F6: ='Results (Array)'!V28 -> 0
A7: LOC.A.26 | B7: Configuration with one fast and lossy LOC with minimal PBA after every BMC step with hard registers, and repetition of high-affinity groups | C7: ='Results (Array)'!W28 -> 2234 | D7: ='Results (Array)'!X28 -> 0 | E7: ='Results (Array)'!Y28 -> 1674 | F7: ='Results (Array)'!Z28 -> 0
A8: LOC.A.27 | B8: Configuration with LOC with level-3 grouping | C8: ='Results (Array)'!AA28 -> 1635 | D8: ='Results (Array)'!AB28 -> 0 | E8: ='Results (Array)'!AC28 -> 2273 | F8: ='Results (Array)'!AD28 -> 12
A9: LOC.A.28 | B9: Configuration with LOC with level-3 grouping and semantic partitioning | C9: ='Results (Array)'!AE28 -> 1473 | D9: ='Results (Array)'!AF28 -> 0 | E9: ='Results (Array)'!AG28 -> 2435 | F9: ='Results (Array)'!AH28 -> 7
A10: LOC.A.29 | B10: Configuration with LOC with level-3 grouping and minimal PBA after every BMC step | C10: ='Results (Array)'!AI28 -> 1289 | D10: ='Results (Array)'!AJ28 -> 0 | E10: ='Results (Array)'!AK28 -> 2619 | F10: ='Results (Array)'!AL28 -> 0
A11: LOC.A.31 | B11: Configuration with one fast and lossy LOC with level-3 grouping, minimal PBA with hard registers, and repetition of high-affinity groups | C11: ='Results (Array)'!AM28 -> 1417 | D11: ='Results (Array)'!AN28 -> 0 | E11: ='Results (Array)'!AO28 -> 2491 | F11: ='Results (Array)'!AP28 -> 0
A12: LOC.A.34 | B12: Configuration with LOC with level-3 grouping and minimal PBA with hard registers | C12: ='Results (Array)'!AQ28 -> 1316 | D12: ='Results (Array)'!AR28 -> 0 | E12: ='Results (Array)'!AS28 -> 2592 | F12: ='Results (Array)'!AT28 -> 0
A13: LOC.A.35 | B13: Configuration with reverse iterating LOC minimal PBA with hard registers | C13: ='Results (Array)'!AU28 -> 1769 | D13: ='Results (Array)'!AV28 -> 0 | E13: ='Results (Array)'!AW28 -> 2139 | F13: ='Results (Array)'!AX28 -> 338
A14: LOC.A.36 | B14: Configuration with one fast and lossy LOC with minimal PBA after every BMC step with hard registers, and repetition of all high-affinity groups as singletons | C14: ='Results (Array)'!AY28 -> 2295 | D14: ='Results (Array)'!AZ28 -> 0 | E14: ='Results (Array)'!BA28 -> 1613 | F14: ='Results (Array)'!BB28 -> 0

Sheet Results (Array)
A1: Benchmark | B1: Total | C1: LOC.A.03 | G1: LOC.A.05 | K1: LOC.A.07 | O1: LOC.A.16* | S1: LOC.A.25 | W1: LOC.A.26 | AA1: LOC.A.27 | AE1: LOC.A.28 | AI1: LOC.A.29 | AM1: LOC.A.31 | AQ1: LOC.A.34 | AU1: LOC.A.35 | AY1: LOC.A.36 | BC1: eqv_tbv_portfolio
C2: P | D2: H | E2: L | F2: U | G2: P | H2: H | I2: L | J2: U | K2: P | L2: H | M2: L | N2: U | O2: P | P2: H | Q2: L | R2: U | S2: P | T2: H | U2: L | V2: U | W2: P | X2: H | Y2: L | Z2: U | AA2: P | AB2: H | AC2: L | AD2: U | AE2: P | AF2: H | AG2: L | AH2: U | AI2: P | AJ2: H | AK2: L | AL2: U | AM2: P | AN2: H | AO2: L | AP2: U | AQ2: P | AR2: H | AS2: L | AT2: U | AU2: P | AV2: H | AW2: L | AX2: U | AY2: P | AZ2: H | BA2: L | BB2: U | BC2: P | BD2: H | BE2: L | BF2: U
A3: ibm.a.01 | B3: 6 | C3: 0 | D3: 0 | E3: 6 | F3: 0 | G3: 0 | H3: 0 | I3: 6 | J3: 0 | K3: 0 | L3: 0 | M3: 6 | N3: 0 | O3: 6 | P3: 0 | Q3: 0 | R3: 0 | S3: 0 | T3: 0 | U3: 6 | V3: 0 | W3: 0 | X3: 0 | Y3: 6 | Z3: 0 | AA3: 6 | AB3: 0 | AC3: 0 | AD3: 0 | AE3: 6 | AF3: 0 | AG3: 0 | AH3: 0 | AI3: 6 | AJ3: 0 | AK3: 0 | AL3: 0 | AM3: 0 | AN3: 0 | AO3: 6 | AP3: 0 | AQ3: 6 | AR3: 0 | AS3: 0 | AT3: 0 | AU3: 6 | AV3: 0 | AW3: 0 | AX3: 0 | AY3: 0 | AZ3: 0 | BA3: 6 | BB3: 0 | BC3: 6 | BD3: 0 | BE3: 0 | BF3: 6
A4: ibm.a.02 | B4: 444 | C4: 106 | D4: 0 | E4: 338 | F4: 0 | G4: 134 | H4: 0 | I4: 310 | J4: 24 | K4: 87 | L4: 0 | M4: 357 | N4: 0 | O4: 67 | P4: 0 | Q4: 377 | R4: 0 | S4: 0 | T4: 0 | U4: 444 | V4: 0 | W4: 70 | X4: 0 | Y4: 374 | Z4: 0 | AA4: 96 | AB4: 0 | AC4: 348 | AD4: 0 | AE4: 131 | AF4: 0 | AG4: 313 | AH4: 7 | AI4: 29 | AJ4: 0 | AK4: 415 | AL4: 0 | AM4: 36 | AN4: 0 | AO4: 408 | AP4: 0 | AQ4: 44 | AR4: 0 | AS4: 400 | AT4: 0 | AU4: 28 | AV4: 0 | AW4: 416 | AX4: 28 | AY4: 36 | AZ4: 0 | BA4: 408 | BB4: 0 | BC4: 134 | BD4: 0 | BE4: 310 | BF4: 134
A5: ibm.a.03 | B5: 208 | C5: 197 | D5: 0 | E5: 11 | F5: 0 | G5: 208 | H5: 0 | I5: 0 | J5: 0 | K5: 208 | L5: 0 | M5: 0 | N5: 0 | O5: 177 | P5: 0 | Q5: 31 | R5: 0 | S5: 208 | T5: 0 | U5: 0 | V5: 0 | W5: 207 | X5: 0 | Y5: 1 | Z5: 0 | AA5: 208 | AB5: 0 | AC5: 0 | AD5: 0 | AE5: 208 | AF5: 0 | AG5: 0 | AH5: 0 | AI5: 208 | AJ5: 0 | AK5: 0 | AL5: 0 | AM5: 208 | AN5: 0 | AO5: 0 | AP5: 0 | AQ5: 177 | AR5: 0 | AS5: 31 | AT5: 0 | AU5: 143 | AV5: 0 | AW5: 65 | AX5: 0 | AY5: 208 | AZ5: 0 | BA5: 0 | BB5: 0 | BC5: 208 | BD5: 0 | BE5: 0 | BF5: 208
A6: ibm.a.04 | B6: 296 | C6: 0 | D6: 0 | E6: 296 | F6: 0 | G6: 33 | H6: 0 | I6: 263 | J6: 5 | K6: 22 | L6: 0 | M6: 274 | N6: 3 | O6: 9 | P6: 0 | Q6: 287 | R6: 0 | S6: 0 | T6: 0 | U6: 296 | V6: 0 | W6: 0 | X6: 0 | Y6: 296 | Z6: 0 | AA6: 57 | AB6: 0 | AC6: 239 | AD6: 12 | AE6: 31 | AF6: 0 | AG6: 265 | AH6: 0 | AI6: 12 | AJ6: 0 | AK6: 284 | AL6: 0 | AM6: 0 | AN6: 0 | AO6: 296 | AP6: 0 | AQ6: 11 | AR6: 0 | AS6: 285 | AT6: 0 | AU6: 5 | AV6: 0 | AW6: 291 | AX6: 5 | AY6: 0 | AZ6: 0 | BA6: 296 | BB6: 0 | BC6: 69 | BD6: 0 | BE6: 227 | BF6: 69
A7: ibm.a.05 | B7: 6 | C7: 0 | D7: 0 | E7: 6 | F7: 0 | G7: 0 | H7: 0 | I7: 6 | J7: 0 | K7: 0 | L7: 0 | M7: 6 | N7: 0 | O7: 1 | P7: 0 | Q7: 5 | R7: 0 | S7: 0 | T7: 0 | U7: 6 | V7: 0 | W7: 0 | X7: 0 | Y7: 6 | Z7: 0 | AA7: 1 | AB7: 0 | AC7: 5 | AD7: 0 | AE7: 1 | AF7: 0 | AG7: 5 | AH7: 0 | AI7: 1 | AJ7: 0 | AK7: 5 | AL7: 0 | AM7: 0 | AN7: 0 | AO7: 6 | AP7: 0 | AQ7: 1 | AR7: 0 | AS7: 5 | AT7: 0 | AU7: 0 | AV7: 0 | AW7: 6 | AX7: 0 | AY7: 0 | AZ7: 0 | BA7: 6 | BB7: 0 | BC7: 3 | BD7: 0 | BE7: 3 | BF7: 3
A8: ibm.a.06 | B8: 126 | C8: 126 | D8: 0 | E8: 0 | F8: 0 | G8: 126 | H8: 0 | I8: 0 | J8: 0 | K8: 126 | L8: 0 | M8: 0 | N8: 0 | O8: 79 | P8: 0 | Q8: 47 | R8: 0 | S8: 126 | T8: 0 | U8: 0 | V8: 0 | W8: 126 | X8: 0 | Y8: 0 | Z8: 0 | AA8: 39 | AB8: 0 | AC8: 87 | AD8: 0 | AE8: 29 | AF8: 0 | AG8: 97 | AH8: 0 | AI8: 39 | AJ8: 0 | AK8: 87 | AL8: 0 | AM8: 18 | AN8: 0 | AO8: 108 | AP8: 0 | AQ8: 42 | AR8: 0 | AS8: 84 | AT8: 0 | AU8: 92 | AV8: 0 | AW8: 34 | AX8: 0 | AY8: 126 | AZ8: 0 | BA8: 0 | BB8: 0 | BC8: 126 | BD8: 0 | BE8: 0 | BF8: 126
A9: ibm.a.07 | B9: 193 | C9: 147 | D9: 0 | E9: 46 | F9: 0 | G9: 148 | H9: 0 | I9: 45 | J9: 0 | K9: 142 | L9: 0 | M9: 51 | N9: 0 | O9: 56 | P9: 0 | Q9: 137 | R9: 0 | S9: 155 | T9: 0 | U9: 38 | V9: 0 | W9: 151 | X9: 0 | Y9: 42 | Z9: 0 | AA9: 39 | AB9: 0 | AC9: 154 | AD9: 0 | AE9: 33 | AF9: 0 | AG9: 160 | AH9: 0 | AI9: 36 | AJ9: 0 | AK9: 157 | AL9: 0 | AM9: 26 | AN9: 0 | AO9: 167 | AP9: 0 | AQ9: 36 | AR9: 0 | AS9: 157 | AT9: 0 | AU9: 65 | AV9: 0 | AW9: 128 | AX9: 34 | AY9: 140 | AZ9: 0 | BA9: 53 | BB9: 0 | BC9: 193 | BD9: 0 | BE9: 0 | BF9: 193
A10: ibm.a.08 | B10: 183 | C10: 132 | D10: 0 | E10: 51 | F10: 0 | G10: 137 | H10: 0 | I10: 46 | J10: 0 | K10: 138 | L10: 0 | M10: 45 | N10: 0 | O10: 68 | P10: 0 | Q10: 115 | R10: 0 | S10: 154 | T10: 0 | U10: 29 | V10: 0 | W10: 147 | X10: 0 | Y10: 36 | Z10: 0 | AA10: 35 | AB10: 0 | AC10: 148 | AD10: 0 | AE10: 36 | AF10: 0 | AG10: 147 | AH10: 0 | AI10: 39 | AJ10: 0 | AK10: 144 | AL10: 0 | AM10: 26 | AN10: 0 | AO10: 157 | AP10: 0 | AQ10: 39 | AR10: 0 | AS10: 144 | AT10: 0 | AU10: 65 | AV10: 0 | AW10: 118 | AX10: 18 | AY10: 161 | AZ10: 0 | BA10: 22 | BB10: 0 | BC10: 183 | BD10: 0 | BE10: 0 | BF10: 183
A11: ibm.a.09 | B11: 189 | C11: 150 | D11: 0 | E11: 39 | F11: 0 | G11: 152 | H11: 0 | I11: 37 | J11: 0 | K11: 148 | L11: 0 | M11: 41 | N11: 0 | O11: 60 | P11: 0 | Q11: 129 | R11: 0 | S11: 141 | T11: 0 | U11: 48 | V11: 0 | W11: 154 | X11: 0 | Y11: 35 | Z11: 0 | AA11: 45 | AB11: 0 | AC11: 144 | AD11: 0 | AE11: 39 | AF11: 0 | AG11: 150 | AH11: 0 | AI11: 47 | AJ11: 0 | AK11: 142 | AL11: 0 | AM11: 26 | AN11: 0 | AO11: 163 | AP11: 0 | AQ11: 45 | AR11: 0 | AS11: 144 | AT11: 0 | AU11: 113 | AV11: 0 | AW11: 76 | AX11: 30 | AY11: 155 | AZ11: 0 | BA11: 34 | BB11: 0 | BC11: 189 | BD11: 0 | BE11: 0 | BF11: 189
A12: ibm.a.10 | B12: 208 | C12: 144 | D12: 0 | E12: 64 | F12: 0 | G12: 149 | H12: 0 | I12: 59 | J12: 0 | K12: 151 | L12: 0 | M12: 57 | N12: 0 | O12: 72 | P12: 0 | Q12: 136 | R12: 0 | S12: 142 | T12: 0 | U12: 66 | V12: 0 | W12: 151 | X12: 0 | Y12: 57 | Z12: 0 | AA12: 42 | AB12: 0 | AC12: 166 | AD12: 0 | AE12: 35 | AF12: 0 | AG12: 173 | AH12: 0 | AI12: 26 | AJ12: 0 | AK12: 182 | AL12: 0 | AM12: 26 | AN12: 0 | AO12: 182 | AP12: 0 | AQ12: 26 | AR12: 0 | AS12: 182 | AT12: 0 | AU12: 68 | AV12: 0 | AW12: 140 | AX12: 43 | AY12: 162 | AZ12: 0 | BA12: 46 | BB12: 0 | BC12: 208 | BD12: 0 | BE12: 0 | BF12: 208
A13: ibm.a.11 | B13: 3 | C13: 0 | D13: 0 | E13: 3 | F13: 0 | G13: 0 | H13: 0 | I13: 3 | J13: 0 | K13: 0 | L13: 0 | M13: 3 | N13: 0 | O13: 1 | P13: 0 | Q13: 2 | R13: 0 | S13: 0 | T13: 0 | U13: 3 | V13: 0 | W13: 0 | X13: 0 | Y13: 3 | Z13: 0 | AA13: 1 | AB13: 0 | AC13: 2 | AD13: 0 | AE13: 1 | AF13: 0 | AG13: 2 | AH13: 0 | AI13: 1 | AJ13: 0 | AK13: 2 | AL13: 0 | AM13: 0 | AN13: 0 | AO13: 3 | AP13: 0 | AQ13: 1 | AR13: 0 | AS13: 2 | AT13: 0 | AU13: 0 | AV13: 0 | AW13: 3 | AX13: 0 | AY13: 0 | AZ13: 0 | BA13: 3 | BB13: 0 | BC13: 1 | BD13: 0 | BE13: 2 | BF13: 1
A14: ibm.a.12 | B14: 3 | C14: 0 | D14: 0 | E14: 3 | F14: 0 | G14: 0 | H14: 0 | I14: 3 | J14: 0 | K14: 0 | L14: 0 | M14: 3 | N14: 0 | O14: 0 | P14: 0 | Q14: 3 | R14: 0 | S14: 0 | T14: 0 | U14: 3 | V14: 0 | W14: 0 | X14: 0 | Y14: 3 | Z14: 0 | AA14: 1 | AB14: 0 | AC14: 2 | AD14: 0 | AE14: 1 | AF14: 0 | AG14: 2 | AH14: 0 | AI14: 1 | AJ14: 0 | AK14: 2 | AL14: 0 | AM14: 0 | AN14: 0 | AO14: 3 | AP14: 0 | AQ14: 1 | AR14: 0 | AS14: 2 | AT14: 0 | AU14: 0 | AV14: 0 | AW14: 3 | AX14: 0 | AY14: 0 | AZ14: 0 | BA14: 3 | BB14: 0 | BC14: 1 | BD14: 0 | BE14: 2 | BF14: 1
... A27: ibm.a.25 | B27: 576 | C27: 377 | D27: 0 | E27: 199 | F27: 0 | G27: 295 | H27: 0 | I27: 281 | J27: 0 | K27: 415 | L27: 0 | M27: 161 | N27: 0 | O27: 372 | P27: 0 | Q27: 204 | R27: 0 | S27: 224 | T27: 0 | U27: 352 | V27: 0 | W27: 252 | X27: 0 | Y27: 324 | Z27: 0 | AA27: 152 | AB27: 0 | AC27: 424 | AD27: 0 | AE27: 103 | AF27: 0 | AG27: 473 | AH27: 0 | AI27: 86 | AJ27: 0 | AK27: 490 | AL27: 0 | AM27: 81 | AN27: 0 | AO27: 495 | AP27: 0 | AQ27: 158 | AR27: 0 | AS27: 418 | AT27: 0 | AU27: 319 | AV27: 0 | AW27: 257 | AX27: 132 | AY27: 328 | AZ27: 0 | BA27: 248 | BB27: 0 | BC27: 576 | BD27: 0 | BE27: 0 | BF27: 576
A28: Total | B28: =SUM(B3:B27) -> 3908 | C28: =SUM(C3:C27) -> 2382 | D28: =SUM(D3:D27) -> 0 | E28: =SUM(E3:E27) -> 1526 | F28: =SUM(F3:F27) -> 0 | G28: =SUM(G3:G27) -> 2439 | H28: =SUM(H3:H27) -> 0 | I28: =SUM(I3:I27) -> 1469 | ... BF28: =SUM(BF3:BF27) -> 3275

Sheet LOC Proof Details
A1: Name | B1: Details (all configuration use IC3 after reductions)
A2: LOC.TBV.01 | B2: Configuration with default combinational rewriting and fast input elimination
A3: LOC.TBV.02 | B3: Configuration with heavy combinational rewriting and fast input elimination
A4: LOC.TBV.03 | B4: Configuration with interleaved heavy combinational rewriting and fast input elimination
A5: LOC.TBV.04 | B5: Configuration with interleaved combinational rewriting and fast input elimination
A6: LOC.TBV.05 | B6: Configuration with default combinational rewriting and default input elimination
A7: LOC.TBV.06 | B7: Configuration with interleaved default combinational rewriting and default input elimination
A8: LOC.TBV.07 | B8: Configuration with interleaved multiple heavy combinational rewriting and default input elimination
A9: LOC.TBV.08 | B9: Configuration with heavy combinational rewriting with ODC sweeping and fast input elimination
A10: LOC.TBV.09 | B10: Configuration with repeated heavy combinational rewriting with ODC sweeping and fast input elimination
A11: LOC.TBV.10 | B11: Configuration with semi-formal bug hunting, default combinational rewriting and fast input elimination
A12: LOC.TBV.11 | B12: Configuration with repeated light combinational rewriting with ODC sweeping and fast input elimination
... A31: LOC.TBV.30 | B31: Configuration with repeated heavy combinational rewriting with ODC sweeping, fast input elimination, constraint synthesis and array simplification, and array simplification before induction only gate-based redundancy removal and min-area retiming

Sheet LOC TBV (Regular)
A1: Benchmark | B1: Total | C1: Baseline (LOC.R.16) | G1: LOC.R.16.TBV.01 | K1: LOC.R.16.TBV.02 | O1: LOC.R.16.TBV.03 | S1: LOC.R.16.TBV.04 | W1: LOC.R.16.TBV.05 | AA1: LOC.R.16.TBV.06 | AE1: LOC.R.16.TBV.07 | AI1: LOC.R.16.TBV.08 | AM1: LOC.R.16.TBV.09 | AQ1: LOC.R.16.TBV.10 | AU1: LOC.R.16.TBV.11 | AY1: LOC.R.16.TBV.12 | BC1: LOC.R.16.TBV.13 | BG1: LOC.R.16.TBV.14 | BK1: LOC.R.16.TBV.15 | BO1: LOC.R.16.TBV.16 | BS1: LOC.R.16.TBV.17 | BW1: LOC.R.16.TBV.18 | CA1: LOC.R.16.TBV.19 | CE1: LOC.R.16.TBV.20 | CI1: LOC.R.16.TBV.21 | CM1: LOC.R.16.TBV.22 | CQ1: LOC.R.16.TBV.23 | CU1: LOC.R.16.TBV.24 | CY1: LOC.R.16.TBV.25 | DC1: LOC.R.16.TBV.26 | DG1: LOC.R.16.TBV.27 | DK1: LOC.R.16.TBV.28 | DO1: LOC.R.16.TBV.29 | DS1: LOC.R.16.TBV.30
C2: P | D2: H | E2: L | F2: U | G2: P | H2: H | I2: L | J2: U | K2: P | L2: H | M2: L | N2: U | O2: P | P2: H | Q2: L | R2: U | S2: P | T2: H | U2: L | V2: U | W2: P | X2: H | Y2: L | Z2: U | AA2: P | AB2: H | AC2: L | AD2: U | AE2: P | AF2: H | AG2: L | AH2: U | AI2: P | AJ2: H | AK2: L | AL2: U | AM2: P | AN2: H | AO2: L | AP2: U | AQ2: P | AR2: H | AS2: L | AT2: U | AU2: P | AV2: H | AW2: L | AX2: U | AY2: P | AZ2: H | BA2: L | BB2: U | BC2: P | BD2: H | BE2: L | BF2: U | BG2: P | BH2: H | BI2: L | BJ2: U | BK2: P | BL2: H | BM2: L | BN2: U | BO2: P | BP2: H | BQ2: L | BR2: U | BS2: P | BT2: H | BU2: L | BV2: U | BW2: P | BX2: H | BY2: L | BZ2: U | CA2: P | CB2: H | CC2: L | CD2: U | CE2: P | CF2: H | CG2: L | CH2: U | CI2: P | CJ2: H | CK2: L | CL2: U | CM2: P | CN2: H | CO2: L | CP2: U | CQ2: P | CR2: H | CS2: L | CT2: U | CU2: P | CV2: H | CW2: L | CX2: U | CY2: P | CZ2: H | DA2: L | DB2: U | DC2: P | DD2: H | DE2: L | DF2: U | DG2: P | DH2: H | DI2: L | DJ2: U | DK2: P | DL2: H | DM2: L | DN2: U | DO2: P | DP2: H | DQ2: L | DR2: U | DS2: P | DT2: H | DU2: L | DV2: U
A3: ibm.tbv.r.01 | B3: 1 | C3: ='Results (Regular)'!BK4 -> 0 | D3: ='Results (Regular)'!BL4 -> 0 | E3: ='Results (Regular)'!BM4 -> 1 | F3: ='Results (Regular)'!BN4 -> 0 | G3: 0 | H3: 0 | I3: 1 | J3: 0 | K3: 0 | L3: 0 | M3: 1 | N3: 0 | O3: 0 | P3: 0 | Q3: 1 | R3: 0 | S3: 0 | T3: 0 | U3: 1 | V3: 0 | W3: 0 | X3: 0 | Y3: 1 | Z3: 0 | AA3: 0 | AB3: 0 | AC3: 1 | AD3: 0 | AE3: 0 | AF3: 0 | AG3: 1 | AH3: 0 | AI3: 0 | AJ3: 0 | AK3: 1 | AL3: 0 | AM3: 0 | AN3: 0 | AO3: 1 | AP3: 0 | AQ3: 0 | AR3: 0 | AS3: 1 | AT3: 0 | AU3: 0 | AV3: 0 | AW3: 1 | AX3: 0 | AY3: 0 | AZ3: 0 | BA3: 1 | BB3: 0 | BC3: 0 | BD3: 0 | BE3: 1 | BF3: 0 | BG3: 0 | BH3: 0 | BI3: 1 | BJ3: 0 | BK3: 0 | BL3: 0 | BM3: 1 | BN3: 0 | BO3: 0 | BP3: 0 | BQ3: 1 | BR3: 0 | BS3: 0 | BT3: 0 | BU3: 1 | BV3: 0 | BW3: 0 | BX3: 0 | BY3: 1 | BZ3: 0 | CA3: 0 | CB3: 0 | CC3: 1 | CD3: 0 | CE3: 0 | CF3: 0 | CG3: 1 | CH3: 0 | CI3: 0 | CJ3: 0 | CK3: 1 | CL3: 0 | CM3: 0 | CN3: 0 | CO3: 1 | CP3: 0 | CQ3: 0 | CR3: 0 | CS3: 1 | CT3: 0 | CU3: 0 | CV3: 0 | CW3: 1 | CX3: 0 | CY3: 0 | CZ3: 0 | DA3: 1 | DB3: 0 | DC3: 0 | DD3: 0 | DE3: 1 | DF3: 0 | DG3: 0 | DH3: 0 | DI3: 1 | DJ3: 0 | DK3: 0 | DL3: 0 | DM3: 1 | DN3: 0 | DO3: 0 | DP3: 0 | DQ3: 1 | DR3: 0 | DS3: 0 | DT3: 0 | DU3: 1 | DV3: 0
A4: ibm.tbv.r.02 | B4: 1 | C4: ='Results (Regular)'!BK5 -> 0 | D4: ='Results (Regular)'!BL5 -> 0 | E4: ='Results (Regular)'!BM5 -> 1 | F4: ='Results (Regular)'!BN5 -> 0 | G4: 0 | H4: 0 | I4: 1 | J4: 0 | K4: 0 | L4: 0 | M4: 1 | N4: 0 | O4: 0 | P4: 0 | Q4: 1 | R4: 0 | S4: 0 | T4: 0 | U4: 1 | V4: 0 | W4: 0 | X4: 0 | Y4: 1 | Z4: 0 | AA4: 0 | AB4: 0 | AC4: 1 | AD4: 0 | AE4: 0 | AF4: 0 | AG4: 1 | AH4: 0 | AI4: 0 | AJ4: 0 | AK4: 1 | AL4: 0 | AM4: 0 | AN4: 0 | AO4: 1 | AP4: 0 | AQ4: 0 | AR4: 0 | AS4: 1 | AT4: 0 | AU4: 0 | AV4: 0 | AW4: 1 | AX4: 0 | AY4: 0 | AZ4: 0 | BA4: 1 | BB4: 0 | BC4: 0 | BD4: 0 | BE4: 1 | BF4: 0 | BG4: 0 | BH4: 0 | BI4: 1 | BJ4: 0 | BK4: 0 | BL4: 0 | BM4: 1 | BN4: 0 | BO4: 0 | BP4: 0 | BQ4: 1 | BR4: 0 | BS4: 0 | BT4: 0 | BU4: 1 | BV4: 0 | BW4: 0 | BX4: 0 | BY4: 1 | BZ4: 0 | CA4: 0 | CB4: 0 | CC4: 1 | CD4: 0 | CE4: 0 | CF4: 0 | CG4: 1 | CH4: 0 | CI4: 0 | CJ4: 0 | CK4: 1 | CL4: 0 | CM4: 0 | CN4: 0 | CO4: 1 | CP4: 0 | CQ4: 0 | CR4: 0 | CS4: 1 | CT4: 0 | CU4: 0 | CV4: 0 | CW4: 1 | CX4: 0 | CY4: 0 | CZ4: 0 | DA4: 1 | DB4: 0 | DC4: 0 | DD4: 0 | DE4: 1 | DF4: 0 | DG4: 0 | DH4: 0 | DI4: 1 | DJ4: 0 | DK4: 0 | DL4: 0 | DM4: 1 | DN4: 0 | DO4: 0 | DP4: 0 | DQ4: 1 | DR4: 0 | DS4: 0 | DT4: 0 | DU4: 1 | DV4: 0
A5: ibm.tbv.r.03 | B5: 1 | C5: ='Results (Regular)'!BK6 -> 0 | D5: ='Results (Regular)'!BL6 -> 0 | E5: ='Results (Regular)'!BM6 -> 1 | F5: ='Results (Regular)'!BN6 -> 0 | G5: 0 | H5: 0 | I5: 1 | J5: 0 | K5: 0 | L5: 0 | M5: 1 | N5: 0 | O5: 0 | P5: 0 | Q5: 1 | R5: 0 | S5: 0 | T5: 0 | U5: 1 | V5: 0 | W5: 0 | X5: 0 | Y5: 1 | Z5: 0 | AA5: 0 | AB5: 0 | AC5: 1 | AD5: 0 | AE5: 0 | AF5: 0 | AG5: 1 | AH5: 0 | AI5: 0 | AJ5: 0 | AK5: 1 | AL5: 0 | AM5: 0 | AN5: 0 | AO5: 1 | AP5: 0 | AQ5: 0 | AR5: 0 | AS5: 1 | AT5: 0 | AU5: 0 | AV5: 0 | AW5: 1 | AX5: 0 | AY5: 0 | AZ5: 0 | BA5: 1 | BB5: 0 | BC5: 0 | BD5: 0 | BE5: 1 | BF5: 0 | BG5: 0 | BH5: 0 | BI5: 1 | BJ5: 0 | BK5: 0 | BL5: 0 | BM5: 1 | BN5: 0 | BO5: 0 | BP5: 0 | BQ5: 1 | BR5: 0 | BS5: 0 | BT5: 0 | BU5: 1 | BV5: 0 | BW5: 0 | BX5: 0 | BY5: 1 | BZ5: 0 | CA5: 0 | CB5: 0 | CC5: 1 | CD5: 0 | CE5: 0 | CF5: 0 | CG5: 1 | CH5: 0 | CI5: 0 | CJ5: 0 | CK5: 1 | CL5: 0 | CM5: 0 | CN5: 0 | CO5: 1 | CP5: 0 | CQ5: 0 | CR5: 0 | CS5: 1 | CT5: 0 | CU5: 0 | CV5: 0 | CW5: 1 | CX5: 0 | CY5: 0 | CZ5: 0 | DA5: 1 | DB5: 0 | DC5: 0 | DD5: 0 | DE5: 1 | DF5: 0 | DG5: 0 | DH5: 0 | DI5: 1 | DJ5: 0 | DK5: 0 | DL5: 0 | DM5: 1 | DN5: 0 | DO5: 0 | DP5: 0 | DQ5: 1 | DR5: 0 | DS5: 0 | DT5: 0 | DU5: 1 | DV5: 0
A6: ibm.tbv.r.04 | B6: 1 | C6: ='Results (Regular)'!BK7 -> 0 | D6: ='Results (Regular)'!BL7 -> 0 | E6: ='Results (Regular)'!BM7 -> 1 | F6: ='Results (Regular)'!BN7 -> 0 | G6: 0 | H6: 0 | I6: 1 | J6: 0 | K6: 0 | L6: 0 | M6: 1 | N6: 0 | O6: 0 | P6: 0 | Q6: 1 | R6: 0 | S6: 0 | T6: 0 | U6: 1 | V6: 0 | W6: 0 | X6: 0 | Y6: 1 | Z6: 0 | AA6: 0 | AB6: 0 | AC6: 1 | AD6: 0 | AE6: 0 | AF6: 0 | AG6: 1 | AH6: 0 | AI6: 0 | AJ6: 0 | AK6: 1 | AL6: 0 | AM6: 0 | AN6: 0 | AO6: 1 | AP6: 0 | AQ6: 0 | AR6: 0 | AS6: 1 | AT6: 0 | AU6: 0 | AV6: 0 | AW6: 1 | AX6: 0 | AY6: 0 | AZ6: 0 | BA6: 1 | BB6: 0 | BC6: 0 | BD6: 0 | BE6: 1 | BF6: 0 | BG6: 0 | BH6: 0 | BI6: 1 | BJ6: 0 | BK6: 0 | BL6: 0 | BM6: 1 | BN6: 0 | BO6: 0 | BP6: 0 | BQ6: 1 | BR6: 0 | BS6: 0 | BT6: 0 | BU6: 1 | BV6: 0 | BW6: 0 | BX6: 0 | BY6: 1 | BZ6: 0 | CA6: 0 | CB6: 0 | CC6: 1 | CD6: 0 | CE6: 0 | CF6: 0 | CG6: 1 | CH6: 0 | CI6: 0 | CJ6: 0 | CK6: 1 | CL6: 0 | CM6: 0 | CN6: 0 | CO6: 1 | CP6: 0 | CQ6: 0 | CR6: 0 | CS6: 1 | CT6: 0 | CU6: 0 | CV6: 0 | CW6: 1 | CX6: 0 | CY6: 0 | CZ6: 0 | DA6: 1 | DB6: 0 | DC6: 0 | DD6: 0 | DE6: 1 | DF6: 0 | DG6: 0 | DH6: 0 | DI6: 1 | DJ6: 0 | DK6: 0 | DL6: 0 | DM6: 1 | DN6: 0 | DO6: 0 | DP6: 0 | DQ6: 1 | DR6: 0 | DS6: 0 | DT6: 0 | DU6: 1 | DV6: 0
A7: ibm.tbv.r.05 | B7: 4 | C7: ='Results (Regular)'!BK8 -> 3 | D7: ='Results (Regular)'!BL8 -> 0 | E7: ='Results (Regular)'!BM8 -> 1 | F7: ='Results (Regular)'!BN8 -> 0 | G7: 3 | H7: 0 | I7: 1 | J7: 0 | K7: 3 | L7: 0 | M7: 1 | N7: 0 | O7: 3 | P7: 0 | Q7: 1 | R7: 0 | S7: 2 | T7: 0 | U7: 2 | V7: 0 | W7: 3 | X7: 0 | Y7: 1 | Z7: 0 | AA7: 3 | AB7: 0 | AC7: 1 | AD7: 0 | AE7: 3 | AF7: 0 | AG7: 1 | AH7: 0 | AI7: 3 | AJ7: 0 | AK7: 1 | AL7: 0 | AM7: 3 | AN7: 0 | AO7: 1 | AP7: 0 | AQ7: 3 | AR7: 0 | AS7: 1 | AT7: 0 | AU7: 3 | AV7: 0 | AW7: 1 | AX7: 0 | AY7: 3 | AZ7: 0 | BA7: 1 | BB7: 0 | BC7: 3 | BD7: 0 | BE7: 1 | BF7: 0 | BG7: 3 | BH7: 0 | BI7: 1 | BJ7: 0 | BK7: 3 | BL7: 0 | BM7: 1 | BN7: 0 | BO7: 3 | BP7: 0 | BQ7: 1 | BR7: 0 | BS7: 3 | BT7: 0 | BU7: 1 | BV7: 0 | BW7: 3 | BX7: 0 | BY7: 1 | BZ7: 0 | CA7: 3 | CB7: 0 | CC7: 1 | CD7: 0 | CE7: 3 | CF7: 0 | CG7: 1 | CH7: 0 | CI7: 3 | CJ7: 0 | CK7: 1 | CL7: 0 | CM7: 3 | CN7: 0 | CO7: 1 | CP7: 0 | CQ7: 3 | CR7: 0 | CS7: 1 | CT7: 0 | CU7: 3 | CV7: 0 | CW7: 1 | CX7: 0 | CY7: 3 | CZ7: 0 | DA7: 1 | DB7: 0 | DC7: 3 | DD7: 0 | DE7: 1 | DF7: 0 | DG7: 3 | DH7: 0 | DI7: 1 | DJ7: 0 | DK7: 3 | DL7: 0 | DM7: 1 | DN7: 0 | DO7: 3 | DP7: 0 | DQ7: 1 | DR7: 0 | DS7: 3 | DT7: 0 | DU7: 1 | DV7: 0
A8: ibm.tbv.r.06 | B8: 1 | C8: ='Results (Regular)'!BK9 -> 0 | D8: ='Results (Regular)'!BL9 -> 0 | E8: ='Results (Regular)'!BM9 -> 1 | F8: ='Results (Regular)'!BN9 -> 0 | G8: 0 | H8: 0 | I8: 1 | J8: 0 | K8: 0 | L8: 0 | M8: 1 | N8: 0 | O8: 0 | P8: 0 | Q8: 1 | R8: 0 | S8: 0 | T8: 0 | U8: 1 | V8: 0 | W8: 0 | X8: 0 | Y8: 1 | Z8: 0 | AA8: 0 | AB8: 0 | AC8: 1 | AD8: 0 | AE8: 0 | AF8: 0 | AG8: 1 | AH8: 0 | AI8: 0 | AJ8: 0 | AK8: 1 | AL8: 0 | AM8: 0 | AN8: 0 | AO8: 1 | AP8: 0 | AQ8: 0 | AR8: 0 | AS8: 1 | AT8: 0 | AU8: 0 | AV8: 0 | AW8: 1 | AX8: 0 | AY8: 0 | AZ8: 0 | BA8: 1 | BB8: 0 | BC8: 0 | BD8: 0 | BE8: 1 | BF8: 0 | BG8: 0 | BH8: 0 | BI8: 1 | BJ8: 0 | BK8: 0 | BL8: 0 | BM8: 1 | BN8: 0 | BO8: 0 | BP8: 0 | BQ8: 1 | BR8: 0 | BS8: 0 | BT8: 0 | BU8: 1 | BV8: 0 | BW8: 0 | BX8: 0 | BY8: 1 | BZ8: 0 | CA8: 0 | CB8: 0 | CC8: 1 | CD8: 0 | CE8: 0 | CF8: 0 | CG8: 1 | CH8: 0 | CI8: 0 | CJ8: 0 | CK8: 1 | CL8: 0 | CM8: 0 | CN8: 0 | CO8: 1 | CP8: 0 | CQ8: 0 | CR8: 0 | CS8: 1 | CT8: 0 | CU8: 0 | CV8: 0 | CW8: 1 | CX8: 0 | CY8: 0 | CZ8: 0 | DA8: 1 | DB8: 0 | DC8: 0 | DD8: 0 | DE8: 1 | DF8: 0 | DG8: 0 | DH8: 0 | DI8: 1 | DJ8: 0 | DK8: 0 | DL8: 0 | DM8: 1 | DN8: 0 | DO8: 0 | DP8: 0 | DQ8: 1 | DR8: 0 | DS8: 0 | DT8: 0 | DU8: 1 | DV8: 0
A9: ibm.tbv.r.07 | B9: 2 | C9: ='Results (Regular)'!BK10 -> 0 | D9: ='Results (Regular)'!BL10 -> 0 | E9: ='Results (Regular)'!BM10 -> 2 | F9: ='Results (Regular)'!BN10 -> 0 | G9: 0 | H9: 0 | I9: 2 | J9: 0 | K9: 0 | L9: 0 | M9: 2 | N9: 0 | O9: 0 | P9: 0 | Q9: 2 | R9: 0 | S9: 0 | T9: 0 | U9: 2 | V9: 0 | W9: 0 | X9: 0 | Y9: 2 | Z9: 0 | AA9: 0 | AB9: 0 | AC9: 2 | AD9: 0 | AE9: 0 | AF9: 0 | AG9: 2 | AH9: 0 | AI9: 0 | AJ9: 0 | AK9: 2 | AL9: 0 | AM9: 0 | AN9: 0 | AO9: 2 | AP9: 0 | AQ9: 0 | AR9: 0 | AS9: 2 | AT9: 0 | AU9: 0 | AV9: 0 | AW9: 2 | AX9: 0 | AY9: 0 | AZ9: 0 | BA9: 2 | BB9: 0 | BC9: 0 | BD9: 0 | BE9: 2 | BF9: 0 | BG9: 0 | BH9: 0 | BI9: 2 | BJ9: 0 | BK9: 0 | BL9: 0 | BM9: 2 | BN9: 0 | BO9: 0 | BP9: 0 | BQ9: 2 | BR9: 0 | BS9: 0 | BT9: 0 | BU9: 2 | BV9: 0 | BW9: 0 | BX9: 0 | BY9: 2 | BZ9: 0 | CA9: 0 | CB9: 0 | CC9: 2 | CD9: 0 | CE9: 0 | CF9: 0 | CG9: 2 | CH9: 0 | CI9: 0 | CJ9: 0 | CK9: 2 | CL9: 0 | CM9: 0 | CN9: 0 | CO9: 2 | CP9: 0 | CQ9: 0 | CR9: 0 | CS9: 2 | CT9: 0 | CU9: 0 | CV9: 0 | CW9: 2 | CX9: 0 | CY9: 0 | CZ9: 0 | DA9: 2 | DB9: 0 | DC9: 0 | DD9: 0 | DE9: 2 | DF9: 0 | DG9: 0 | DH9: 0 | DI9: 2 | DJ9: 0 | DK9: 0 | DL9: 0 | DM9: 2 | DN9: 0 | DO9: 0 | DP9: 0 | DQ9: 2 | DR9: 0 | DS9: 0 | DT9: 0 | DU9: 2 | DV9: 0
A10: ibm.tbv.r.08 | B10: 90 | C10: ='Results (Regular)'!BK29 -> 57 | D10: ='Results (Regular)'!BL29 -> 0 | E10: ='Results (Regular)'!BM29 -> 33 | F10: ='Results (Regular)'!BN29 -> 0 | G10: 57 | H10: 0 | I10: 33 | J10: 0 | K10: 57 | L10: 0 | M10: 33 | N10: 0 | O10: 57 | P10: 0 | Q10: 33 | R10: 0 | S10: 57 | T10: 0 | U10: 33 | V10: 0 | W10: 57 | X10: 0 | Y10: 33 | Z10: 0 | AA10: 57 | AB10: 0 | AC10: 33 | AD10: 0 | AE10: 57 | AF10: 0 | AG10: 33 | AH10: 0 | AI10: 57 | AJ10: 0 | AK10: 33 | AL10: 0 | AM10: 57 | AN10: 0 | AO10: 33 | AP10: 0 | AQ10: 57 | AR10: 0 | AS10: 33 | AT10: 0 | AU10: 57 | AV10: 0 | AW10: 33 | AX10: 0 | AY10: 57 | AZ10: 0 | BA10: 33 | BB10: 0 | BC10: 57 | BD10: 0 | BE10: 33 | BF10: 0 | BG10: 57 | BH10: 0 | BI10: 33 | BJ10: 0 | BK10: 57 | BL10: 0 | BM10: 33 | BN10: 0 | BO10: 57 | BP10: 0 | BQ10: 33 | BR10: 0 | BS10: 57 | BT10: 0 | BU10: 33 | BV10: 0 | BW10: 57 | BX10: 0 | BY10: 33 | BZ10: 0 | CA10: 57 | CB10: 0 | CC10: 33 | CD10: 0 | CE10: 57 | CF10: 0 | CG10: 33 | CH10: 0 | CI10: 57 | CJ10: 0 | CK10: 33 | CL10: 0 | CM10: 57 | CN10: 0 | CO10: 33 | CP10: 0 | CQ10: 57 | CR10: 0 | CS10: 33 | CT10: 0 | CU10: 57 | CV10: 0 | CW10: 33 | CX10: 0 | CY10: 57 | CZ10: 0 | DA10: 33 | DB10: 0 | DC10: 57 | DD10: 0 | DE10: 33 | DF10: 0 | DG10: 57 | DH10: 0 | DI10: 33 | DJ10: 0 | DK10: 57 | DL10: 0 | DM10: 33 | DN10: 0 | DO10: 57 | DP10: 0 | DQ10: 33 | DR10: 0 | DS10: 57 | DT10: 0 | DU10: 33 | DV10: 0
A11: ibm.tbv.r.09 | B11: 33 | C11: ='Results (Regular)'!BK31 -> 0 | D11: ='Results (Regular)'!BL31 -> 0 | E11: ='Results (Regular)'!BM31 -> 33 | F11: ='Results (Regular)'!BN31 -> 0 | G11: 0 | H11: 0 | I11: 33 | J11: 0 | K11: 0 | L11: 0 | M11: 33 | N11: 0 | O11: 0 | P11: 0 | Q11: 33 | R11: 0 | S11: 0 | T11: 0 | U11: 33 | V11: 0 | W11: 0 | X11: 0 | Y11: 33 | Z11: 0 | AA11: 0 | AB11: 0 | AC11: 33 | AD11: 0 | AE11: 0 | AF11: 0 | AG11: 33 | AH11: 0 | AI11: 0 | AJ11: 0 | AK11: 33 | AL11: 0 | AM11: 0 | AN11: 0 | AO11: 33 | AP11: 0 | AQ11: 0 | AR11: 0 | AS11: 33 | AT11: 0 | AU11: 0 | AV11: 0 | AW11: 33 | AX11: 0 | AY11: 0 | AZ11: 0 | BA11: 33 | BB11: 0 | BC11: 0 | BD11: 0 | BE11: 33 | BF11: 0 | BG11: 0 | BH11: 0 | BI11: 33 | BJ11: 0 | BK11: 0 | BL11: 0 | BM11: 33 | BN11: 0 | BO11: 0 | BP11: 0 | BQ11: 33 | BR11: 0 | BS11: 0 | BT11: 0 | BU11: 33 | BV11: 0 | BW11: 0 | BX11: 0 | BY11: 33 | BZ11: 0 | CA11: 0 | CB11: 0 | CC11: 33 | CD11: 0 | CE11: 0 | CF11: 0 | CG11: 33 | CH11: 0 | CI11: 0 | CJ11: 0 | CK11: 33 | CL11: 0 | CM11: 0 | CN11: 0 | CO11: 33 | CP11: 0 | CQ11: 0 | CR11: 0 | CS11: 33 | CT11: 0 | CU11: 0 | CV11: 0 | CW11: 33 | CX11: 0 | CY11: 0 | CZ11: 0 | DA11: 33 | DB11: 0 | DC11: 0 | DD11: 0 | DE11: 33 | DF11: 0 | DG11: 0 | DH11: 0 | DI11: 33 | DJ11: 0 | DK11: 0 | DL11: 0 | DM11: 33 | DN11: 0 | DO11: 0 | DP11: 0 | DQ11: 33 | DR11: 0 | DS11: 0 | DT11: 0 | DU11: 33 | DV11: 0
A12: ibm.tbv.r.10 | B12: 60 | C12: ='Results (Regular)'!BK32 -> 12 | D12: ='Results (Regular)'!BL32 -> 0 | E12: ='Results (Regular)'!BM32 -> 48 | F12: ='Results (Regular)'!BN32 -> 0 | G12: 12 | H12: 0 | I12: 48 | J12: 0 | K12: 12 | L12: 0 | M12: 48 | N12: 0 | O12: 12 | P12: 0 | Q12: 48 | R12: 0 | S12: 12 | T12: 0 | U12: 48 | V12: 0 | W12: 12 | X12: 0 | Y12: 48 | Z12: 0 | AA12: 12 | AB12: 0 | AC12: 48 | AD12: 0 | AE12: 12 | AF12: 0 | AG12: 48 | AH12: 0 | AI12: 12 | AJ12: 0 | AK12: 48 | AL12: 0 | AM12: 12 | AN12: 0 | AO12: 48 | AP12: 0 | AQ12: 12 | AR12: 0 | AS12: 48 | AT12: 0 | AU12: 12 | AV12: 0 | AW12: 48 | AX12: 0 | AY12: 12 | AZ12: 0 | BA12: 48 | BB12: 0 | BC12: 12 | BD12: 0 | BE12: 48 | BF12: 0 | BG12: 12 | BH12: 0 | BI12: 48 | BJ12: 0 | BK12: 12 | BL12: 0 | BM12: 48 | BN12: 0 | BO12: 12 | BP12: 0 | BQ12: 48 | BR12: 0 | BS12: 12 | BT12: 0 | BU12: 48 | BV12: 0 | BW12: 12 | BX12: 0 | BY12: 48 | BZ12: 0 | CA12: 12 | CB12: 0 | CC12: 48 | CD12: 0 | CE12: 12 | CF12: 0 | CG12: 48 | CH12: 0 | CI12: 12 | CJ12: 0 | CK12: 48 | CL12: 0 | CM12: 12 | CN12: 0 | CO12: 48 | CP12: 0 | CQ12: 12 | CR12: 0 | CS12: 48 | CT12: 0 | CU12: 12 | CV12: 0 | CW12: 48 | CX12: 0 | CY12: 12 | CZ12: 0 | DA12: 48 | DB12: 0 | DC12: 11 | DD12: 0 | DE12: 49 | DF12: 0 | DG12: 12 | DH12: 0 | DI12: 48 | DJ12: 0 | DK12: 11 | DL12: 0 | DM12: 49 | DN12: 0 | DO12: 12 | DP12: 0 | DQ12: 48 | DR12: 0 | DS12: 12 | DT12: 0 | DU12: 48 | DV12: 0
A13: ibm.tbv.r.11 | B13: 498 | C13: ='Results (Regular)'!BK33 -> 445 | D13: ='Results (Regular)'!BL33 -> 0 | E13: ='Results (Regular)'!BM33 -> 53 | F13: ='Results (Regular)'!BN33 -> 0 | G13: 445 | H13: 0 | I13: 53 | J13: 0 | K13: 445 | L13: 0 | M13: 53 | N13: 0 | O13: 445 | P13: 0 | Q13: 53 | R13: 0 | S13: 445 | T13: 0 | U13: 53 | V13: 0 | W13: 445 | X13: 0 | Y13: 53 | Z13: 0 | AA13: 445 | AB13: 0 | AC13: 53 | AD13: 0 | AE13: 445 | AF13: 0 | AG13: 53 | AH13: 0 | AI13: 445 | AJ13: 0 | AK13: 53 | AL13: 0 | AM13: 445 | AN13: 0 | AO13: 53 | AP13: 0 | AQ13: 315 | AR13: 0 | AS13: 183 | AT13: 0 | AU13: 445 | AV13: 0 | AW13: 53 | AX13: 0 | AY13: 445 | AZ13: 0 | BA13: 53 | BB13: 0 | BC13: 445 | BD13: 0 | BE13: 53 | BF13: 0 | BG13: 445 | BH13: 0 | BI13: 53 | BJ13: 0 | BK13: 445 | BL13: 0 | BM13: 53 | BN13: 0 | BO13: 445 | BP13: 0 | BQ13: 53 | BR13: 0 | BS13: 445 | BT13: 0 | BU13: 53 | BV13: 0 | BW13: 445 | BX13: 0 | BY13: 53 | BZ13: 0 | CA13: 445 | CB13: 0 | CC13: 53 | CD13: 0 | CE13: 445 | CF13: 0 | CG13: 53 | CH13: 0 | CI13: 445 | CJ13: 0 | CK13: 53 | CL13: 0 | CM13: 445 | CN13: 0 | CO13: 53 | CP13: 0 | CQ13: 445 | CR13: 0 | CS13: 53 | CT13: 0 | CU13: 445 | CV13: 0 | CW13: 53 | CX13: 0 | CY13: 445 | CZ13: 0 | DA13: 53 | DB13: 0 | DC13: 445 | DD13: 0 | DE13: 53 | DF13: 0 | DG13: 445 | DH13: 0 | DI13: 53 | DJ13: 0 | DK13: 445 | DL13: 0 | DM13: 53 | DN13: 0 | DO13: 445 | DP13: 0 | DQ13: 53 | DR13: 0 | DS13: 445 | DT13: 0 | DU13: 53 | DV13: 0
A14: ibm.tbv.r.12 | B14: 64 | C14: ='Results (Regular)'!BK34 -> 10 | D14: ='Results (Regular)'!BL34 -> 0 | E14: ='Results (Regular)'!BM34 -> 54 | F14: ='Results (Regular)'!BN34 -> 0 | G14: 10 | H14: 0 | I14: 54 | J14: 0 | K14: 10 | L14: 0 | M14: 54 | N14: 0 | O14: 9 | P14: 0 | Q14: 55 | R14: 0 | S14: 10 | T14: 0 | U14: 54 | V14: 0 | W14: 10 | X14: 0 | Y14: 54 | Z14: 0 | AA14: 10 | AB14: 0 | AC14: 54 | AD14: 0 | AE14: 10 | AF14: 0 | AG14: 54 | AH14: 0 | AI14: 10 | AJ14: 0 | AK14: 54 | AL14: 0 | AM14: 10 | AN14: 0 | AO14: 54 | AP14: 0 | AQ14: 10 | AR14: 0 | AS14: 54 | AT14: 0 | AU14: 10 | AV14: 0 | AW14: 54 | AX14: 0 | AY14: 10 | AZ14: 0 | BA14: 54 | BB14: 0 | BC14: 10 | BD14: 0 | BE14: 54 | BF14: 0 | BG14: 10 | BH14: 0 | BI14: 54 | BJ14: 0 | BK14: 9 | BL14: 0 | BM14: 55 | BN14: 0 | BO14: 10 | BP14: 0 | BQ14: 54 | BR14: 0 | BS14: 10 | BT14: 0 | BU14: 54 | BV14: 0 | BW14: 10 | BX14: 0 | BY14: 54 | BZ14: 0 | CA14: 10 | CB14: 0 | CC14: 54 | CD14: 0 | CE14: 10 | CF14: 0 | CG14: 54 | CH14: 0 | CI14: 10 | CJ14: 0 | CK14: 54 | CL14: 0 | CM14: 10 | CN14: 0 | CO14: 54 | CP14: 0 | CQ14: 10 | CR14: 0 | CS14: 54 | CT14: 0 | CU14: 10 | CV14: 0 | CW14: 54 | CX14: 0 | CY14: 10 | CZ14: 0 | DA14: 54 | DB14: 0 | DC14: 10 | DD14: 0 | DE14: 54 | DF14: 0 | DG14: 10 | DH14: 0 | DI14: 54 | DJ14: 0 | DK14: 10 | DL14: 0 | DM14: 54 | DN14: 0 | DO14: 10 | DP14: 0 | DQ14: 54 | DR14: 0 | DS14: 10 | DT14: 0 | DU14: 54 | DV14: 0
A15: ibm.tbv.r.13 | B15: 780 | C15: ='Results (Regular)'!BK35 -> 3 | D15: ='Results (Regular)'!BL35 -> 0 | E15: ='Results (Regular)'!BM35 -> 777 | F15: ='Results (Regular)'!BN35 -> 1 | G15: 4 | H15: 0 | I15: 776 | J15: 0 | K15: 4 | L15: 0 | M15: 776 | N15: 0 | O15: 16 | P15: 0 | Q15: 764 | R15: 0 | S15: 16 | T15: 0 | U15: 764 | V15: 0 | W15: 2 | X15: 0 | Y15: 778 | Z15: 0 | AA15: 3 | AB15: 0 | AC15: 777 | AD15: 0 | AE15: 4 | AF15: 0 | AG15: 776 | AH15: 0 | AI15: 4 | AJ15: 0 | AK15: 776 | AL15: 0 | AM15: 4 | AN15: 0 | AO15: 776 | AP15: 0 | AQ15: 2 | AR15: 0 | AS15: 778 | AT15: 0 | AU15: 3 | AV15: 0 | AW15: 777 | AX15: 0 | AY15: 3 | AZ15: 0 | BA15: 777 | BB15: 0 | BC15: 3 | BD15: 0 | BE15: 777 | BF15: 0 | BG15: 5 | BH15: 0 | BI15: 775 | BJ15: 0 | BK15: 4 | BL15: 0 | BM15: 776 | BN15: 0 | BO15: 3 | BP15: 0 | BQ15: 777 | BR15: 0 | BS15: 55 | BT15: 0 | BU15: 725 | BV15: 0 | BW15: 61 | BX15: 0 | BY15: 719 | BZ15: 0 | CA15: 64 | CB15: 0 | CC15: 716 | CD15: 3 | CE15: 56 | CF15: 0 | CG15: 724 | CH15: 0 | CI15: 60 | CJ15: 0 | CK15: 720 | CL15: 0 | CM15: 59 | CN15: 0 | CO15: 721 | CP15: 0 | CQ15: 65 | CR15: 0 | CS15: 715 | CT15: 0 | CU15: 67 | CV15: 0 | CW15: 713 | CX15: 2 | CY15: 61 | CZ15: 0 | DA15: 719 | DB15: 0 | DC15: 63 | DD15: 0 | DE15: 717 | DF15: 0 | DG15: 58 | DH15: 0 | DI15: 722 | DJ15: 0 | DK15: 58 | DL15: 0 | DM15: 722 | DN15: 0 | DO15: 69 | DP15: 0 | DQ15: 711 | DR15: 0 | DS15: 94 | DT15: 0 | DU15: 686 | DV15: 25
A16: Total | B16: =SUM(B3:B15) -> 1536 | C16: =SUM(C3:C15) -> 530 | D16: =SUM(D3:D15) -> 0 | E16: =SUM(E3:E15) -> 1006 | F16: =SUM(F3:F15) -> 1 | G16: =SUM(G3:G15) -> 531 | H16: =SUM(H3:H15) -> 0 | I16: =SUM(I3:I15) -> 1005 | ... DV16: =SUM(DV3:DV15) -> 25

Sheet LOC TBV (Array)
A1: Benchmark | B1: Total | C1: Baseline (LOC.A.16) | G1: LOC.A.16.TBV.01 | K1: LOC.A.16.TBV.02 | O1: LOC.A.16.TBV.03 | S1: LOC.A.16.TBV.04 | W1: LOC.A.16.TBV.05 | AA1: LOC.A.16.TBV.06 | AE1: LOC.A.16.TBV.07 | AI1: LOC.A.16.TBV.08 | AM1: LOC.A.16.TBV.09 | AQ1: LOC.A.16.TBV.10 | AU1: LOC.A.16.TBV.11 | AY1: LOC.A.16.TBV.12 | BC1: LOC.A.16.TBV.13 | BG1: LOC.A.16.TBV.14 | BK1: LOC.A.16.TBV.15 | BO1: LOC.A.16.TBV.16 | BS1: LOC.A.16.TBV.17 | BW1: LOC.A.16.TBV.18 | CA1: LOC.A.16.TBV.19 | CE1: LOC.A.16.TBV.20 | CI1: LOC.A.16.TBV.21 | CM1: LOC.A.16.TBV.22 | CQ1: LOC.A.16.TBV.23 | CU1: LOC.A.16.TBV.24 | CY1: LOC.A.16.TBV.25 | DC1: LOC.A.16.TBV.26 | DG1: LOC.A.16.TBV.27 | DK1: LOC.A.16.TBV.28 | DO1: LOC.A.16.TBV.29 | DS1: LOC.A.16.TBV.30
C2: P | D2: H | E2: L | F2: U | G2: P | H2: H | I2: L | J2: U | K2: P | L2: H | M2: L | N2: U | O2: P | P2: H | Q2: L | R2: U | S2: P | T2: H | U2: L | V2: U | W2: P | X2: H | Y2: L | Z2: U | AA2: P | AB2: H | AC2: L | AD2: U | AE2: P | AF2: H | AG2: L | AH2: U | AI2: P | AJ2: H | AK2: L | AL2: U | AM2: P | AN2: H | AO2: L | AP2: U | AQ2: P | AR2: H | AS2: L | AT2: U | AU2: P | AV2: H | AW2: L | AX2: U | AY2: P | AZ2: H | BA2: L | BB2: U | BC2: P | BD2: H | BE2: L | BF2: U | BG2: P | BH2: H | BI2: L | BJ2: U | BK2: P | BL2: H | BM2: L | BN2: U | BO2: P | BP2: H | BQ2: L | BR2: U | BS2: P | BT2: H | BU2: L | BV2: U | BW2: P | BX2: H | BY2: L | BZ2: U | CA2: P | CB2: H | CC2: L | CD2: U | CE2: P | CF2: H | CG2: L | CH2: U | CI2: P | CJ2: H | CK2: L | CL2: U | CM2: P | CN2: H | CO2: L | CP2: U | CQ2: P | CR2: H | CS2: L | CT2: U | CU2: P | CV2: H | CW2: L | CX2: U | CY2: P | CZ2: H | DA2: L | DB2: U | DC2: P | DD2: H | DE2: L | DF2: U | DG2: P | DH2: H | DI2: L | DJ2: U | DK2: P | DL2: H | DM2: L | DN2: U | DO2: P | DP2: H | DQ2: L | DR2: U | DS2: P | DT2: H | DU2: L | DV2: U
A3: ibm.tbv.a.01 | B3: 444 | C3: ='Results (Array)'!O4 -> 67 | D3: ='Results (Array)'!P4 -> 0 | E3: ='Results (Array)'!Q4 -> 377 | F3: ='Results (Array)'!R4 -> 0 | G3: 77 | H3: 0 | I3: 367 | J3: 7 | K3: 57 | L3: 0 | M3: 387 | N3: 0 | O3: 55 | P3: 0 | Q3: 389 | R3: 0 | S3: 62 | T3: 0 | U3: 382 | V3: 0 | W3: 60 | X3: 0 | Y3: 384 | Z3: 0 | AA3: 70 | AB3: 0 | AC3: 374 | AD3: 4 | AE3: 46 | AF3: 0 | AG3: 398 | AH3: 0 | AI3: 66 | AJ3: 0 | AK3: 378 | AL3: 0 | AM3: 47 | AN3: 0 | AO3: 397 | AP3: 0 | AQ3: 29 | AR3: 0 | AS3: 415 | AT3: 0 | AU3: 41 | AV3: 0 | AW3: 403 | AX3: 0 | AY3: 38 | AZ3: 0 | BA3: 406 | BB3: 0 | BC3: 44 | BD3: 0 | BE3: 400 | BF3: 0 | BG3: 49 | BH3: 0 | BI3: 395 | BJ3: 0 | BK3: 59 | BL3: 0 | BM3: 385 | BN3: 0 | BO3: 50 | BP3: 0 | BQ3: 394 | BR3: 0 | BS3: 48 | BT3: 0 | BU3: 396 | BV3: 0 | BW3: 39 | BX3: 0 | BY3: 405 | BZ3: 0 | CA3: 79 | CB3: 0 | CC3: 365 | CD3: 2 | CE3: 68 | CF3: 0 | CG3: 376 | CH3: 0 | CI3: 47 | CJ3: 0 | CK3: 397 | CL3: 0 | CM3: 60 | CN3: 0 | CO3: 384 | CP3: 0 | CQ3: 52 | CR3: 0 | CS3: 392 | CT3: 0 | CU3: 56 | CV3: 0 | CW3: 388 | CX3: 0 | CY3: 40 | CZ3: 0 | DA3: 404 | DB3: 0 | DC3: 47 | DD3: 0 | DE3: 397 | DF3: 0 | DG3: 39 | DH3: 0 | DI3: 405 | DJ3: 0 | DK3: 41 | DL3: 0 | DM3: 403 | DN3: 0 | DO3: 8 | DP3: 0 | DQ3: 436 | DR3: 0 | DS3: 13 | DT3: 0 | DU3: 431 | DV3: 0
A4: ibm.tbv.a.02 | B4: 296 | C4: ='Results (Array)'!O6 -> 9 | D4: ='Results (Array)'!P6 -> 0 | E4: ='Results (Array)'!Q6 -> 287 | F4: ='Results (Array)'!R6 -> 0 | G4: 10 | H4: 0 | I4: 286 | J4: 0 | K4: 7 | L4: 0 | M4: 289 | N4: 0 | O4: 12 | P4: 0 | Q4: 284 | R4: 2 | S4: 8 | T4: 0 | U4: 288 | V4: 0 | W4: 7 | X4: 0 | Y4: 289 | Z4: 0 | AA4: 8 | AB4: 0 | AC4: 288 | AD4: 0 | AE4: 8 | AF4: 0 | AG4: 288 | AH4: 0 | AI4: 7 | AJ4: 0 | AK4: 289 | AL4: 0 | AM4: 8 | AN4: 0 | AO4: 288 | AP4: 0 | AQ4: 9 | AR4: 0 | AS4: 287 | AT4: 0 | AU4: 9 | AV4: 0 | AW4: 287 | AX4: 0 | AY4: 6 | AZ4: 0 | BA4: 290 | BB4: 0 | BC4: 6 | BD4: 0 | BE4: 290 | BF4: 0 | BG4: 11 | BH4: 0 | BI4: 285 | BJ4: 0 | BK4: 10 | BL4: 0 | BM4: 286 | BN4: 0 | BO4: 8 | BP4: 0 | BQ4: 288 | BR4: 0 | BS4: 9 | BT4: 0 | BU4: 287 | BV4: 0 | BW4: 5 | BX4: 0 | BY4: 291 | BZ4: 0 | CA4: 9 | CB4: 0 | CC4: 287 | CD4: 0 | CE4: 8 | CF4: 0 | CG4: 288 | CH4: 0 | CI4: 9 | CJ4: 0 | CK4: 287 | CL4: 0 | CM4: 8 | CN4: 0 | CO4: 288 | CP4: 0 | CQ4: 6 | CR4: 0 | CS4: 290 | CT4: 0 | CU4: 9 | CV4: 0 | CW4: 287 | CX4: 0 | CY4: 6 | CZ4: 0 | DA4: 290 | DB4: 0 | DC4: 11 | DD4: 0 | DE4: 285 | DF4: 0 | DG4: 9 | DH4: 0 | DI4: 287 | DJ4: 0 | DK4: 7 | DL4: 0 | DM4: 289 | DN4: 0 | DO4: 6 | DP4: 0 | DQ4: 290 | DR4: 0 | DS4: 6 | DT4: 0 | DU4: 290 | DV4: 0
A5: ibm.tbv.a.03 | B5: 6 | C5: ='Results (Array)'!O7 -> 1 | D5: ='Results (Array)'!P7 -> 0 | E5: ='Results (Array)'!Q7 -> 5 | F5: ='Results (Array)'!R7 -> 0 | G5: 1 | H5: 0 | I5: 5 | J5: 0 | K5: 1 | L5: 0 | M5: 5 | N5: 0 | O5: 1 | P5: 0 | Q5: 5 | R5: 0 | S5: 1 | T5: 0 | U5: 5 | V5: 0 | W5: 1 | X5: 0 | Y5: 5 | Z5: 0 | AA5: 1 | AB5: 0 | AC5: 5 | AD5: 0 | AE5: 1 | AF5: 0 | AG5: 5 | AH5: 0 | AI5: 1 | AJ5: 0 | AK5: 5 | AL5: 0 | AM5: 1 | AN5: 0 | AO5: 5 | AP5: 0 | AQ5: 1 | AR5: 0 | AS5: 5 | AT5: 0 | AU5: 1 | AV5: 0 | AW5: 5 | AX5: 0 | AY5: 1 | AZ5: 0 | BA5: 5 | BB5: 0 | BC5: 1 | BD5: 0 | BE5: 5 | BF5: 0 | BG5: 1 | BH5: 0 | BI5: 5 | BJ5: 0 | BK5: 1 | BL5: 0 | BM5: 5 | BN5: 0 | BO5: 1 | BP5: 0 | BQ5: 5 | BR5: 0 | BS5: 3 | BT5: 0 | BU5: 3 | BV5: 0 | BW5: 3 | BX5: 0 | BY5: 3 | BZ5: 0 | CA5: 3 | CB5: 0 | CC5: 3 | CD5: 0 | CE5: 3 | CF5: 0 | CG5: 3 | CH5: 0 | CI5: 3 | CJ5: 0 | CK5: 3 | CL5: 0 | CM5: 3 | CN5: 0 | CO5: 3 | CP5: 0 | CQ5: 3 | CR5: 0 | CS5: 3 | CT5: 0 | CU5: 2 | CV5: 0 | CW5: 4 | CX5: 0 | CY5: 3 | CZ5: 0 | DA5: 3 | DB5: 0 | DC5: 3 | DD5: 0 | DE5: 3 | DF5: 0 | DG5: 1 | DH5: 0 | DI5: 5 | DJ5: 0 | DK5: 1 | DL5: 0 | DM5: 5 | DN5: 0 | DO5: 2 | DP5: 0 | DQ5: 4 | DR5: 0 | DS5: 3 | DT5: 0 | DU5: 3 | DV5: 0
